BEGIN:VCALENDAR
VERSION:2.0
PRODID:-//Boston Bluegrass Union - ECPv6.15.20//NONSGML v1.0//EN
CALSCALE:GREGORIAN
METHOD:PUBLISH
X-WR-CALNAME:Boston Bluegrass Union
X-ORIGINAL-URL:https://bbu.org
X-WR-CALDESC:Events for Boston Bluegrass Union
REFRESH-INTERVAL;VALUE=DURATION:PT1H
X-Robots-Tag:noindex
X-PUBLISHED-TTL:PT1H
BEGIN:VTIMEZONE
TZID:America/New_York
BEGIN:DAYLIGHT
TZOFFSETFROM:-0500
TZOFFSETTO:-0400
TZNAME:EDT
DTSTART:20230312T070000
END:DAYLIGHT
BEGIN:STANDARD
TZOFFSETFROM:-0400
TZOFFSETTO:-0500
TZNAME:EST
DTSTART:20231105T060000
END:STANDARD
BEGIN:DAYLIGHT
TZOFFSETFROM:-0500
TZOFFSETTO:-0400
TZNAME:EDT
DTSTART:20240310T070000
END:DAYLIGHT
BEGIN:STANDARD
TZOFFSETFROM:-0400
TZOFFSETTO:-0500
TZNAME:EST
DTSTART:20241103T060000
END:STANDARD
BEGIN:DAYLIGHT
TZOFFSETFROM:-0500
TZOFFSETTO:-0400
TZNAME:EDT
DTSTART:20250309T070000
END:DAYLIGHT
BEGIN:STANDARD
TZOFFSETFROM:-0400
TZOFFSETTO:-0500
TZNAME:EST
DTSTART:20251102T060000
END:STANDARD
END:VTIMEZONE
BEGIN:VEVENT
DTSTART;VALUE=DATE:20240112
DTEND;VALUE=DATE:20240115
DTSTAMP:20260422T001655
CREATED:20231120T145944Z
LAST-MODIFIED:20231120T145944Z
UID:10001073-1705017600-1705276799@bbu.org
SUMMARY:JAM-uary Bluegrass Jam Camp at Ashokan
DESCRIPTION:Austin Scelzo hosts a weekend of jam instruction using the Wernick Method\, an inventive and time-tested pedagogy designed to build or improve confidence making music with others! All Bluegrass Instruments\, all skill levels welcome. Hands-on learning in large and small groups. Understanding\, low-pressure\, experienced teaching from a certified teacher. Experienced Jammers are given extra challenges and can be grouped together. Make music with friends\, make friends with music!
URL:https://bbu.org/event/jam-uary-bluegrass-jam-camp-at-ashokan/
LOCATION:The Ashokan Center\, 477 Beaverkill Road\, Olivebridge\, NY\, 12461\, United States
CATEGORIES:Workshops
ATTACH;FMTTYPE=image/png:https://bbu.org/wp-content/uploads/2023/11/Screenshot-2023-11-20-at-9.29.26 AM.png
ORGANIZER;CN="Austin Scelzo":MAILTO:Austin@Austinscelzo.com
GEO:41.9318502;-74.1926327
X-APPLE-STRUCTURED-LOCATION;VALUE=URI;X-ADDRESS=The Ashokan Center 477 Beaverkill Road Olivebridge NY 12461 United States;X-APPLE-RADIUS=500;X-TITLE=477 Beaverkill Road:geo:-74.1926327,41.9318502
END:VEVENT
END:VCALENDAR