BEGIN:VCALENDAR
VERSION:2.0
PRODID:-//Boston Bluegrass Union - ECPv6.15.20//NONSGML v1.0//EN
CALSCALE:GREGORIAN
METHOD:PUBLISH
X-ORIGINAL-URL:https://bbu.org
X-WR-CALDESC:Events for Boston Bluegrass Union
REFRESH-INTERVAL;VALUE=DURATION:PT1H
X-Robots-Tag:noindex
X-PUBLISHED-TTL:PT1H
BEGIN:VTIMEZONE
TZID:America/New_York
BEGIN:DAYLIGHT
TZOFFSETFROM:-0500
TZOFFSETTO:-0400
TZNAME:EDT
DTSTART:20230312T070000
END:DAYLIGHT
BEGIN:STANDARD
TZOFFSETFROM:-0400
TZOFFSETTO:-0500
TZNAME:EST
DTSTART:20231105T060000
END:STANDARD
BEGIN:DAYLIGHT
TZOFFSETFROM:-0500
TZOFFSETTO:-0400
TZNAME:EDT
DTSTART:20240310T070000
END:DAYLIGHT
BEGIN:STANDARD
TZOFFSETFROM:-0400
TZOFFSETTO:-0500
TZNAME:EST
DTSTART:20241103T060000
END:STANDARD
BEGIN:DAYLIGHT
TZOFFSETFROM:-0500
TZOFFSETTO:-0400
TZNAME:EDT
DTSTART:20250309T070000
END:DAYLIGHT
BEGIN:STANDARD
TZOFFSETFROM:-0400
TZOFFSETTO:-0500
TZNAME:EST
DTSTART:20251102T060000
END:STANDARD
END:VTIMEZONE
BEGIN:VEVENT
DTSTART;TZID=America/New_York:20240712T170000
DTEND;TZID=America/New_York:20240714T170000
DTSTAMP:20260421T202659
CREATED:20240703T015751Z
LAST-MODIFIED:20240703T015845Z
UID:10002591-1720803600-1720976400@bbu.org
SUMMARY:Harry Smith Frolic
DESCRIPTION:Camping and old time jam weekend in Greenfield\, MA \nOn the Green River at Camp Keewanee\, Greenfield\, Mass. \nJuly 12-14\, 2024 \nFriday 5pm through Sunday 5pm\n(No early birds! Day Camp in session weekdays) \nSuggested donation: $40/weekend or $20/day \nSummer day camp facilities including:\n•Unfurnished cabins to play music in (no beds)\n•Bathrooms and showers\n•Picnic pavilion & basketball court\n•Camping and parking on flat ground\n•Frolicking in the Green River\n•Swimming Pool open select hours \nSaturday Morning Secular River Immersions\nPotluck Saturday Night\n&\nMidnight Reenactment Vol. 2 Harry Smith Anthology\nThis volume has everything: fiddle & string band tunes\, cajun\, gospel\, blues\, shape note. So study up!
URL:https://bbu.org/event/harry-smith-frolic/
LOCATION:Camp Kiwanee\, Camp Kiwanee Road\, Hanson\, MA\, 02341\, United States
CATEGORIES:Jams and Picking Parties
ORGANIZER;CN="N/A":MAILTO:na@none.org
GEO:42.055315;-70.8530831
X-APPLE-STRUCTURED-LOCATION;VALUE=URI;X-ADDRESS=Camp Kiwanee Camp Kiwanee Road Hanson MA 02341 United States;X-APPLE-RADIUS=500;X-TITLE=Camp Kiwanee Road:geo:-70.8530831,42.055315
END:VEVENT
END:VCALENDAR