BEGIN:VCALENDAR
VERSION:2.0
PRODID:-//Boston Bluegrass Union - ECPv6.15.20//NONSGML v1.0//EN
CALSCALE:GREGORIAN
METHOD:PUBLISH
X-WR-CALNAME:Boston Bluegrass Union
X-ORIGINAL-URL:https://bbu.org
X-WR-CALDESC:Events for Boston Bluegrass Union
REFRESH-INTERVAL;VALUE=DURATION:PT1H
X-Robots-Tag:noindex
X-PUBLISHED-TTL:PT1H
BEGIN:VTIMEZONE
TZID:America/New_York
BEGIN:DAYLIGHT
TZOFFSETFROM:-0500
TZOFFSETTO:-0400
TZNAME:EDT
DTSTART:20230312T070000
END:DAYLIGHT
BEGIN:STANDARD
TZOFFSETFROM:-0400
TZOFFSETTO:-0500
TZNAME:EST
DTSTART:20231105T060000
END:STANDARD
BEGIN:DAYLIGHT
TZOFFSETFROM:-0500
TZOFFSETTO:-0400
TZNAME:EDT
DTSTART:20240310T070000
END:DAYLIGHT
BEGIN:STANDARD
TZOFFSETFROM:-0400
TZOFFSETTO:-0500
TZNAME:EST
DTSTART:20241103T060000
END:STANDARD
BEGIN:DAYLIGHT
TZOFFSETFROM:-0500
TZOFFSETTO:-0400
TZNAME:EDT
DTSTART:20250309T070000
END:DAYLIGHT
BEGIN:STANDARD
TZOFFSETFROM:-0400
TZOFFSETTO:-0500
TZNAME:EST
DTSTART:20251102T060000
END:STANDARD
END:VTIMEZONE
BEGIN:VEVENT
DTSTART;VALUE=DATE:20240725
DTEND;VALUE=DATE:20240729
DTSTAMP:20260423T032129
CREATED:20240701T184705Z
LAST-MODIFIED:20240701T184705Z
UID:10002587-1721865600-1722211199@bbu.org
SUMMARY:Ossipee Valley Music Festival
DESCRIPTION:Ossipee Valley is a music festival in Maine. The festival features four stages\, food trucks\, craft beer\, yoga\, barn dances\, workshops\, kids activities\, craft vendors and camping. It is dreamily situated on the banks of the Ossipee river\, amongst tall pines and goat barns\, in southern Maine\, under an hour from Portland or North Conway\, and 2.5 hrs NW of Boston. \nThe festival is known for featuring ascendant acts in roots\, bluegrass\, americana\, folk\, world\, and blues music\, but it is about more than just the music: Ossipee Valley is a community where all are welcome. Moon dancers\, flatpickers\, gangs of kids on bikes\, barefoot granolas and retired RV grandmas\, wallflowers\, instigators\, listeners\, players\, makers and shakers unite under the fresh summer sky. Come join us. \nDon’t forget to join us for the Ossipee Valley String Camp-a 5 day immersive educational experience that comes with a pass to the festival\, for seven whole days of musical bliss.
URL:https://bbu.org/event/ossipee-valley-music-festival/
LOCATION:Ossipee Valley Fairgrounds\, 291 S. Hiram Road\, Hiram\, ME\, 04041\, United States
CATEGORIES:Festivals
ORGANIZER;CN="N/A":MAILTO:na@none.org
GEO:43.809044;-70.853684
X-APPLE-STRUCTURED-LOCATION;VALUE=URI;X-ADDRESS=Ossipee Valley Fairgrounds 291 S. Hiram Road Hiram ME 04041 United States;X-APPLE-RADIUS=500;X-TITLE=291 S. Hiram Road:geo:-70.853684,43.809044
END:VEVENT
BEGIN:VEVENT
DTSTART;TZID=America/New_York:20240725T190000
DTEND;TZID=America/New_York:20240725T213000
DTSTAMP:20260423T032129
CREATED:20240703T130342Z
LAST-MODIFIED:20250424T203014Z
UID:10001091-1721934000-1721943000@bbu.org
SUMMARY:Backbeat 4th Thursday Jam - Beverly
DESCRIPTION:7-9:30 pm every 4th Thursday at Backbeat Brewing in Beverly\, MA.\n\nJoin us the 4th Thursday of every month to listen or play! All levels welcome. Our first jam in May was a big success with over twenty players jamming in the restaurant and out on the patio. Lively bluegrass filled the air and judging by the hearty applause\, everyone loved it!\n\nThe Backbeat menu feature two dozen delicious beers on tap\, and the kitchen cooks up tasty thin-crust pizzas (including a gluten-free option) and various appetizers. Backbeat is located at 31 Park St (just off Rantoul)\, directly across the street from the Beverly Depot train station. There is plenty of on-street parking.\n\nCheck Facebook for updates to the schedule.
URL:https://bbu.org/event/backbeat-4th-thursday-jam-beverly/
LOCATION:Backbeat Brewing\, 31A Park\, Beverly\, MA\, 01915\, United States
CATEGORIES:Jams and Picking Parties
END:VEVENT
BEGIN:VEVENT
DTSTART;TZID=America/New_York:20240725T193000
DTEND;TZID=America/New_York:20240725T210000
DTSTAMP:20260423T032129
CREATED:20220118T203305Z
LAST-MODIFIED:20220118T203305Z
UID:10001008-1721935800-1721941200@bbu.org
SUMMARY:Concord Conservatory Open Bluegrass Jam
DESCRIPTION:The Open Bluegrass Jam is back! \nThursdays\, 7:30 – 9:00 pm in the sanctuary \nOpen to bluegrass players at all levels – guitar\, mandolin\, banjo\, fiddle\, dobro\, bass\, singers – join Max Anderson as he calls the tunes\, posts the charts\, and leads the group (at a manageable speed) through the great repertoire of tunes and songs from the bluegrass tradition. \nOpen to musicians and those who just want to listen and observe. \nJam dates: \nDecember 2\, 9\, and 16\, January 6\, 13\, 20\, and 27\, February 3\, 10\, and 17\, March 3\, 10\, 17\, 24\, and 31\, April 7\, 14\, and 28\, May 5\, 12\, 19\, and 26 \n$10 suggested donation is greatly appreciated to support the program.
URL:https://bbu.org/event/concord-conservatory-open-bluegrass-jam/2024-07-25/
LOCATION:Concord Conservatory of Music\, 1317 Main Street\, Concord\, MA\, 01742\, United States
CATEGORIES:Jams and Picking Parties
ORGANIZER;CN="Concord Conservatory of Music":MAILTO:info@concordconservatory.org
END:VEVENT
END:VCALENDAR