BEGIN:VCALENDAR
VERSION:2.0
PRODID:-//Boston Bluegrass Union - ECPv6.15.20//NONSGML v1.0//EN
CALSCALE:GREGORIAN
METHOD:PUBLISH
X-ORIGINAL-URL:https://bbu.org
X-WR-CALDESC:Events for Boston Bluegrass Union
REFRESH-INTERVAL;VALUE=DURATION:PT1H
X-Robots-Tag:noindex
X-PUBLISHED-TTL:PT1H
BEGIN:VTIMEZONE
TZID:America/New_York
BEGIN:DAYLIGHT
TZOFFSETFROM:-0500
TZOFFSETTO:-0400
TZNAME:EDT
DTSTART:20230312T070000
END:DAYLIGHT
BEGIN:STANDARD
TZOFFSETFROM:-0400
TZOFFSETTO:-0500
TZNAME:EST
DTSTART:20231105T060000
END:STANDARD
BEGIN:DAYLIGHT
TZOFFSETFROM:-0500
TZOFFSETTO:-0400
TZNAME:EDT
DTSTART:20240310T070000
END:DAYLIGHT
BEGIN:STANDARD
TZOFFSETFROM:-0400
TZOFFSETTO:-0500
TZNAME:EST
DTSTART:20241103T060000
END:STANDARD
BEGIN:DAYLIGHT
TZOFFSETFROM:-0500
TZOFFSETTO:-0400
TZNAME:EDT
DTSTART:20250309T070000
END:DAYLIGHT
BEGIN:STANDARD
TZOFFSETFROM:-0400
TZOFFSETTO:-0500
TZNAME:EST
DTSTART:20251102T060000
END:STANDARD
END:VTIMEZONE
BEGIN:VEVENT
DTSTART;VALUE=DATE:20240725
DTEND;VALUE=DATE:20240729
DTSTAMP:20260423T032259
CREATED:20240701T184705Z
LAST-MODIFIED:20240701T184705Z
UID:10002587-1721865600-1722211199@bbu.org
SUMMARY:Ossipee Valley Music Festival
DESCRIPTION:Ossipee Valley is a music festival in Maine. The festival features four stages\, food trucks\, craft beer\, yoga\, barn dances\, workshops\, kids activities\, craft vendors and camping. It is dreamily situated on the banks of the Ossipee river\, amongst tall pines and goat barns\, in southern Maine\, under an hour from Portland or North Conway\, and 2.5 hrs NW of Boston. \nThe festival is known for featuring ascendant acts in roots\, bluegrass\, americana\, folk\, world\, and blues music\, but it is about more than just the music: Ossipee Valley is a community where all are welcome. Moon dancers\, flatpickers\, gangs of kids on bikes\, barefoot granolas and retired RV grandmas\, wallflowers\, instigators\, listeners\, players\, makers and shakers unite under the fresh summer sky. Come join us. \nDon’t forget to join us for the Ossipee Valley String Camp-a 5 day immersive educational experience that comes with a pass to the festival\, for seven whole days of musical bliss.
URL:https://bbu.org/event/ossipee-valley-music-festival/
LOCATION:Ossipee Valley Fairgrounds\, 291 S. Hiram Road\, Hiram\, ME\, 04041\, United States
CATEGORIES:Festivals
ORGANIZER;CN="N/A":MAILTO:na@none.org
GEO:43.809044;-70.853684
X-APPLE-STRUCTURED-LOCATION;VALUE=URI;X-ADDRESS=Ossipee Valley Fairgrounds 291 S. Hiram Road Hiram ME 04041 United States;X-APPLE-RADIUS=500;X-TITLE=291 S. Hiram Road:geo:-70.853684,43.809044
END:VEVENT
BEGIN:VEVENT
DTSTART;TZID=America/New_York:20240728T190000
DTEND;TZID=America/New_York:20240728T213000
DTSTAMP:20260423T032259
CREATED:20240703T020422Z
LAST-MODIFIED:20240703T020443Z
UID:10002592-1722193200-1722202200@bbu.org
SUMMARY:Larry and Joe
DESCRIPTION:Larry Bellorín hails from Monagas\, Venezuela and is a legend of Llanera music. Joe Troop is from North Carolina and is a GRAMMY-nominated bluegrass and oldtime musician. Larry was forced into exile and is an asylum seeker in North Carolina. Joe\, after a decade in South America\, got stranded back in his stomping grounds in the pandemic. Larry works construction to make ends meet. Joe’s acclaimed “latingrass” band Che Apalache was forced into hiatus\, and he shifted into action working with asylum seeking migrants. \nCurrently based in the Triangle of North Carolina\, both men are versatile multi-instrumentalists and singer-songwriters on a mission to show that music has no borders. As a duo they perform a fusion of Venezuelan and Appalachian folk music on harp\, banjo\, cuatro\, fiddle\, maracas\, guitar\, upright bass\, and whatever else they decide to throw in the van. The program they offer features a distinct blend of their musical inheritances and traditions as well as storytelling about the ways that music and social movements coalesce.
URL:https://bbu.org/event/larry-and-joe/
LOCATION:Club Passim\, Cambridge\, MA\, United States
CATEGORIES:Concerts
ORGANIZER;CN="N/A":MAILTO:na@none.org
GEO:42.3736158;-71.1097335
END:VEVENT
BEGIN:VEVENT
DTSTART;TZID=America/New_York:20240728T190000
DTEND;TZID=America/New_York:20240728T220000
DTSTAMP:20260423T032259
CREATED:20240703T160937Z
LAST-MODIFIED:20240711T181646Z
UID:10001225-1722193200-1722204000@bbu.org
SUMMARY:Old Time Jam at The Bebop
DESCRIPTION:Groovy old time jam every Sunday night\, 7-10 pm.
URL:https://bbu.org/event/old-time-jam-at-the-bebop/2024-07-28/
LOCATION:The Bebop\, 1116 Boylston St\, Boston\, MA\, 02116\, United States
CATEGORIES:Jams and Picking Parties
END:VEVENT
END:VCALENDAR