BEGIN:VCALENDAR
VERSION:2.0
PRODID:-//Boston Bluegrass Union - ECPv6.15.20//NONSGML v1.0//EN
CALSCALE:GREGORIAN
METHOD:PUBLISH
X-WR-CALNAME:Boston Bluegrass Union
X-ORIGINAL-URL:https://bbu.org
X-WR-CALDESC:Events for Boston Bluegrass Union
REFRESH-INTERVAL;VALUE=DURATION:PT1H
X-Robots-Tag:noindex
X-PUBLISHED-TTL:PT1H
BEGIN:VTIMEZONE
TZID:America/New_York
BEGIN:DAYLIGHT
TZOFFSETFROM:-0500
TZOFFSETTO:-0400
TZNAME:EDT
DTSTART:20230312T070000
END:DAYLIGHT
BEGIN:STANDARD
TZOFFSETFROM:-0400
TZOFFSETTO:-0500
TZNAME:EST
DTSTART:20231105T060000
END:STANDARD
BEGIN:DAYLIGHT
TZOFFSETFROM:-0500
TZOFFSETTO:-0400
TZNAME:EDT
DTSTART:20240310T070000
END:DAYLIGHT
BEGIN:STANDARD
TZOFFSETFROM:-0400
TZOFFSETTO:-0500
TZNAME:EST
DTSTART:20241103T060000
END:STANDARD
BEGIN:DAYLIGHT
TZOFFSETFROM:-0500
TZOFFSETTO:-0400
TZNAME:EDT
DTSTART:20250309T070000
END:DAYLIGHT
BEGIN:STANDARD
TZOFFSETFROM:-0400
TZOFFSETTO:-0500
TZNAME:EST
DTSTART:20251102T060000
END:STANDARD
END:VTIMEZONE
BEGIN:VEVENT
DTSTART;TZID=America/New_York:20240820T183000
DTEND;TZID=America/New_York:20240820T213000
DTSTAMP:20260424T083132
CREATED:20180405T131005Z
LAST-MODIFIED:20180405T131005Z
UID:10000646-1724178600-1724189400@bbu.org
SUMMARY:Tuftonboro Country\, Bluegrass and Gospel Jam session
DESCRIPTION:The weekly Tuftonboro Country\, Bluegrass & Gospel Music Jam Session continues at the historic Old White Church of Center Tuftonboro every Tuesday from 6:30 until about 9:30 pm.  Fans of country\, bluegrass and gospel music are invited to enjoy an evening of music. There is no admission charge\, a donation is requested to help cover operational expenses.  The Church is located on Route 109A\, just across from the Tuftonboro General Store & Post Office.  Everyone is invited to attend the jam session while enjoying cookies and a cup of coffee.  For more info call Joe at 569-3861.
URL:https://bbu.org/event/tuftonboro-country-bluegrass-gospel-jam-session/2024-08-20/
LOCATION:The Old White Church\, Center Tuftonboro\, NH
CATEGORIES:Jams and Picking Parties
ATTACH;FMTTYPE=image/jpeg:https://bbu.org/wp-content/uploads/2018/04/Tuftonboo-jam-session.jpg
END:VEVENT
BEGIN:VEVENT
DTSTART;TZID=America/New_York:20240820T200000
DTEND;TZID=America/New_York:20240820T220000
DTSTAMP:20260424T083132
CREATED:20240815T000825Z
LAST-MODIFIED:20240815T000825Z
UID:10001363-1724184000-1724191200@bbu.org
SUMMARY:High Horse at Passim
DESCRIPTION:High Horse is a progressive-acoustic boy band featuring four friends\, three bows\, and one pick. A mix of celtic and classical music\, it’s a band of brothers playing alternative rock on acoustic instruments\, it’s a rollicking romp of great vibes\, virtuosic chops\, and tight vocals.\nComprised of fiddler Carson McHaney\, cellist Karl Henry\, guitarist G Rockwell\, and bassist Noah Harrington; the band draws from their varied musical backgrounds to explore and perform original compositions and tunes from diverse folk traditions.\nHigh Horse is based in Boston\, collecting the skills and artistry learned from their education at the Berklee College of Music and New England Conservatory.\nTheir debut album will be released in 2024\, produced by world-renowned mandolinist Jacob Jolliff and engineered by sound wizard Dave Sinko.
URL:https://bbu.org/event/high-horse-at-passim/
LOCATION:Club Passim\, Cambridge\, MA\, United States
CATEGORIES:Concerts
GEO:42.3736158;-71.1097335
END:VEVENT
END:VCALENDAR