BEGIN:VCALENDAR
VERSION:2.0
PRODID:-//Boston Bluegrass Union - ECPv6.15.20//NONSGML v1.0//EN
CALSCALE:GREGORIAN
METHOD:PUBLISH
X-WR-CALNAME:Boston Bluegrass Union
X-ORIGINAL-URL:https://bbu.org
X-WR-CALDESC:Events for Boston Bluegrass Union
REFRESH-INTERVAL;VALUE=DURATION:PT1H
X-Robots-Tag:noindex
X-PUBLISHED-TTL:PT1H
BEGIN:VTIMEZONE
TZID:America/New_York
BEGIN:DAYLIGHT
TZOFFSETFROM:-0500
TZOFFSETTO:-0400
TZNAME:EDT
DTSTART:20230312T070000
END:DAYLIGHT
BEGIN:STANDARD
TZOFFSETFROM:-0400
TZOFFSETTO:-0500
TZNAME:EST
DTSTART:20231105T060000
END:STANDARD
BEGIN:DAYLIGHT
TZOFFSETFROM:-0500
TZOFFSETTO:-0400
TZNAME:EDT
DTSTART:20240310T070000
END:DAYLIGHT
BEGIN:STANDARD
TZOFFSETFROM:-0400
TZOFFSETTO:-0500
TZNAME:EST
DTSTART:20241103T060000
END:STANDARD
BEGIN:DAYLIGHT
TZOFFSETFROM:-0500
TZOFFSETTO:-0400
TZNAME:EDT
DTSTART:20250309T070000
END:DAYLIGHT
BEGIN:STANDARD
TZOFFSETFROM:-0400
TZOFFSETTO:-0500
TZNAME:EST
DTSTART:20251102T060000
END:STANDARD
END:VTIMEZONE
BEGIN:VEVENT
DTSTART;TZID=America/New_York:20240914T200000
DTEND;TZID=America/New_York:20240914T220000
DTSTAMP:20260422T015346
CREATED:20240720T181932Z
LAST-MODIFIED:20240720T181932Z
UID:10001359-1726344000-1726351200@bbu.org
SUMMARY:Michael Cleveland at Groton Hill
DESCRIPTION:From an early age\, Michael Cleveland heard old-time and bluegrass music at local jams and festivals near his hometown of Henryville\, Indiana. His grandparents hosted regular bluegrass gatherings at the American Legion\, and at age four\, he began playing the fiddle. He attended the Kentucky School for the Blind in Louisville\, where he learned the Suzuki method of violin. While he practiced the violin at school\, he played fiddle at home. \nCleveland had always dreamed of leading his own band and in 2006\, he formed Flamekeeper\, seven-time recipients of the IBMA’s “Instrumental Group of the Year” award\, including Josh Richards\, Nathan Livers\, Jasiah Shrode\, and Chris Douglas. In addition to touring with his band\, Cleveland has performed with a legendary list of bluegrass greats: Bela Fleck\, Tommy Emmanuel\, Billy Strings\, Vince Gill\, and more. Widely considered the bluegrass fiddler of his generation\, Cleveland has been recognized 12 times as the IBMA’s Fiddle Player of the Year and in 2018 was inducted into the National Fiddlers Hall of Fame. \nHis recording Fiddler’s Dream was nominated in 2018 for a GRAMMY for Best Bluegrass Album\, and in 2019\, he won a GRAMMY for his album Tall Fiddler. The same year\, Cleveland’s amazing life of adversity and achievement was featured in the documentary film Flamekeeper: The Michael Cleveland Story. And in 2022\, he was awarded the National Endowment for the Arts Heritage Fellowship. 
URL:https://bbu.org/event/michael-cleveland-at-groton-hill/
LOCATION:Groton Hill Music Center\, 122 Old Ayer Road\, Groton\, MA\, 01450\, United States
CATEGORIES:Concerts
ATTACH;FMTTYPE=image/jpeg:https://bbu.org/wp-content/uploads/2013/09/Michael-Cleveland.jpg
END:VEVENT
END:VCALENDAR