BEGIN:VCALENDAR
VERSION:2.0
PRODID:-//Boston Bluegrass Union - ECPv6.15.18//NONSGML v1.0//EN
CALSCALE:GREGORIAN
METHOD:PUBLISH
X-WR-CALNAME:Boston Bluegrass Union
X-ORIGINAL-URL:https://bbu.org
X-WR-CALDESC:Events for Boston Bluegrass Union
REFRESH-INTERVAL;VALUE=DURATION:PT1H
X-Robots-Tag:noindex
X-PUBLISHED-TTL:PT1H
BEGIN:VTIMEZONE
TZID:America/New_York
BEGIN:DAYLIGHT
TZOFFSETFROM:-0500
TZOFFSETTO:-0400
TZNAME:EDT
DTSTART:20230312T070000
END:DAYLIGHT
BEGIN:STANDARD
TZOFFSETFROM:-0400
TZOFFSETTO:-0500
TZNAME:EST
DTSTART:20231105T060000
END:STANDARD
BEGIN:DAYLIGHT
TZOFFSETFROM:-0500
TZOFFSETTO:-0400
TZNAME:EDT
DTSTART:20240310T070000
END:DAYLIGHT
BEGIN:STANDARD
TZOFFSETFROM:-0400
TZOFFSETTO:-0500
TZNAME:EST
DTSTART:20241103T060000
END:STANDARD
BEGIN:DAYLIGHT
TZOFFSETFROM:-0500
TZOFFSETTO:-0400
TZNAME:EDT
DTSTART:20250309T070000
END:DAYLIGHT
BEGIN:STANDARD
TZOFFSETFROM:-0400
TZOFFSETTO:-0500
TZNAME:EST
DTSTART:20251102T060000
END:STANDARD
END:VTIMEZONE
BEGIN:VEVENT
DTSTART;TZID=America/New_York:20241116T200000
DTEND;TZID=America/New_York:20241116T220000
DTSTAMP:20260419T160550
CREATED:20240906T192819Z
LAST-MODIFIED:20240906T192819Z
UID:10002765-1731787200-1731794400@bbu.org
SUMMARY:Southern Rail at the Bull Run
DESCRIPTION:Southern Rail’s concerts are high octane exuberant fun with stunning harmonies\, irrepressible good humor and sparkling banjo\, guitar and mandolin. Their repertoire is fresh and diverse\, featuring lots of originals plus a kaleidoscope of cover.  There will be a special concert dinner menu which is outstanding!  Reservations are recommended as the room fills up quickly.
URL:https://bbu.org/event/southern-rail-at-the-bull-run/
LOCATION:The Bull Run Restaurant\, 215 Great Road\,  Shirley\, MA\, 01464\, United States
CATEGORIES:Concerts
ATTACH;FMTTYPE=image/jpeg:https://bbu.org/wp-content/uploads/2024/09/group-photo.jpg
GEO:42.5843661;-71.6464091
X-APPLE-STRUCTURED-LOCATION;VALUE=URI;X-ADDRESS=The Bull Run Restaurant 215 Great Road  Shirley MA 01464 United States;X-APPLE-RADIUS=500;X-TITLE=215 Great Road:geo:-71.6464091,42.5843661
END:VEVENT
END:VCALENDAR