BEGIN:VCALENDAR
VERSION:2.0
PRODID:-//Boston Bluegrass Union - ECPv6.15.18//NONSGML v1.0//EN
CALSCALE:GREGORIAN
METHOD:PUBLISH
X-ORIGINAL-URL:https://bbu.org
X-WR-CALDESC:Events for Boston Bluegrass Union
REFRESH-INTERVAL;VALUE=DURATION:PT1H
X-Robots-Tag:noindex
X-PUBLISHED-TTL:PT1H
BEGIN:VTIMEZONE
TZID:America/New_York
BEGIN:DAYLIGHT
TZOFFSETFROM:-0500
TZOFFSETTO:-0400
TZNAME:EDT
DTSTART:20240310T070000
END:DAYLIGHT
BEGIN:STANDARD
TZOFFSETFROM:-0400
TZOFFSETTO:-0500
TZNAME:EST
DTSTART:20241103T060000
END:STANDARD
BEGIN:DAYLIGHT
TZOFFSETFROM:-0500
TZOFFSETTO:-0400
TZNAME:EDT
DTSTART:20250309T070000
END:DAYLIGHT
BEGIN:STANDARD
TZOFFSETFROM:-0400
TZOFFSETTO:-0500
TZNAME:EST
DTSTART:20251102T060000
END:STANDARD
BEGIN:DAYLIGHT
TZOFFSETFROM:-0500
TZOFFSETTO:-0400
TZNAME:EDT
DTSTART:20260308T070000
END:DAYLIGHT
BEGIN:STANDARD
TZOFFSETFROM:-0400
TZOFFSETTO:-0500
TZNAME:EST
DTSTART:20261101T060000
END:STANDARD
END:VTIMEZONE
BEGIN:VEVENT
DTSTART;TZID=America/New_York:20250307T200000
DTEND;TZID=America/New_York:20250307T220000
DTSTAMP:20260421T034624
CREATED:20241116T202955Z
LAST-MODIFIED:20241116T202955Z
UID:10001376-1741377600-1741384800@bbu.org
SUMMARY:New Dangerfield
DESCRIPTION:A century of forgetfulness and erasure has led to diminished public awareness of the Black string band tradition – and equally diminished numbers of Black string bands. Once numerous\, these ensembles have grown few and far between. In recent decades\, only one Black string band has emerged per generation. The 1980’s saw the birth of the Ebony Hillbillies. Nearly three decades later\, the Carolina Chocolate Drops formed and took the tradition to new heights. As of 2023\, a new Black string band has emerged to carry the torch: New Dangerfield. \nNew Dangerfield was originally conceptualized by award-winning bluegrass banjoist Tray Wellington\, who enlisted three other acclaimed Black roots musicians: multi-instrumentalist and vocalist Kaïa Kater\, bassist Nelson Williams (Chris Jones & the Night Drivers)\, and fiddler and singer Jake Blount. Irrepressible and adventurous from the start\, the band is musically versatile and charismatic. \nGroton Hill Music Center
URL:https://bbu.org/event/new-dangerfield/
LOCATION:Groton Hill Music Center\, 122 Old Ayer Road\, Groton\, MA\, 01450\, United States
CATEGORIES:Concerts
ATTACH;FMTTYPE=image/webp:https://bbu.org/wp-content/uploads/2024/11/840_New-Dangerfield_.webp
END:VEVENT
END:VCALENDAR