BEGIN:VCALENDAR
VERSION:2.0
PRODID:-//Boston Bluegrass Union - ECPv6.15.20//NONSGML v1.0//EN
CALSCALE:GREGORIAN
METHOD:PUBLISH
X-ORIGINAL-URL:https://bbu.org
X-WR-CALDESC:Events for Boston Bluegrass Union
REFRESH-INTERVAL;VALUE=DURATION:PT1H
X-Robots-Tag:noindex
X-PUBLISHED-TTL:PT1H
BEGIN:VTIMEZONE
TZID:America/New_York
BEGIN:DAYLIGHT
TZOFFSETFROM:-0500
TZOFFSETTO:-0400
TZNAME:EDT
DTSTART:20240310T070000
END:DAYLIGHT
BEGIN:STANDARD
TZOFFSETFROM:-0400
TZOFFSETTO:-0500
TZNAME:EST
DTSTART:20241103T060000
END:STANDARD
BEGIN:DAYLIGHT
TZOFFSETFROM:-0500
TZOFFSETTO:-0400
TZNAME:EDT
DTSTART:20250309T070000
END:DAYLIGHT
BEGIN:STANDARD
TZOFFSETFROM:-0400
TZOFFSETTO:-0500
TZNAME:EST
DTSTART:20251102T060000
END:STANDARD
BEGIN:DAYLIGHT
TZOFFSETFROM:-0500
TZOFFSETTO:-0400
TZNAME:EDT
DTSTART:20260308T070000
END:DAYLIGHT
BEGIN:STANDARD
TZOFFSETFROM:-0400
TZOFFSETTO:-0500
TZNAME:EST
DTSTART:20261101T060000
END:STANDARD
END:VTIMEZONE
BEGIN:VEVENT
DTSTART;TZID=America/New_York:20250330T133000
DTEND;TZID=America/New_York:20250330T160000
DTSTAMP:20260423T221020
CREATED:20250328T202942Z
LAST-MODIFIED:20250901T161235Z
UID:10004683-1743341400-1743350400@bbu.org
SUMMARY:JP Bluegrass Jam
DESCRIPTION:Long-standing Boston bluegrass and acoustic music jam. In the winter\, it is hosted at Hamilton Restaurant in Brookline. In pleasant weather\, find the jam at Jamaica Pond. \n\n\n\nContact Joe Lutz.
URL:https://bbu.org/event/jp-bluegrass-jam/
LOCATION:MA
CATEGORIES:Jams and Picking Parties
END:VEVENT
BEGIN:VEVENT
DTSTART;TZID=America/New_York:20250330T190000
DTEND;TZID=America/New_York:20250330T220000
DTSTAMP:20260423T221020
CREATED:20240703T160937Z
LAST-MODIFIED:20240711T181646Z
UID:10001260-1743361200-1743372000@bbu.org
SUMMARY:Old Time Jam at The Bebop
DESCRIPTION:Groovy old time jam every Sunday night\, 7-10 pm.
URL:https://bbu.org/event/old-time-jam-at-the-bebop/2025-03-30/
LOCATION:The Bebop\, 1116 Boylston St\, Boston\, MA\, 02116\, United States
CATEGORIES:Jams and Picking Parties
END:VEVENT
END:VCALENDAR