BEGIN:VCALENDAR
VERSION:2.0
PRODID:-//Boston Bluegrass Union - ECPv6.15.20//NONSGML v1.0//EN
CALSCALE:GREGORIAN
METHOD:PUBLISH
X-ORIGINAL-URL:https://bbu.org
X-WR-CALDESC:Events for Boston Bluegrass Union
REFRESH-INTERVAL;VALUE=DURATION:PT1H
X-Robots-Tag:noindex
X-PUBLISHED-TTL:PT1H
BEGIN:VTIMEZONE
TZID:America/New_York
BEGIN:DAYLIGHT
TZOFFSETFROM:-0500
TZOFFSETTO:-0400
TZNAME:EDT
DTSTART:20240310T070000
END:DAYLIGHT
BEGIN:STANDARD
TZOFFSETFROM:-0400
TZOFFSETTO:-0500
TZNAME:EST
DTSTART:20241103T060000
END:STANDARD
BEGIN:DAYLIGHT
TZOFFSETFROM:-0500
TZOFFSETTO:-0400
TZNAME:EDT
DTSTART:20250309T070000
END:DAYLIGHT
BEGIN:STANDARD
TZOFFSETFROM:-0400
TZOFFSETTO:-0500
TZNAME:EST
DTSTART:20251102T060000
END:STANDARD
BEGIN:DAYLIGHT
TZOFFSETFROM:-0500
TZOFFSETTO:-0400
TZNAME:EDT
DTSTART:20260308T070000
END:DAYLIGHT
BEGIN:STANDARD
TZOFFSETFROM:-0400
TZOFFSETTO:-0500
TZNAME:EST
DTSTART:20261101T060000
END:STANDARD
END:VTIMEZONE
BEGIN:VEVENT
DTSTART;TZID=America/New_York:20250426T140000
DTEND;TZID=America/New_York:20250426T160000
DTSTAMP:20260422T002919
CREATED:20250329T154750Z
LAST-MODIFIED:20250329T154816Z
UID:10004950-1745676000-1745683200@bbu.org
SUMMARY:Bluegrass Jam at The Burren
DESCRIPTION:Long-running Bluegrass Jam hosted by Frank Drake. All levels welcome\, but not a slow jam\, per se. \n\n\n\nUsually takes the summer off for festivals\, etc. Contact Frank’s web site to get on the mailing list.
URL:https://bbu.org/event/bluegrass-jam-at-the-burren-2/2025-04-26/
LOCATION:The Burren\, 247 Elm Street\, Somerville\, MA\, 02144\, United States
CATEGORIES:Jams and Picking Parties
ATTACH;FMTTYPE=image/jpeg:https://bbu.org/wp-content/uploads/2024/09/frank-drake-jam-image.jpeg
GEO:42.3953636;-71.1217436
X-APPLE-STRUCTURED-LOCATION;VALUE=URI;X-ADDRESS=The Burren 247 Elm Street Somerville MA 02144 United States;X-APPLE-RADIUS=500;X-TITLE=247 Elm Street:geo:-71.1217436,42.3953636
END:VEVENT
BEGIN:VEVENT
DTSTART;TZID=America/New_York:20250426T190000
DTEND;TZID=America/New_York:20250426T213000
DTSTAMP:20260422T002919
CREATED:20250407T185349Z
LAST-MODIFIED:20250407T185350Z
UID:10005212-1745694000-1745703000@bbu.org
SUMMARY:Southern Rail at CCM
DESCRIPTION:Southern Rail’s performances are high-energy exuberant fun\, with riveting harmonies\, irrepressible humor and sparkling banjo\, mandolin\, and guitar solo work. \n\n\n\nSaturday\, April 26\, 2025 at 7:00 pm \n\n\n\nPurchase Tickets in advance or payable at the door for this event. ($25 General Admission and free for students 18 and under) \n\n\n\nSouthern Rail celebrates more than four decades of performing together. CCM faculty member Rich Stillman (banjo and harmony vocals\, Jim Muller (guitar and lead vocals)\, Sharon Horovitch (acoustic bass and harmony vocals)\, and John Tibert (mandolin and harmony vocals) give us rich vocals on beautiful and creative bluegrass arrangements. \n\n\n\nSouthern Rail brims with contemporary energy\, harmonies and nuance while featuring lots of original material…A bluegrass band with the total package of style\, material\, vocals and picking. They stand ready for an international breakout. \n\n\n\n– Bluegrass Canada Magazine
URL:https://bbu.org/event/southern-rail-at-ccm/
LOCATION:The Concord Conservatory of Music\, 1317 Main Street\, Concord\, MA\, 01742\, United States
CATEGORIES:Concerts
ATTACH;FMTTYPE=image/jpeg:https://bbu.org/wp-content/uploads/2024/10/group-photo-1.jpg
ORGANIZER;CN="Concord Conservatory of Music":MAILTO:info@concordconservatory.org
GEO:42.454604;-71.3949686
X-APPLE-STRUCTURED-LOCATION;VALUE=URI;X-ADDRESS=The Concord Conservatory of Music 1317 Main Street Concord MA 01742 United States;X-APPLE-RADIUS=500;X-TITLE=1317 Main Street:geo:-71.3949686,42.454604
END:VEVENT
END:VCALENDAR