BEGIN:VCALENDAR
VERSION:2.0
PRODID:-//Boston Bluegrass Union - ECPv6.15.18//NONSGML v1.0//EN
CALSCALE:GREGORIAN
METHOD:PUBLISH
X-WR-CALNAME:Boston Bluegrass Union
X-ORIGINAL-URL:https://bbu.org
X-WR-CALDESC:Events for Boston Bluegrass Union
REFRESH-INTERVAL;VALUE=DURATION:PT1H
X-Robots-Tag:noindex
X-PUBLISHED-TTL:PT1H
BEGIN:VTIMEZONE
TZID:America/New_York
BEGIN:DAYLIGHT
TZOFFSETFROM:-0500
TZOFFSETTO:-0400
TZNAME:EDT
DTSTART:20250309T070000
END:DAYLIGHT
BEGIN:STANDARD
TZOFFSETFROM:-0400
TZOFFSETTO:-0500
TZNAME:EST
DTSTART:20251102T060000
END:STANDARD
BEGIN:DAYLIGHT
TZOFFSETFROM:-0500
TZOFFSETTO:-0400
TZNAME:EDT
DTSTART:20260308T070000
END:DAYLIGHT
BEGIN:STANDARD
TZOFFSETFROM:-0400
TZOFFSETTO:-0500
TZNAME:EST
DTSTART:20261101T060000
END:STANDARD
BEGIN:DAYLIGHT
TZOFFSETFROM:-0500
TZOFFSETTO:-0400
TZNAME:EDT
DTSTART:20270314T070000
END:DAYLIGHT
BEGIN:STANDARD
TZOFFSETFROM:-0400
TZOFFSETTO:-0500
TZNAME:EST
DTSTART:20271107T060000
END:STANDARD
END:VTIMEZONE
BEGIN:VEVENT
DTSTART;TZID=America/New_York:20260424T000000
DTEND;TZID=America/New_York:20260426T235959
DTSTAMP:20260420T141341
CREATED:20260420T141817Z
LAST-MODIFIED:20260420T141817Z
UID:10011452-1776988800-1777247999@bbu.org
SUMMARY:New England Folk Festival
DESCRIPTION:The New England Folk Festival\, widely known by the name NEFFA\, is an annual folk festival that blends dance\, music\, crafts\, and food from many places and cultures. 2026 is our 82nd annual Festival and we hope that you will join us! The Festival is run by the New England Folk Festival Association\, a cultural and educational\, volunteer-run\, non-profit organization. The talent of our performers is also provided on a volunteer basis. \nThe 2026 Festival will take place 24-26 April\, 2026 and will again be held at the Best Western Royal Plaza Hotel and Trade Center\, 181 Boston Post Road West\, Marlborough\, MA 01752.
URL:https://bbu.org/event/new-england-folk-festival/
LOCATION:Best Western Royal Plaza\, 181 Boston Post Road West\, Marlborough\, MA\, 01752\, United States
CATEGORIES:Festivals
END:VEVENT
END:VCALENDAR