BEGIN:VCALENDAR
VERSION:2.0
PRODID:-//Boston Bluegrass Union - ECPv6.15.20//NONSGML v1.0//EN
CALSCALE:GREGORIAN
METHOD:PUBLISH
X-WR-CALNAME:Boston Bluegrass Union
X-ORIGINAL-URL:https://bbu.org
X-WR-CALDESC:Events for Boston Bluegrass Union
REFRESH-INTERVAL;VALUE=DURATION:PT1H
X-Robots-Tag:noindex
X-PUBLISHED-TTL:PT1H
BEGIN:VTIMEZONE
TZID:America/New_York
BEGIN:DAYLIGHT
TZOFFSETFROM:-0500
TZOFFSETTO:-0400
TZNAME:EDT
DTSTART:20250309T070000
END:DAYLIGHT
BEGIN:STANDARD
TZOFFSETFROM:-0400
TZOFFSETTO:-0500
TZNAME:EST
DTSTART:20251102T060000
END:STANDARD
BEGIN:DAYLIGHT
TZOFFSETFROM:-0500
TZOFFSETTO:-0400
TZNAME:EDT
DTSTART:20260308T070000
END:DAYLIGHT
BEGIN:STANDARD
TZOFFSETFROM:-0400
TZOFFSETTO:-0500
TZNAME:EST
DTSTART:20261101T060000
END:STANDARD
BEGIN:DAYLIGHT
TZOFFSETFROM:-0500
TZOFFSETTO:-0400
TZNAME:EDT
DTSTART:20270314T070000
END:DAYLIGHT
BEGIN:STANDARD
TZOFFSETFROM:-0400
TZOFFSETTO:-0500
TZNAME:EST
DTSTART:20271107T060000
END:STANDARD
END:VTIMEZONE
BEGIN:VEVENT
DTSTART;TZID=America/New_York:20260511T190000
DTEND;TZID=America/New_York:20260511T210000
DTSTAMP:20260422T230349
CREATED:20250709T135232Z
LAST-MODIFIED:20250709T135232Z
UID:10006874-1778526000-1778533200@bbu.org
SUMMARY:South County (RI) Old-Time Jam
DESCRIPTION:Second and fourth Mondays\, 7-9pm\nSouth County Museum\, 115 Strathmore Rd.\, Narragansett RI 02882\nhttps://www.facebook.com/southcountyjam\nAll levels invited! The South County Jam is a friendly and welcoming jam where newcomers are always welcome. We play a wide range of traditional fiddle tunes\, going around the circle so everyone has a chance to suggest a tune they know and set the tempo.
URL:https://bbu.org/event/south-county-ri-old-time-jam/2026-05-11/
LOCATION:South County Museum\, 115 Strathmore Rd.\, Narragansett\, RI\, 02882\, United States
CATEGORIES:Jams and Picking Parties
END:VEVENT
BEGIN:VEVENT
DTSTART;TZID=America/New_York:20260511T190000
DTEND;TZID=America/New_York:20260511T210000
DTSTAMP:20260422T230349
CREATED:20250901T195943Z
LAST-MODIFIED:20250901T195943Z
UID:10008015-1778526000-1778533200@bbu.org
SUMMARY:Beginner Bluegrass Slow Jam
DESCRIPTION:Beginner Bluegrass Slow Jam\n\n\n\n\nWhen: Second Monday of each month\n7:00 PM – 9:00 PM\nSeptember through June \n\n\n\n\nThe Slow Jam is the perfect place for novice players\, those just starting their Bluegrass journey\, or anyone who’s a little shy about playing with others. \nWe create the safest possible environment to get comfortable making music with a group. \nWe play through simple\, traditional Bluegrass songs\, offering guidance and encouragement every step of the way. \nAll levels are welcome\, and we take special care to support beginners and casual musicians. \nBring your acoustic instrument – everyone is welcome! \n\nLocation: First Church in Dedham – Parish House 45 Bullard Street\, Dedham\, MA 02026 \n\nEnter via Bullard Street.\nPark in the lot behind the church.\nWalk to the grassy quad in front.\nThe jams are held in the Parish House (the low building).\nUpon entering\, turn right and proceed down the short hallway to the dining room.\n\nDetails: Bring a song to share for some fun bluegrass jamming! \nWe hope to see you there!
URL:https://bbu.org/event/beginner-bluegrass-slow-jam/2026-05-11/
LOCATION:First Church Dedham – Parish House\, 45 Bullard Street\, Dedham\, MA\, 02026\, United States
CATEGORIES:Jams and Picking Parties
ATTACH;FMTTYPE=image/jpeg:https://bbu.org/wp-content/uploads/2025/09/Image-9-1-25-at-3.02-PM.jpeg
ORGANIZER;CN="Dedham School of Music":MAILTO:timothyparke@icloud.com
END:VEVENT
BEGIN:VEVENT
DTSTART;TZID=America/New_York:20260512T190000
DTEND;TZID=America/New_York:20260512T210000
DTSTAMP:20260422T230349
CREATED:20260106T014146Z
LAST-MODIFIED:20260106T014146Z
UID:10009584-1778612400-1778619600@bbu.org
SUMMARY:BG Jam Night at Groton Hill
DESCRIPTION:Second Tuesday of the month. Led by G. Rockwell. \nJams will run every second Tuesday from September through June! Ages 16+ welcome! All alcohol sales will be carded. Non-alcoholic and alcoholic drinks will be available for purchase in the Woodland Room.
URL:https://bbu.org/event/bg-jam-night-at-groton-hill/2026-05-12/
LOCATION:Groton Hill Music Center\, 122 Old Ayer Road\, Groton\, MA\, 01450\, United States
CATEGORIES:Jams and Picking Parties
END:VEVENT
BEGIN:VEVENT
DTSTART;TZID=America/New_York:20260513T110000
DTEND;TZID=America/New_York:20260513T130000
DTSTAMP:20260422T230349
CREATED:20251006T150902Z
LAST-MODIFIED:20251006T150902Z
UID:10008580-1778670000-1778677200@bbu.org
SUMMARY:Berlin OT Jam
DESCRIPTION:2nd and 4th Wednesdays of the month. Friendly old time jam at the 19 Carter community center.
URL:https://bbu.org/event/berlin-ot-jam/2026-05-13/
LOCATION:19 Carter\, 19 Carter St\, Berlin\, MA\, 01503\, United States
CATEGORIES:Jams and Picking Parties
END:VEVENT
BEGIN:VEVENT
DTSTART;TZID=America/New_York:20260513T180000
DTEND;TZID=America/New_York:20260513T210000
DTSTAMP:20260422T230349
CREATED:20250809T183730Z
LAST-MODIFIED:20250809T183730Z
UID:10007136-1778695200-1778706000@bbu.org
SUMMARY:Remnant Old Time Jam
DESCRIPTION:Hosted by Juliana Bernardi. All levels welcome but not a slow jam\, per se. \nLil’ summary: If you’ve played with me before PLEASE COME DOWN AGAIN I LOVE YOU ALL. If you haven’t\, this is a VERY chill Old-Time jam where everyone has the opportunity to call a tune or sing a song. Bring your instruments\, your vocals\, and all your lovely and quirky personalities that make the magical cesspool of weirdos and creatives we all love so much!
URL:https://bbu.org/event/remnant-old-time-jam/2026-05-13/
LOCATION:Remnant Satellite\, 877 Cambridge St\, Cambridge\, MA\, 02141\, United States
CATEGORIES:Jams and Picking Parties
END:VEVENT
BEGIN:VEVENT
DTSTART;TZID=America/New_York:20260513T180000
DTEND;TZID=America/New_York:20260513T210000
DTSTAMP:20260422T230349
CREATED:20260327T223043Z
LAST-MODIFIED:20260327T223043Z
UID:10011067-1778695200-1778706000@bbu.org
SUMMARY:Bluegrass Jam hosted by Familiar Strangers
DESCRIPTION:Second Wed of the month at Maynard Sanctuary Cultural Arts Center. \nOpen Bluegrass Jam hosted by Greg Young (Familar Strangers).\nAcoustic instruments only. Multiple spaces to jam so depending on the size and mix of skill levels and styles (e.g. bluegrass\, country\, “fiddle” tunes) we might split into 2-3 groups. \nBar will be open! \nStrange\, Yet Familiar…\nWith musical roots firmly planted in bluegrass\, Celtic\, country\, rock and everywhere between\, the Familiar Strangers bend the genres of well known tunes with each double stop of the fiddle\, strum of the guitar\, thump of the upright bass or slide of the dobro.\n 
URL:https://bbu.org/event/bluegrass-jam-hosted-by-familiar-strangers/2026-05-13/
LOCATION:Sanctuary Cultural Arts Center – 82 Main Street Maynard\, 82 Main Street\, Maynard\, MA\, 01754\, United States
CATEGORIES:Jams and Picking Parties
ATTACH;FMTTYPE=image/png:https://bbu.org/wp-content/uploads/2026/02/familiar-strangers-logo-black-back._001300-2-scaled-e1770766069763.png
ORGANIZER;CN="Greg Young / Familiar Strangers":MAILTO:gdy21@me.com
END:VEVENT
BEGIN:VEVENT
DTSTART;TZID=America/New_York:20260513T190000
DTEND;TZID=America/New_York:20260513T220000
DTSTAMP:20260422T230349
CREATED:20260210T232253Z
LAST-MODIFIED:20260210T232253Z
UID:10010286-1778698800-1778709600@bbu.org
SUMMARY:Bluegrass Open Jam
DESCRIPTION:Acoustic instruments only.   Multiple jam spaces available.  Depending on turnout\, skill level\, and musical flavors (bluegrass\, country\, fiddle tunes\, and neighboring territory)\, the jam may break into smaller groups so everyone gets a chance to play\, learn\, and stretch out.
URL:https://bbu.org/event/bluegrass-open-jam/2026-05-13/
LOCATION:Sanctuary Cultural Arts Center – 82 Main Street Maynard\, 82 Main Street\, Maynard\, MA\, 01754\, United States
CATEGORIES:Jams and Picking Parties
ATTACH;FMTTYPE=image/png:https://bbu.org/wp-content/uploads/2026/02/familiar-strangers-logo-black-back._001300-2-scaled-e1770766069763.png
ORGANIZER;CN="Greg Young / Familiar Strangers":MAILTO:gdy21@me.com
END:VEVENT
BEGIN:VEVENT
DTSTART;TZID=America/New_York:20260514T190000
DTEND;TZID=America/New_York:20260514T230000
DTSTAMP:20260422T230349
CREATED:20250314T170050Z
LAST-MODIFIED:20250314T170051Z
UID:10003256-1778785200-1778799600@bbu.org
SUMMARY:Backbeat Brewing Bluegrass Jam
DESCRIPTION:All pickers\, singers and Bluegrass fans are invited to join us on the 2nd and 4th Thursdays of every month at Backbeat Brewing in Beverly\, MA.  The jam starts at 7pm and runs until at least 10 (usually ends closer to midnight!) \n\n\n\nThere is plenty of on-street parking. (Meters run to 8pm in Beverly) \n\n\n\nThe taps offer many delicious brews ranging from NE IPA’s to genuine English style cask ales\, and the kitchen cooks up tasty thin crust pizzas (available in gluten free and vegan options).
URL:https://bbu.org/event/backbeat-brewing-bluegrass-jam/2026-05-14/
LOCATION:Backbeat Brewing\, 31A Park\, Beverly\, MA\, 01915\, United States
CATEGORIES:Jams and Picking Parties
END:VEVENT
BEGIN:VEVENT
DTSTART;TZID=America/New_York:20260515T190000
DTEND;TZID=America/New_York:20260515T210000
DTSTAMP:20260422T230349
CREATED:20240716T162249Z
LAST-MODIFIED:20260113T030628Z
UID:10002750-1778871600-1778878800@bbu.org
SUMMARY:3rd Friday Jam at PCA
DESCRIPTION:Featuring\, but not limited to Bluegrass music\nBring your Guitar\, Banjo\, Fiddle\, Bass\, Dobro\, Harp (all types)\, mandolin\,\nbones\, etc.. and come and enjoy a night of great music. \nThe Parish Center For The Arts (The PCA). 10 Lincoln Street Westford\, MA \nPCA is a BYOB facility\, so feel free to bring snacks\, a bottle\, whatever!\nPlease bring whatever you need\, and be sure to police up everything when we go. I ask you to leave no trash\, garbage\, bottles\, cans\, etc behind.\nThere are chairs and tables as needed.\nThis is a pass-the-hat event\, with proceeds going to the PCA to offset the cost of our usage.\nWelcome to players of all skill levels and audiences alike.\nFree parking \nMonthly on 3rd Fridays\, 7-10pm
URL:https://bbu.org/event/3rd-friday-jam-at-pca/2026-05-15/
LOCATION:Parish Center for the Arts\, 10 Lincoln St\, Westford\, MA\, 01886\, United States
CATEGORIES:Jams and Picking Parties
END:VEVENT
BEGIN:VEVENT
DTSTART;TZID=America/New_York:20260516T160000
DTEND;TZID=America/New_York:20260516T190000
DTSTAMP:20260422T230349
CREATED:20250619T132621Z
LAST-MODIFIED:20250718T150846Z
UID:10007062-1778947200-1778958000@bbu.org
SUMMARY:Old Time Jam at Nick-a-Nee's
DESCRIPTION:3rd Saturday of the month\, 4-7 pm
URL:https://bbu.org/event/old-time-jam-at-nick-a-nees/2026-05-16/
LOCATION:Nick-A-Nee’s\, 75 South Street\, Providence\, RI\, 02907\, United States
CATEGORIES:Jams and Picking Parties
GEO:41.8172132;-71.4085301
X-APPLE-STRUCTURED-LOCATION;VALUE=URI;X-ADDRESS=Nick-A-Nee’s 75 South Street Providence RI 02907 United States;X-APPLE-RADIUS=500;X-TITLE=75 South Street:geo:-71.4085301,41.8172132
END:VEVENT
BEGIN:VEVENT
DTSTART;TZID=America/New_York:20260519T140000
DTEND;TZID=America/New_York:20260519T160000
DTSTAMP:20260422T230349
CREATED:20250711T174751Z
LAST-MODIFIED:20250711T174751Z
UID:10006995-1779199200-1779206400@bbu.org
SUMMARY:Concord\, MA Old Time Jam
DESCRIPTION:Third Tuesday of the month from 2-4 PM. The first jam is July 15. No jam in August\, then start again in September.\nLocation: Harvey Wheeler Community Center\, 1276 Main St\, Concord\, MA 01742\nThe entrance to the parking lot is on Church St. Enter the building from the parking lot. This space is run by the Concord Council on Aging\, but all ages are welcome to the jam. There should be someone sitting at the entrance desk who can point you to the room. You might be asked to sign in.
URL:https://bbu.org/event/concord-ma-old-time-jam/2026-05-19/
LOCATION:Harvey Wheeler Community Center\, 1276 Main St\, Concord\, MA\, 01742\, United States
CATEGORIES:Jams and Picking Parties
END:VEVENT
BEGIN:VEVENT
DTSTART;TZID=America/New_York:20260527T110000
DTEND;TZID=America/New_York:20260527T130000
DTSTAMP:20260422T230349
CREATED:20251006T151005Z
LAST-MODIFIED:20251006T151005Z
UID:10008640-1779879600-1779886800@bbu.org
SUMMARY:Berlin OT Jam
DESCRIPTION:2nd and 4th Wednesdays of the month. Friendly old time jam at the 19 Carter community center.
URL:https://bbu.org/event/berlin-ot-jam-2/2026-05-27/
LOCATION:19 Carter\, 19 Carter St\, Berlin\, MA\, 01503\, United States
CATEGORIES:Jams and Picking Parties
END:VEVENT
BEGIN:VEVENT
DTSTART;TZID=America/New_York:20260710T000000
DTEND;TZID=America/New_York:20260712T235959
DTSTAMP:20260422T230349
CREATED:20250709T134831Z
LAST-MODIFIED:20260220T165116Z
UID:10006863-1783641600-1783900799@bbu.org
SUMMARY:Harry Smith Frolic
DESCRIPTION:Old Time Music jamming weekend with a Saturday\, midnight rendition of Harry Smith Anthology Vol 3 this year. \nStarts Friday at 5 pm thru Sunday 1 pm-ish. \nhttps://www.sacrasoft.com/HarrySmith/
URL:https://bbu.org/event/harry-smith-frolic-2/
LOCATION:Camp Kiwanee\, Camp Kiwanee Road\, Hanson\, MA\, 02341\, United States
CATEGORIES:Jams and Picking Parties
GEO:42.055315;-70.8530831
X-APPLE-STRUCTURED-LOCATION;VALUE=URI;X-ADDRESS=Camp Kiwanee Camp Kiwanee Road Hanson MA 02341 United States;X-APPLE-RADIUS=500;X-TITLE=Camp Kiwanee Road:geo:-70.8530831,42.055315
END:VEVENT
END:VCALENDAR