BEGIN:VCALENDAR
VERSION:2.0
PRODID:-//Boston Bluegrass Union - ECPv6.15.20//NONSGML v1.0//EN
CALSCALE:GREGORIAN
METHOD:PUBLISH
X-WR-CALNAME:Boston Bluegrass Union
X-ORIGINAL-URL:https://bbu.org
X-WR-CALDESC:Events for Boston Bluegrass Union
REFRESH-INTERVAL;VALUE=DURATION:PT1H
X-Robots-Tag:noindex
X-PUBLISHED-TTL:PT1H
BEGIN:VTIMEZONE
TZID:America/New_York
BEGIN:DAYLIGHT
TZOFFSETFROM:-0500
TZOFFSETTO:-0400
TZNAME:EDT
DTSTART:20250309T070000
END:DAYLIGHT
BEGIN:STANDARD
TZOFFSETFROM:-0400
TZOFFSETTO:-0500
TZNAME:EST
DTSTART:20251102T060000
END:STANDARD
BEGIN:DAYLIGHT
TZOFFSETFROM:-0500
TZOFFSETTO:-0400
TZNAME:EDT
DTSTART:20260308T070000
END:DAYLIGHT
BEGIN:STANDARD
TZOFFSETFROM:-0400
TZOFFSETTO:-0500
TZNAME:EST
DTSTART:20261101T060000
END:STANDARD
BEGIN:DAYLIGHT
TZOFFSETFROM:-0500
TZOFFSETTO:-0400
TZNAME:EDT
DTSTART:20270314T070000
END:DAYLIGHT
BEGIN:STANDARD
TZOFFSETFROM:-0400
TZOFFSETTO:-0500
TZNAME:EST
DTSTART:20271107T060000
END:STANDARD
END:VTIMEZONE
BEGIN:VEVENT
DTSTART;TZID=America/New_York:20260519T140000
DTEND;TZID=America/New_York:20260519T160000
DTSTAMP:20260423T095655
CREATED:20250711T174751Z
LAST-MODIFIED:20250711T174751Z
UID:10006995-1779199200-1779206400@bbu.org
SUMMARY:Concord\, MA Old Time Jam
DESCRIPTION:Third Tuesday of the month from 2-4 PM. The first jam is July 15. No jam in August\, then start again in September.\nLocation: Harvey Wheeler Community Center\, 1276 Main St\, Concord\, MA 01742\nThe entrance to the parking lot is on Church St. Enter the building from the parking lot. This space is run by the Concord Council on Aging\, but all ages are welcome to the jam. There should be someone sitting at the entrance desk who can point you to the room. You might be asked to sign in.
URL:https://bbu.org/event/concord-ma-old-time-jam/2026-05-19/
LOCATION:Harvey Wheeler Community Center\, 1276 Main St\, Concord\, MA\, 01742\, United States
CATEGORIES:Jams and Picking Parties
END:VEVENT
BEGIN:VEVENT
DTSTART;TZID=America/New_York:20260527T110000
DTEND;TZID=America/New_York:20260527T130000
DTSTAMP:20260423T095655
CREATED:20251006T151005Z
LAST-MODIFIED:20251006T151005Z
UID:10008640-1779879600-1779886800@bbu.org
SUMMARY:Berlin OT Jam
DESCRIPTION:2nd and 4th Wednesdays of the month. Friendly old time jam at the 19 Carter community center.
URL:https://bbu.org/event/berlin-ot-jam-2/2026-05-27/
LOCATION:19 Carter\, 19 Carter St\, Berlin\, MA\, 01503\, United States
CATEGORIES:Jams and Picking Parties
END:VEVENT
BEGIN:VEVENT
DTSTART;TZID=America/New_York:20260710T000000
DTEND;TZID=America/New_York:20260712T235959
DTSTAMP:20260423T095655
CREATED:20250709T134831Z
LAST-MODIFIED:20260220T165116Z
UID:10006863-1783641600-1783900799@bbu.org
SUMMARY:Harry Smith Frolic
DESCRIPTION:Old Time Music jamming weekend with a Saturday\, midnight rendition of Harry Smith Anthology Vol 3 this year. \nStarts Friday at 5 pm thru Sunday 1 pm-ish. \nhttps://www.sacrasoft.com/HarrySmith/
URL:https://bbu.org/event/harry-smith-frolic-2/
LOCATION:Camp Kiwanee\, Camp Kiwanee Road\, Hanson\, MA\, 02341\, United States
CATEGORIES:Jams and Picking Parties
GEO:42.055315;-70.8530831
X-APPLE-STRUCTURED-LOCATION;VALUE=URI;X-ADDRESS=Camp Kiwanee Camp Kiwanee Road Hanson MA 02341 United States;X-APPLE-RADIUS=500;X-TITLE=Camp Kiwanee Road:geo:-70.8530831,42.055315
END:VEVENT
END:VCALENDAR