BEGIN:VCALENDAR
VERSION:2.0
PRODID:-//Boston Bluegrass Union - ECPv6.15.18//NONSGML v1.0//EN
CALSCALE:GREGORIAN
METHOD:PUBLISH
X-ORIGINAL-URL:https://bbu.org
X-WR-CALDESC:Events for Boston Bluegrass Union
REFRESH-INTERVAL;VALUE=DURATION:PT1H
X-Robots-Tag:noindex
X-PUBLISHED-TTL:PT1H
BEGIN:VTIMEZONE
TZID:America/New_York
BEGIN:DAYLIGHT
TZOFFSETFROM:-0500
TZOFFSETTO:-0400
TZNAME:EDT
DTSTART:20230312T070000
END:DAYLIGHT
BEGIN:STANDARD
TZOFFSETFROM:-0400
TZOFFSETTO:-0500
TZNAME:EST
DTSTART:20231105T060000
END:STANDARD
BEGIN:DAYLIGHT
TZOFFSETFROM:-0500
TZOFFSETTO:-0400
TZNAME:EDT
DTSTART:20240310T070000
END:DAYLIGHT
BEGIN:STANDARD
TZOFFSETFROM:-0400
TZOFFSETTO:-0500
TZNAME:EST
DTSTART:20241103T060000
END:STANDARD
BEGIN:DAYLIGHT
TZOFFSETFROM:-0500
TZOFFSETTO:-0400
TZNAME:EDT
DTSTART:20250309T070000
END:DAYLIGHT
BEGIN:STANDARD
TZOFFSETFROM:-0400
TZOFFSETTO:-0500
TZNAME:EST
DTSTART:20251102T060000
END:STANDARD
END:VTIMEZONE
BEGIN:VEVENT
DTSTART;TZID=America/New_York:20240201T193000
DTEND;TZID=America/New_York:20240201T210000
DTSTAMP:20260419T174616
CREATED:20220118T203305Z
LAST-MODIFIED:20220118T203305Z
UID:10000983-1706815800-1706821200@bbu.org
SUMMARY:Concord Conservatory Open Bluegrass Jam
DESCRIPTION:The Open Bluegrass Jam is back! \nThursdays\, 7:30 – 9:00 pm in the sanctuary \nOpen to bluegrass players at all levels – guitar\, mandolin\, banjo\, fiddle\, dobro\, bass\, singers – join Max Anderson as he calls the tunes\, posts the charts\, and leads the group (at a manageable speed) through the great repertoire of tunes and songs from the bluegrass tradition. \nOpen to musicians and those who just want to listen and observe. \nJam dates: \nDecember 2\, 9\, and 16\, January 6\, 13\, 20\, and 27\, February 3\, 10\, and 17\, March 3\, 10\, 17\, 24\, and 31\, April 7\, 14\, and 28\, May 5\, 12\, 19\, and 26 \n$10 suggested donation is greatly appreciated to support the program.
URL:https://bbu.org/event/concord-conservatory-open-bluegrass-jam/2024-02-01/
LOCATION:Concord Conservatory of Music\, 1317 Main Street\, Concord\, MA\, 01742\, United States
CATEGORIES:Jams and Picking Parties
ORGANIZER;CN="Concord Conservatory of Music":MAILTO:info@concordconservatory.org
END:VEVENT
BEGIN:VEVENT
DTSTART;TZID=America/New_York:20240206T183000
DTEND;TZID=America/New_York:20240206T213000
DTSTAMP:20260419T174616
CREATED:20180405T131005Z
LAST-MODIFIED:20180405T131005Z
UID:10000618-1707244200-1707255000@bbu.org
SUMMARY:Tuftonboro Country\, Bluegrass and Gospel Jam session
DESCRIPTION:The weekly Tuftonboro Country\, Bluegrass & Gospel Music Jam Session continues at the historic Old White Church of Center Tuftonboro every Tuesday from 6:30 until about 9:30 pm.  Fans of country\, bluegrass and gospel music are invited to enjoy an evening of music. There is no admission charge\, a donation is requested to help cover operational expenses.  The Church is located on Route 109A\, just across from the Tuftonboro General Store & Post Office.  Everyone is invited to attend the jam session while enjoying cookies and a cup of coffee.  For more info call Joe at 569-3861.
URL:https://bbu.org/event/tuftonboro-country-bluegrass-gospel-jam-session/2024-02-06/
LOCATION:The Old White Church\, Center Tuftonboro\, NH
CATEGORIES:Jams and Picking Parties
ATTACH;FMTTYPE=image/jpeg:https://bbu.org/wp-content/uploads/2018/04/Tuftonboo-jam-session.jpg
END:VEVENT
BEGIN:VEVENT
DTSTART;TZID=America/New_York:20240207T193000
DTEND;TZID=America/New_York:20240207T210000
DTSTAMP:20260419T174616
CREATED:20240127T163503Z
LAST-MODIFIED:20240127T163503Z
UID:10002578-1707334200-1707339600@bbu.org
SUMMARY:Suzy Thompson
DESCRIPTION:(Harvard\, Mass) notloB Parlour Concerts and its patrons are very fortunate that Californian Suzy Thompson will be joining Jim Kweskin at his “extravaganza” at the Regent Theater in Arlington on February 4 (the show is sold out) and to present workshops at the Berklee School of Music\, as she has selected it as one of two presenters for side concerts\, notloB on February 7\, and a house concert in Roslindale the next day. Contact notloB for details. \nSuzy Thompson is a “musician’s musician” who plays fiddle and guitar alongside artists like Jim Kweskin\, Geoff Muldaur\, Del Rey\, Ann Savoy\, etc. \nhttps://www.ericandsuzy.com/suzy-bio.html \nThis rare solo concert will include blues\, Cajun and Old-Time material.  Suzy will also perform material from two albums that she’s currently working on. \nSuzy usually performs with her husband\, guitarist Eric Thompson. They live in Berkeley CA where Suzy directs the Berkeley Old Time Music Convention (now in its 20th year). \nSuzy’s long musical journey dates from touring with British singer Frankie Armstrong when she was still in her teens. In her 20s\, she was a founding member of Any Old Time String Band (their Arhoolie album is still in print) and Blue Flame String Band (highly regarded recording on Flying Fish). She has performed and recorded with banjo players Mac Benford (Backwoods Band) and Bill Evans (Bluegrass Intentions) and Cajun accordion legend Danny Poullard (California Cajun Orchestra\, 2 award winning albums).  The past 10 years or so have included a landmark blues album with the Texas Sheiks (Geoff Muldaur\, Jim Kweskin\, Cindy Cashdollar et al)\, duets with resonator ukulele and guitar goddess Del Rey\, and a recent collaboration with Cajun superstar Ann Savoy. Suzy also has recorded with Kathy Kallick and Laurie Lewis\, Maria Muldaur\, Country Joe McDonald\, Darol Anger\, Jody Stecher & Kate Brislin\, Mary Flower\, Alan Senauke\, etc. \n  \nADMISSION is by free-will offering\, suggested amounts: Adults $20-25\, teens and seniors $10-15. Cash at the door. \n  \nRESERVATIONS REQUIRED:  \nnotloB Parlour Concerts are run on the “house concert” model. An accurate headcount is necessary. \nTO RESERVE / CANCEL / CHANGE\, PLEASE EMAIL NOTLOBRESERVATIONS@GMAIL.COM \nRESERVATIONS EXPIRE AT SHOWTME. \nARTIST’S WEBSITE: https://www.ericandsuzy.com/suzy-bio.html \nARTIST’S VIDEO: https://youtu.be/faOrPY8m2ag?si=xytsdzr-KDTKr0fU \nVENUE: The concert will be presented at 7 Fairbanks Street\, Harvard\, Massachusetts 01451\, the restored 1887 town library building. Handicap accessible. Doors Open at 7:00pm. This is a notloB concert in rented space\, please do not contact the venue. \nCOVID PRECAUTIONS: Mask-friendly. Please read Fivesparks’ COVID-19 protocols for events at https://www.fivesparks.org/ \nABOUT NOTLOB PARLOUR CONCERTS: Since 2007\, notloB has presented >200 not-for-profit folk\, Celtic\, old-time\, bluegrass\, and progressive string concerts in unique venues throughout the greater Boston area. notloB’s current home is space rented in the renovated 1887 Harvard\, Massachusetts library – https://www.harvardpubliclibrary.org/about/history-library – leased to the “Fivesparks” arts organization. Concerts in your home can be arranged.\nemail – notlobreservations@gmail.com\nFacebook – https://www.facebook.com/notloBParlourConcerts/ \nInstagram – https://www.instagram.com/notlobmusic \nBlog – https://notlobmusic.blogspot.com/
URL:https://bbu.org/event/suzy-thompson/
LOCATION:notloB Parlour Concerts at Fivesparks\, 7 Fairbank Street\, Harvard\, MA\, 01451\, United States
CATEGORIES:Concerts
ATTACH;FMTTYPE=image/jpeg:https://bbu.org/wp-content/uploads/2024/01/suzy-thompson-guitar.jpg
ORGANIZER;CN="Jeff Boudreau":MAILTO:notlobreservations@gmail.com
END:VEVENT
BEGIN:VEVENT
DTSTART;TZID=America/New_York:20240208T193000
DTEND;TZID=America/New_York:20240208T210000
DTSTAMP:20260419T174616
CREATED:20220118T203305Z
LAST-MODIFIED:20220118T203305Z
UID:10000984-1707420600-1707426000@bbu.org
SUMMARY:Concord Conservatory Open Bluegrass Jam
DESCRIPTION:The Open Bluegrass Jam is back! \nThursdays\, 7:30 – 9:00 pm in the sanctuary \nOpen to bluegrass players at all levels – guitar\, mandolin\, banjo\, fiddle\, dobro\, bass\, singers – join Max Anderson as he calls the tunes\, posts the charts\, and leads the group (at a manageable speed) through the great repertoire of tunes and songs from the bluegrass tradition. \nOpen to musicians and those who just want to listen and observe. \nJam dates: \nDecember 2\, 9\, and 16\, January 6\, 13\, 20\, and 27\, February 3\, 10\, and 17\, March 3\, 10\, 17\, 24\, and 31\, April 7\, 14\, and 28\, May 5\, 12\, 19\, and 26 \n$10 suggested donation is greatly appreciated to support the program.
URL:https://bbu.org/event/concord-conservatory-open-bluegrass-jam/2024-02-08/
LOCATION:Concord Conservatory of Music\, 1317 Main Street\, Concord\, MA\, 01742\, United States
CATEGORIES:Jams and Picking Parties
ORGANIZER;CN="Concord Conservatory of Music":MAILTO:info@concordconservatory.org
END:VEVENT
BEGIN:VEVENT
DTSTART;TZID=America/New_York:20240210T170000
DTEND;TZID=America/New_York:20240210T200000
DTSTAMP:20260419T174616
CREATED:20231218T175232Z
LAST-MODIFIED:20231218T175232Z
UID:10001074-1707584400-1707595200@bbu.org
SUMMARY:New Orleans home cookin' & Southern Rail
DESCRIPTION:Join Southern Rail on Saturday Feb. 10 for Mardis Gras Night at the First Parish Sudbury .  Enjoy an unforgettable evening of yummy Cajun fare and hot bluegrass!  :>) \nDinner will be served at 5 and music will start at 6.
URL:https://bbu.org/event/new-orleans-home-cookin-southern-rail/
LOCATION:First Parish Church of Sudbury\, 327 Concord Rd\, Sudbury\, 01776\, United States
CATEGORIES:Concerts
ATTACH;FMTTYPE=image/jpeg:https://bbu.org/wp-content/uploads/2023/12/DSC_1003G.jpg
ORGANIZER;CN="Meetinghouse Concerts":MAILTO:office@fpsudbury.org
GEO:42.383126;-71.4125071
X-APPLE-STRUCTURED-LOCATION;VALUE=URI;X-ADDRESS=First Parish Church of Sudbury 327 Concord Rd Sudbury 01776 United States;X-APPLE-RADIUS=500;X-TITLE=327 Concord Rd:geo:-71.4125071,42.383126
END:VEVENT
BEGIN:VEVENT
DTSTART;TZID=America/New_York:20240213T183000
DTEND;TZID=America/New_York:20240213T213000
DTSTAMP:20260419T174616
CREATED:20180405T131005Z
LAST-MODIFIED:20180405T131005Z
UID:10000619-1707849000-1707859800@bbu.org
SUMMARY:Tuftonboro Country\, Bluegrass and Gospel Jam session
DESCRIPTION:The weekly Tuftonboro Country\, Bluegrass & Gospel Music Jam Session continues at the historic Old White Church of Center Tuftonboro every Tuesday from 6:30 until about 9:30 pm.  Fans of country\, bluegrass and gospel music are invited to enjoy an evening of music. There is no admission charge\, a donation is requested to help cover operational expenses.  The Church is located on Route 109A\, just across from the Tuftonboro General Store & Post Office.  Everyone is invited to attend the jam session while enjoying cookies and a cup of coffee.  For more info call Joe at 569-3861.
URL:https://bbu.org/event/tuftonboro-country-bluegrass-gospel-jam-session/2024-02-13/
LOCATION:The Old White Church\, Center Tuftonboro\, NH
CATEGORIES:Jams and Picking Parties
ATTACH;FMTTYPE=image/jpeg:https://bbu.org/wp-content/uploads/2018/04/Tuftonboo-jam-session.jpg
END:VEVENT
BEGIN:VEVENT
DTSTART;TZID=America/New_York:20240215T193000
DTEND;TZID=America/New_York:20240215T210000
DTSTAMP:20260419T174616
CREATED:20220118T203305Z
LAST-MODIFIED:20220118T203305Z
UID:10000985-1708025400-1708030800@bbu.org
SUMMARY:Concord Conservatory Open Bluegrass Jam
DESCRIPTION:The Open Bluegrass Jam is back! \nThursdays\, 7:30 – 9:00 pm in the sanctuary \nOpen to bluegrass players at all levels – guitar\, mandolin\, banjo\, fiddle\, dobro\, bass\, singers – join Max Anderson as he calls the tunes\, posts the charts\, and leads the group (at a manageable speed) through the great repertoire of tunes and songs from the bluegrass tradition. \nOpen to musicians and those who just want to listen and observe. \nJam dates: \nDecember 2\, 9\, and 16\, January 6\, 13\, 20\, and 27\, February 3\, 10\, and 17\, March 3\, 10\, 17\, 24\, and 31\, April 7\, 14\, and 28\, May 5\, 12\, 19\, and 26 \n$10 suggested donation is greatly appreciated to support the program.
URL:https://bbu.org/event/concord-conservatory-open-bluegrass-jam/2024-02-15/
LOCATION:Concord Conservatory of Music\, 1317 Main Street\, Concord\, MA\, 01742\, United States
CATEGORIES:Jams and Picking Parties
ORGANIZER;CN="Concord Conservatory of Music":MAILTO:info@concordconservatory.org
END:VEVENT
BEGIN:VEVENT
DTSTART;TZID=America/New_York:20240220T183000
DTEND;TZID=America/New_York:20240220T213000
DTSTAMP:20260419T174616
CREATED:20180405T131005Z
LAST-MODIFIED:20180405T131005Z
UID:10000620-1708453800-1708464600@bbu.org
SUMMARY:Tuftonboro Country\, Bluegrass and Gospel Jam session
DESCRIPTION:The weekly Tuftonboro Country\, Bluegrass & Gospel Music Jam Session continues at the historic Old White Church of Center Tuftonboro every Tuesday from 6:30 until about 9:30 pm.  Fans of country\, bluegrass and gospel music are invited to enjoy an evening of music. There is no admission charge\, a donation is requested to help cover operational expenses.  The Church is located on Route 109A\, just across from the Tuftonboro General Store & Post Office.  Everyone is invited to attend the jam session while enjoying cookies and a cup of coffee.  For more info call Joe at 569-3861.
URL:https://bbu.org/event/tuftonboro-country-bluegrass-gospel-jam-session/2024-02-20/
LOCATION:The Old White Church\, Center Tuftonboro\, NH
CATEGORIES:Jams and Picking Parties
ATTACH;FMTTYPE=image/jpeg:https://bbu.org/wp-content/uploads/2018/04/Tuftonboo-jam-session.jpg
END:VEVENT
BEGIN:VEVENT
DTSTART;TZID=America/New_York:20240222T193000
DTEND;TZID=America/New_York:20240222T210000
DTSTAMP:20260419T174616
CREATED:20220118T203305Z
LAST-MODIFIED:20220118T203305Z
UID:10000986-1708630200-1708635600@bbu.org
SUMMARY:Concord Conservatory Open Bluegrass Jam
DESCRIPTION:The Open Bluegrass Jam is back! \nThursdays\, 7:30 – 9:00 pm in the sanctuary \nOpen to bluegrass players at all levels – guitar\, mandolin\, banjo\, fiddle\, dobro\, bass\, singers – join Max Anderson as he calls the tunes\, posts the charts\, and leads the group (at a manageable speed) through the great repertoire of tunes and songs from the bluegrass tradition. \nOpen to musicians and those who just want to listen and observe. \nJam dates: \nDecember 2\, 9\, and 16\, January 6\, 13\, 20\, and 27\, February 3\, 10\, and 17\, March 3\, 10\, 17\, 24\, and 31\, April 7\, 14\, and 28\, May 5\, 12\, 19\, and 26 \n$10 suggested donation is greatly appreciated to support the program.
URL:https://bbu.org/event/concord-conservatory-open-bluegrass-jam/2024-02-22/
LOCATION:Concord Conservatory of Music\, 1317 Main Street\, Concord\, MA\, 01742\, United States
CATEGORIES:Jams and Picking Parties
ORGANIZER;CN="Concord Conservatory of Music":MAILTO:info@concordconservatory.org
END:VEVENT
BEGIN:VEVENT
DTSTART;TZID=America/New_York:20240227T183000
DTEND;TZID=America/New_York:20240227T213000
DTSTAMP:20260419T174616
CREATED:20180405T131005Z
LAST-MODIFIED:20180405T131005Z
UID:10000621-1709058600-1709069400@bbu.org
SUMMARY:Tuftonboro Country\, Bluegrass and Gospel Jam session
DESCRIPTION:The weekly Tuftonboro Country\, Bluegrass & Gospel Music Jam Session continues at the historic Old White Church of Center Tuftonboro every Tuesday from 6:30 until about 9:30 pm.  Fans of country\, bluegrass and gospel music are invited to enjoy an evening of music. There is no admission charge\, a donation is requested to help cover operational expenses.  The Church is located on Route 109A\, just across from the Tuftonboro General Store & Post Office.  Everyone is invited to attend the jam session while enjoying cookies and a cup of coffee.  For more info call Joe at 569-3861.
URL:https://bbu.org/event/tuftonboro-country-bluegrass-gospel-jam-session/2024-02-27/
LOCATION:The Old White Church\, Center Tuftonboro\, NH
CATEGORIES:Jams and Picking Parties
ATTACH;FMTTYPE=image/jpeg:https://bbu.org/wp-content/uploads/2018/04/Tuftonboo-jam-session.jpg
END:VEVENT
BEGIN:VEVENT
DTSTART;TZID=America/New_York:20240229T193000
DTEND;TZID=America/New_York:20240229T210000
DTSTAMP:20260419T174616
CREATED:20220118T203305Z
LAST-MODIFIED:20220118T203305Z
UID:10000987-1709235000-1709240400@bbu.org
SUMMARY:Concord Conservatory Open Bluegrass Jam
DESCRIPTION:The Open Bluegrass Jam is back! \nThursdays\, 7:30 – 9:00 pm in the sanctuary \nOpen to bluegrass players at all levels – guitar\, mandolin\, banjo\, fiddle\, dobro\, bass\, singers – join Max Anderson as he calls the tunes\, posts the charts\, and leads the group (at a manageable speed) through the great repertoire of tunes and songs from the bluegrass tradition. \nOpen to musicians and those who just want to listen and observe. \nJam dates: \nDecember 2\, 9\, and 16\, January 6\, 13\, 20\, and 27\, February 3\, 10\, and 17\, March 3\, 10\, 17\, 24\, and 31\, April 7\, 14\, and 28\, May 5\, 12\, 19\, and 26 \n$10 suggested donation is greatly appreciated to support the program.
URL:https://bbu.org/event/concord-conservatory-open-bluegrass-jam/2024-02-29/
LOCATION:Concord Conservatory of Music\, 1317 Main Street\, Concord\, MA\, 01742\, United States
CATEGORIES:Jams and Picking Parties
ORGANIZER;CN="Concord Conservatory of Music":MAILTO:info@concordconservatory.org
END:VEVENT
END:VCALENDAR