BEGIN:VCALENDAR
VERSION:2.0
PRODID:-//Boston Bluegrass Union - ECPv6.15.18//NONSGML v1.0//EN
CALSCALE:GREGORIAN
METHOD:PUBLISH
X-WR-CALNAME:Boston Bluegrass Union
X-ORIGINAL-URL:https://bbu.org
X-WR-CALDESC:Events for Boston Bluegrass Union
REFRESH-INTERVAL;VALUE=DURATION:PT1H
X-Robots-Tag:noindex
X-PUBLISHED-TTL:PT1H
BEGIN:VTIMEZONE
TZID:America/New_York
BEGIN:DAYLIGHT
TZOFFSETFROM:-0500
TZOFFSETTO:-0400
TZNAME:EDT
DTSTART:20230312T070000
END:DAYLIGHT
BEGIN:STANDARD
TZOFFSETFROM:-0400
TZOFFSETTO:-0500
TZNAME:EST
DTSTART:20231105T060000
END:STANDARD
BEGIN:DAYLIGHT
TZOFFSETFROM:-0500
TZOFFSETTO:-0400
TZNAME:EDT
DTSTART:20240310T070000
END:DAYLIGHT
BEGIN:STANDARD
TZOFFSETFROM:-0400
TZOFFSETTO:-0500
TZNAME:EST
DTSTART:20241103T060000
END:STANDARD
BEGIN:DAYLIGHT
TZOFFSETFROM:-0500
TZOFFSETTO:-0400
TZNAME:EDT
DTSTART:20250309T070000
END:DAYLIGHT
BEGIN:STANDARD
TZOFFSETFROM:-0400
TZOFFSETTO:-0500
TZNAME:EST
DTSTART:20251102T060000
END:STANDARD
END:VTIMEZONE
BEGIN:VEVENT
DTSTART;TZID=America/New_York:20240302T193000
DTEND;TZID=America/New_York:20240302T220000
DTSTAMP:20260419T095248
CREATED:20240205T183639Z
LAST-MODIFIED:20240205T183639Z
UID:10002581-1709407800-1709416800@bbu.org
SUMMARY:Jake Blount w/ Marcy Marxer and Cathy Fink
DESCRIPTION:Three of America’s top roots musicians\, together for a special evening. Bluegrass\, blues and folk\, in the  best tradition of American black and white string band music.
URL:https://bbu.org/event/jake-blount-w-marcy-marxer-and-cathy-fink/
LOCATION:Cafe Amici\, 1640 Whitney Ave\, Hamden\, CT\, 06517\, United States
CATEGORIES:Concerts
ATTACH;FMTTYPE=image/jpeg:https://bbu.org/wp-content/uploads/2024/02/Jake_Blount_performs_at_the_Earful_of_Fiddle_camp_in_Michigan-scaled.jpg
END:VEVENT
BEGIN:VEVENT
DTSTART;TZID=America/New_York:20240303T170000
DTEND;TZID=America/New_York:20240303T180000
DTSTAMP:20260419T095248
CREATED:20231228T191317Z
LAST-MODIFIED:20231228T191317Z
UID:10001076-1709485200-1709488800@bbu.org
SUMMARY:Southern Rail & the Boston Saengerfest Men's Chorus
DESCRIPTION:A joyous collaboration between Southern Rail and the renowned Boston Saengerfest Men’s Chorus!  Last year’s concert was packed.  Not to be missed!
URL:https://bbu.org/event/southern-rail-the-boston-saengerfest-mens-chorus/
LOCATION:Wellesley Hills Congregational Church\, 207 Washington St.\, Wellesley Hills\, MA\, 02481\, United States
CATEGORIES:Concerts
ATTACH;FMTTYPE=image/jpeg:https://bbu.org/wp-content/uploads/2023/12/group-photo.jpg
END:VEVENT
BEGIN:VEVENT
DTSTART;TZID=America/New_York:20240305T183000
DTEND;TZID=America/New_York:20240305T213000
DTSTAMP:20260419T095248
CREATED:20180405T131005Z
LAST-MODIFIED:20180405T131005Z
UID:10000622-1709663400-1709674200@bbu.org
SUMMARY:Tuftonboro Country\, Bluegrass and Gospel Jam session
DESCRIPTION:The weekly Tuftonboro Country\, Bluegrass & Gospel Music Jam Session continues at the historic Old White Church of Center Tuftonboro every Tuesday from 6:30 until about 9:30 pm.  Fans of country\, bluegrass and gospel music are invited to enjoy an evening of music. There is no admission charge\, a donation is requested to help cover operational expenses.  The Church is located on Route 109A\, just across from the Tuftonboro General Store & Post Office.  Everyone is invited to attend the jam session while enjoying cookies and a cup of coffee.  For more info call Joe at 569-3861.
URL:https://bbu.org/event/tuftonboro-country-bluegrass-gospel-jam-session/2024-03-05/
LOCATION:The Old White Church\, Center Tuftonboro\, NH
CATEGORIES:Jams and Picking Parties
ATTACH;FMTTYPE=image/jpeg:https://bbu.org/wp-content/uploads/2018/04/Tuftonboo-jam-session.jpg
END:VEVENT
BEGIN:VEVENT
DTSTART;TZID=America/New_York:20240307T193000
DTEND;TZID=America/New_York:20240307T210000
DTSTAMP:20260419T095248
CREATED:20220118T203305Z
LAST-MODIFIED:20220118T203305Z
UID:10000988-1709839800-1709845200@bbu.org
SUMMARY:Concord Conservatory Open Bluegrass Jam
DESCRIPTION:The Open Bluegrass Jam is back! \nThursdays\, 7:30 – 9:00 pm in the sanctuary \nOpen to bluegrass players at all levels – guitar\, mandolin\, banjo\, fiddle\, dobro\, bass\, singers – join Max Anderson as he calls the tunes\, posts the charts\, and leads the group (at a manageable speed) through the great repertoire of tunes and songs from the bluegrass tradition. \nOpen to musicians and those who just want to listen and observe. \nJam dates: \nDecember 2\, 9\, and 16\, January 6\, 13\, 20\, and 27\, February 3\, 10\, and 17\, March 3\, 10\, 17\, 24\, and 31\, April 7\, 14\, and 28\, May 5\, 12\, 19\, and 26 \n$10 suggested donation is greatly appreciated to support the program.
URL:https://bbu.org/event/concord-conservatory-open-bluegrass-jam/2024-03-07/
LOCATION:Concord Conservatory of Music\, 1317 Main Street\, Concord\, MA\, 01742\, United States
CATEGORIES:Jams and Picking Parties
ORGANIZER;CN="Concord Conservatory of Music":MAILTO:info@concordconservatory.org
END:VEVENT
BEGIN:VEVENT
DTSTART;TZID=America/New_York:20240309T200000
DTEND;TZID=America/New_York:20240309T220000
DTSTAMP:20260419T095248
CREATED:20240206T224931Z
LAST-MODIFIED:20240206T224932Z
UID:10002582-1710014400-1710021600@bbu.org
SUMMARY:Sierra Hull
DESCRIPTION:Grammy-nominated singer-songwriter and brilliantly talented multi-instrumentalist Sierra Hull returns with her band for an evening of virtuosity\, honesty\, and heart. She creates music inspired and informed by bluegrass but with a soundscape and point of view all her own. Folk\, pop\, and bluegrass come together with Hull’s heartfelt and clever lyrics and often-ethereal vocals for an unforgettable evening of music.
URL:https://bbu.org/event/sierra-hull-2/
LOCATION:Sanders Theatre\, 45 Quincy St\, Cambridge\, MA\, 02138\, United States
CATEGORIES:Concerts
GEO:42.3760142;-71.1150518
X-APPLE-STRUCTURED-LOCATION;VALUE=URI;X-ADDRESS=Sanders Theatre 45 Quincy St Cambridge MA 02138 United States;X-APPLE-RADIUS=500;X-TITLE=45 Quincy St:geo:-71.1150518,42.3760142
END:VEVENT
BEGIN:VEVENT
DTSTART;TZID=America/New_York:20240312T080000
DTEND;TZID=America/New_York:20240312T170000
DTSTAMP:20260419T095248
CREATED:20240312T232844Z
LAST-MODIFIED:20240312T232844Z
UID:10001082-1710230400-1710262800@bbu.org
SUMMARY:Kaïa Kater
DESCRIPTION:“You want some authenticity in your folk music or bluegrass – I give you Kaïa Kater.” – No Depression\nMontreal-born Grenadian-Canadian Kaïa Kater’s jazz-fueled voice and deft songcraft have garnered acclaim from NPR’s Tiny Desk\, The Guardian\, Rolling Stone and No Depression. Kaïa draws on influences rooted in Quebec\, the Caribbean\, and Appalachia\, all of which reflect the diversity of her background; her family’s deep ties to the Canadian folk music scene; her college years spent soaking up Appalachian music in West Virginia and her father’s experience growing up in Grenada\, arriving in Canada in 1986\, after the U.S. invasion. \nKaïa released her first EP Old Soul (2013) when she was just out of high school. Since then\, she’s gone on to release three more albums\, Sorrow Bound (2015)\, Nine Pin (2016) and Grenades (2018).  For the JUNO-nominated and Polaris Music Prize long-listed Grenades\, Kaia leaned into a wide array of sounds and styles in order to convey a broad range of emotions and topics\, most notably her Caribbean ancestry and her father’s experience as a refugee in Canada.  In 2020\, Kaïa took part in the Slaight Music Residency at the Canadian Film Center\, released a new single\, and wrote original music for The Porter (BET+ 2022).
URL:https://bbu.org/event/kaia-kater-2/
LOCATION:Groton Hill Music Center\, 122 Old Ayer Road\, Groton\, MA\, 01450\, United States
ATTACH;FMTTYPE=image/jpeg:https://bbu.org/wp-content/uploads/2024/03/Kaia-Kater-Banjo.jpg
END:VEVENT
BEGIN:VEVENT
DTSTART;TZID=America/New_York:20240312T183000
DTEND;TZID=America/New_York:20240312T213000
DTSTAMP:20260419T095248
CREATED:20180405T131005Z
LAST-MODIFIED:20180405T131005Z
UID:10000623-1710268200-1710279000@bbu.org
SUMMARY:Tuftonboro Country\, Bluegrass and Gospel Jam session
DESCRIPTION:The weekly Tuftonboro Country\, Bluegrass & Gospel Music Jam Session continues at the historic Old White Church of Center Tuftonboro every Tuesday from 6:30 until about 9:30 pm.  Fans of country\, bluegrass and gospel music are invited to enjoy an evening of music. There is no admission charge\, a donation is requested to help cover operational expenses.  The Church is located on Route 109A\, just across from the Tuftonboro General Store & Post Office.  Everyone is invited to attend the jam session while enjoying cookies and a cup of coffee.  For more info call Joe at 569-3861.
URL:https://bbu.org/event/tuftonboro-country-bluegrass-gospel-jam-session/2024-03-12/
LOCATION:The Old White Church\, Center Tuftonboro\, NH
CATEGORIES:Jams and Picking Parties
ATTACH;FMTTYPE=image/jpeg:https://bbu.org/wp-content/uploads/2018/04/Tuftonboo-jam-session.jpg
END:VEVENT
BEGIN:VEVENT
DTSTART;TZID=America/New_York:20240314T193000
DTEND;TZID=America/New_York:20240314T210000
DTSTAMP:20260419T095248
CREATED:20220118T203305Z
LAST-MODIFIED:20220118T203305Z
UID:10000989-1710444600-1710450000@bbu.org
SUMMARY:Concord Conservatory Open Bluegrass Jam
DESCRIPTION:The Open Bluegrass Jam is back! \nThursdays\, 7:30 – 9:00 pm in the sanctuary \nOpen to bluegrass players at all levels – guitar\, mandolin\, banjo\, fiddle\, dobro\, bass\, singers – join Max Anderson as he calls the tunes\, posts the charts\, and leads the group (at a manageable speed) through the great repertoire of tunes and songs from the bluegrass tradition. \nOpen to musicians and those who just want to listen and observe. \nJam dates: \nDecember 2\, 9\, and 16\, January 6\, 13\, 20\, and 27\, February 3\, 10\, and 17\, March 3\, 10\, 17\, 24\, and 31\, April 7\, 14\, and 28\, May 5\, 12\, 19\, and 26 \n$10 suggested donation is greatly appreciated to support the program.
URL:https://bbu.org/event/concord-conservatory-open-bluegrass-jam/2024-03-14/
LOCATION:Concord Conservatory of Music\, 1317 Main Street\, Concord\, MA\, 01742\, United States
CATEGORIES:Jams and Picking Parties
ORGANIZER;CN="Concord Conservatory of Music":MAILTO:info@concordconservatory.org
END:VEVENT
BEGIN:VEVENT
DTSTART;TZID=America/New_York:20240315T193000
DTEND;TZID=America/New_York:20240315T220000
DTSTAMP:20260419T095248
CREATED:20240221T181227Z
LAST-MODIFIED:20240221T181227Z
UID:10002583-1710531000-1710540000@bbu.org
SUMMARY:Liam Purcell & Cane Mill Road
DESCRIPTION:Growing up in North Carolina\, just down the road from Doc Watson\, Liam Purcell leads Cane Mill Road as they perform an eclectic mix of originals and standards. Their powerful arrangements and dynamic stage presence have landed them main stage slots at MerleFest\, Grey Fox and Wide-Open Bluegrass. \nNamed Momentum Band of the Year by IBMA in 2019\, Liam Purcell & Cane Mill Road has been recognized as one of the fastest-growing bands in the industry. In 2022\, bandleader Liam Purcell turned heads by sweeping the Rockygrass Instrumental Contests on guitar\, mandolin\, and banjo\, becoming the first person in history to do so.
URL:https://bbu.org/event/liam-purcell-cane-mill-road/
LOCATION:GuitartownCT at Cafe Amici\, 1640 Whitney Ave\, Hamden\, CT\, 06517\, United States
CATEGORIES:Concerts
ATTACH;FMTTYPE=image/jpeg:https://bbu.org/wp-content/uploads/2024/02/cane-mill-road.jpeg
ORGANIZER;CN="Chris Wuerth":MAILTO:cwuerth@sbcglobal.net
END:VEVENT
BEGIN:VEVENT
DTSTART;TZID=America/New_York:20240319T183000
DTEND;TZID=America/New_York:20240319T213000
DTSTAMP:20260419T095248
CREATED:20180405T131005Z
LAST-MODIFIED:20180405T131005Z
UID:10000624-1710873000-1710883800@bbu.org
SUMMARY:Tuftonboro Country\, Bluegrass and Gospel Jam session
DESCRIPTION:The weekly Tuftonboro Country\, Bluegrass & Gospel Music Jam Session continues at the historic Old White Church of Center Tuftonboro every Tuesday from 6:30 until about 9:30 pm.  Fans of country\, bluegrass and gospel music are invited to enjoy an evening of music. There is no admission charge\, a donation is requested to help cover operational expenses.  The Church is located on Route 109A\, just across from the Tuftonboro General Store & Post Office.  Everyone is invited to attend the jam session while enjoying cookies and a cup of coffee.  For more info call Joe at 569-3861.
URL:https://bbu.org/event/tuftonboro-country-bluegrass-gospel-jam-session/2024-03-19/
LOCATION:The Old White Church\, Center Tuftonboro\, NH
CATEGORIES:Jams and Picking Parties
ATTACH;FMTTYPE=image/jpeg:https://bbu.org/wp-content/uploads/2018/04/Tuftonboo-jam-session.jpg
END:VEVENT
BEGIN:VEVENT
DTSTART;TZID=America/New_York:20240321T193000
DTEND;TZID=America/New_York:20240321T210000
DTSTAMP:20260419T095248
CREATED:20220118T203305Z
LAST-MODIFIED:20220118T203305Z
UID:10000990-1711049400-1711054800@bbu.org
SUMMARY:Concord Conservatory Open Bluegrass Jam
DESCRIPTION:The Open Bluegrass Jam is back! \nThursdays\, 7:30 – 9:00 pm in the sanctuary \nOpen to bluegrass players at all levels – guitar\, mandolin\, banjo\, fiddle\, dobro\, bass\, singers – join Max Anderson as he calls the tunes\, posts the charts\, and leads the group (at a manageable speed) through the great repertoire of tunes and songs from the bluegrass tradition. \nOpen to musicians and those who just want to listen and observe. \nJam dates: \nDecember 2\, 9\, and 16\, January 6\, 13\, 20\, and 27\, February 3\, 10\, and 17\, March 3\, 10\, 17\, 24\, and 31\, April 7\, 14\, and 28\, May 5\, 12\, 19\, and 26 \n$10 suggested donation is greatly appreciated to support the program.
URL:https://bbu.org/event/concord-conservatory-open-bluegrass-jam/2024-03-21/
LOCATION:Concord Conservatory of Music\, 1317 Main Street\, Concord\, MA\, 01742\, United States
CATEGORIES:Jams and Picking Parties
ORGANIZER;CN="Concord Conservatory of Music":MAILTO:info@concordconservatory.org
END:VEVENT
BEGIN:VEVENT
DTSTART;TZID=America/New_York:20240322T200000
DTEND;TZID=America/New_York:20240322T213000
DTSTAMP:20260419T095248
CREATED:20240119T172753Z
LAST-MODIFIED:20240119T172753Z
UID:10001079-1711137600-1711143000@bbu.org
SUMMARY:The Del McCoury Band
DESCRIPTION:Bluegrass legend Del McCoury brings his band to the Concert Hall at Groton Hill March 22! \n“Almost unimaginable\, McCoury’s sixth decade in a half-century of bluegrass bliss brings new triumphs\, new collaborations\, and new music.” — Opry.com \nFor more than 50 years\, Del McCoury’s music has defined authenticity for hard-core bluegrass devotees as well as a growing number of fans only vaguely familiar with the genre. Del is something special\, a living link to the days when bluegrass was made only in hillbilly honkytonks\, at schoolhouse shows and on the stage of the Grand Ole Opry\, yet also a commandingly vital presence today\, from primetime and late night TV to major music festivals.
URL:https://bbu.org/event/the-del-mccoury-band/
LOCATION:Groton Hill Music Center\, 122 Old Ayer Road\, Groton\, MA\, 01450\, United States
CATEGORIES:Concerts
ATTACH;FMTTYPE=image/jpeg:https://bbu.org/wp-content/uploads/2024/01/Del-840.jpg
ORGANIZER;CN="Groton Hill Music Center":MAILTO:info@grotonhill.org
END:VEVENT
BEGIN:VEVENT
DTSTART;TZID=America/New_York:20240323T190000
DTEND;TZID=America/New_York:20240323T213000
DTSTAMP:20260419T095248
CREATED:20240204T031121Z
LAST-MODIFIED:20240204T031121Z
UID:10002580-1711220400-1711229400@bbu.org
SUMMARY:A Night on the Edge!
DESCRIPTION:Michelle Canning presents the 13th Annual “A Night on the Edge!” Join us for an exciting evening of music\, raffle prizes\, and more to support the Alzeheimer’s Foundation of America. For tickets & more information\, go to https://michellecanning.net/alzheimer-s-benefit.
URL:https://bbu.org/event/a-night-on-the-edge-3/
LOCATION:Chelmsford Elks Hall\, 300 Littleton Road\, Chelmsford\, MA\, 01824\, United States
CATEGORIES:Concerts
ATTACH;FMTTYPE=image/jpeg:https://bbu.org/wp-content/uploads/2024/02/Poster-JPEG-scaled.jpg
ORGANIZER;CN="Michelle Canning":MAILTO:info@michellecanning.net
GEO:42.581129;-71.3889293
X-APPLE-STRUCTURED-LOCATION;VALUE=URI;X-ADDRESS=Chelmsford Elks Hall 300 Littleton Road Chelmsford MA 01824 United States;X-APPLE-RADIUS=500;X-TITLE=300 Littleton Road:geo:-71.3889293,42.581129
END:VEVENT
BEGIN:VEVENT
DTSTART;TZID=America/New_York:20240323T193000
DTEND;TZID=America/New_York:20240323T213000
DTSTAMP:20260419T095248
CREATED:20231228T191240Z
LAST-MODIFIED:20231228T191240Z
UID:10001075-1711222200-1711229400@bbu.org
SUMMARY:Stone Church Coffeehouse presents Southern Rail
DESCRIPTION:Enormously popular music series now in its 17th year!  Seating is limited\, so call 401-253-4813 to reserve your seats.  Guests are welcome to bring their own supper and libation to enjoy during Southern Rail’s concert!
URL:https://bbu.org/event/stone-church-coffeehouse-presents-southern-rail/
LOCATION:Stone Church Coffeehouse\, 300 High St\, Bristol\, RI\, 02809\, United States
CATEGORIES:Concerts
ATTACH;FMTTYPE=image/jpeg:https://bbu.org/wp-content/uploads/2023/12/group-photo-1.jpg
ORGANIZER;CN="Roger Dubord":MAILTO:dubordrjd@cox.net
GEO:41.6719998;-71.2737571
X-APPLE-STRUCTURED-LOCATION;VALUE=URI;X-ADDRESS=Stone Church Coffeehouse 300 High St Bristol RI 02809 United States;X-APPLE-RADIUS=500;X-TITLE=300 High St:geo:-71.2737571,41.6719998
END:VEVENT
BEGIN:VEVENT
DTSTART;TZID=America/New_York:20240326T183000
DTEND;TZID=America/New_York:20240326T213000
DTSTAMP:20260419T095248
CREATED:20180405T131005Z
LAST-MODIFIED:20180405T131005Z
UID:10000625-1711477800-1711488600@bbu.org
SUMMARY:Tuftonboro Country\, Bluegrass and Gospel Jam session
DESCRIPTION:The weekly Tuftonboro Country\, Bluegrass & Gospel Music Jam Session continues at the historic Old White Church of Center Tuftonboro every Tuesday from 6:30 until about 9:30 pm.  Fans of country\, bluegrass and gospel music are invited to enjoy an evening of music. There is no admission charge\, a donation is requested to help cover operational expenses.  The Church is located on Route 109A\, just across from the Tuftonboro General Store & Post Office.  Everyone is invited to attend the jam session while enjoying cookies and a cup of coffee.  For more info call Joe at 569-3861.
URL:https://bbu.org/event/tuftonboro-country-bluegrass-gospel-jam-session/2024-03-26/
LOCATION:The Old White Church\, Center Tuftonboro\, NH
CATEGORIES:Jams and Picking Parties
ATTACH;FMTTYPE=image/jpeg:https://bbu.org/wp-content/uploads/2018/04/Tuftonboo-jam-session.jpg
END:VEVENT
BEGIN:VEVENT
DTSTART;TZID=America/New_York:20240328T193000
DTEND;TZID=America/New_York:20240328T210000
DTSTAMP:20260419T095248
CREATED:20220118T203305Z
LAST-MODIFIED:20220118T203305Z
UID:10000991-1711654200-1711659600@bbu.org
SUMMARY:Concord Conservatory Open Bluegrass Jam
DESCRIPTION:The Open Bluegrass Jam is back! \nThursdays\, 7:30 – 9:00 pm in the sanctuary \nOpen to bluegrass players at all levels – guitar\, mandolin\, banjo\, fiddle\, dobro\, bass\, singers – join Max Anderson as he calls the tunes\, posts the charts\, and leads the group (at a manageable speed) through the great repertoire of tunes and songs from the bluegrass tradition. \nOpen to musicians and those who just want to listen and observe. \nJam dates: \nDecember 2\, 9\, and 16\, January 6\, 13\, 20\, and 27\, February 3\, 10\, and 17\, March 3\, 10\, 17\, 24\, and 31\, April 7\, 14\, and 28\, May 5\, 12\, 19\, and 26 \n$10 suggested donation is greatly appreciated to support the program.
URL:https://bbu.org/event/concord-conservatory-open-bluegrass-jam/2024-03-28/
LOCATION:Concord Conservatory of Music\, 1317 Main Street\, Concord\, MA\, 01742\, United States
CATEGORIES:Jams and Picking Parties
ORGANIZER;CN="Concord Conservatory of Music":MAILTO:info@concordconservatory.org
END:VEVENT
END:VCALENDAR