BEGIN:VCALENDAR
VERSION:2.0
PRODID:-//Boston Bluegrass Union - ECPv6.15.20//NONSGML v1.0//EN
CALSCALE:GREGORIAN
METHOD:PUBLISH
X-ORIGINAL-URL:https://bbu.org
X-WR-CALDESC:Events for Boston Bluegrass Union
REFRESH-INTERVAL;VALUE=DURATION:PT1H
X-Robots-Tag:noindex
X-PUBLISHED-TTL:PT1H
BEGIN:VTIMEZONE
TZID:America/New_York
BEGIN:DAYLIGHT
TZOFFSETFROM:-0500
TZOFFSETTO:-0400
TZNAME:EDT
DTSTART:20230312T070000
END:DAYLIGHT
BEGIN:STANDARD
TZOFFSETFROM:-0400
TZOFFSETTO:-0500
TZNAME:EST
DTSTART:20231105T060000
END:STANDARD
BEGIN:DAYLIGHT
TZOFFSETFROM:-0500
TZOFFSETTO:-0400
TZNAME:EDT
DTSTART:20240310T070000
END:DAYLIGHT
BEGIN:STANDARD
TZOFFSETFROM:-0400
TZOFFSETTO:-0500
TZNAME:EST
DTSTART:20241103T060000
END:STANDARD
BEGIN:DAYLIGHT
TZOFFSETFROM:-0500
TZOFFSETTO:-0400
TZNAME:EDT
DTSTART:20250309T070000
END:DAYLIGHT
BEGIN:STANDARD
TZOFFSETFROM:-0400
TZOFFSETTO:-0500
TZNAME:EST
DTSTART:20251102T060000
END:STANDARD
END:VTIMEZONE
BEGIN:VEVENT
DTSTART;TZID=America/New_York:20240502T193000
DTEND;TZID=America/New_York:20240502T210000
DTSTAMP:20260422T093302
CREATED:20220118T203305Z
LAST-MODIFIED:20220118T203305Z
UID:10000996-1714678200-1714683600@bbu.org
SUMMARY:Concord Conservatory Open Bluegrass Jam
DESCRIPTION:The Open Bluegrass Jam is back! \nThursdays\, 7:30 – 9:00 pm in the sanctuary \nOpen to bluegrass players at all levels – guitar\, mandolin\, banjo\, fiddle\, dobro\, bass\, singers – join Max Anderson as he calls the tunes\, posts the charts\, and leads the group (at a manageable speed) through the great repertoire of tunes and songs from the bluegrass tradition. \nOpen to musicians and those who just want to listen and observe. \nJam dates: \nDecember 2\, 9\, and 16\, January 6\, 13\, 20\, and 27\, February 3\, 10\, and 17\, March 3\, 10\, 17\, 24\, and 31\, April 7\, 14\, and 28\, May 5\, 12\, 19\, and 26 \n$10 suggested donation is greatly appreciated to support the program.
URL:https://bbu.org/event/concord-conservatory-open-bluegrass-jam/2024-05-02/
LOCATION:Concord Conservatory of Music\, 1317 Main Street\, Concord\, MA\, 01742\, United States
CATEGORIES:Jams and Picking Parties
ORGANIZER;CN="Concord Conservatory of Music":MAILTO:info@concordconservatory.org
END:VEVENT
BEGIN:VEVENT
DTSTART;TZID=America/New_York:20240504T200000
DTEND;TZID=America/New_York:20240504T220000
DTSTAMP:20260422T093302
CREATED:20240406T225432Z
LAST-MODIFIED:20240406T225432Z
UID:10001085-1714852800-1714860000@bbu.org
SUMMARY:Tony Trischka's Earl Jam: A Tribute to Earl Scruggs
DESCRIPTION:“Once again\, Tony has set the world afire with his banjo and his storytelling skills…”— Bluegrass Today \nTony Trischka is considered the consummate banjo artist and perhaps the most influential banjo player in the roots music world. For more than 50 years\, his stylings have inspired a whole generation of bluegrass and acoustic musicians with the many voices he has brought to the instrument. His show honors the music of Earl Scruggs\, pioneer of the three-finger banjo style and one of the most important musicians in bluegrass\, or\, in Trischka’s opinion\, in any genre. \nTrischka recently came into possession of extremely rare recordings of jam sessions with Scruggs and John Hartford\, and he transcribed and recorded Scruggs’s note-for-note solos from a number of these\, including many songs that were never recorded. Together with his ace band — Michael Daves on vocals and guitar\, fiddler Alex Hargreaves and bassist Jared Engel — Trischka will trace the story of Scruggs from his childhood to his final years. “The depth of his genius becomes ever more apparent when I transcribe his solos\, which I’ve been doing my entire musical life and with renewed vigor\,” says Trischka. “Discovering new twists and turns in his playing is pure joy and\, in fact\, the inspiration for this tribute show and album.” The show debuted at Joe’s Pub in New York City which drew lots of interest\, including an appearance on the Grand Ole Opry\, a rarity for a banjo player these days. \n“Earl is my North Star\, a lifetime pathway. And I’m not alone\,” says Trischka\, a banjo innovator and educator who has influenced everyone from Béla Fleck to Steve Martin. “Through his music\, this shy kid from Flint Hill\, North Carolina went on to enrich countless thousands of lives. At the age of 13\, when I first heard 16 notes of Scruggs style banjo playing\, I put down my folk guitar and mercilessly pestered my parents to buy me a banjo. Once in my hands\, that 5-string became my obsession and has been for 60 years.”
URL:https://bbu.org/event/tony-trischkas-earl-jam-a-tribute-to-earl-scruggs/
LOCATION:Groton Hill Music Center\, 122 Old Ayer Road\, Groton\, MA\, 01450\, United States
CATEGORIES:Concerts
ATTACH;FMTTYPE=image/jpeg:https://bbu.org/wp-content/uploads/2024/04/TonyTrischkaPic.jpg
ORGANIZER;CN="Groton Hill Music Center":MAILTO:info@grotonhill.org
END:VEVENT
BEGIN:VEVENT
DTSTART;TZID=America/New_York:20240507T183000
DTEND;TZID=America/New_York:20240507T213000
DTSTAMP:20260422T093302
CREATED:20180405T131005Z
LAST-MODIFIED:20180405T131005Z
UID:10000631-1715106600-1715117400@bbu.org
SUMMARY:Tuftonboro Country\, Bluegrass and Gospel Jam session
DESCRIPTION:The weekly Tuftonboro Country\, Bluegrass & Gospel Music Jam Session continues at the historic Old White Church of Center Tuftonboro every Tuesday from 6:30 until about 9:30 pm.  Fans of country\, bluegrass and gospel music are invited to enjoy an evening of music. There is no admission charge\, a donation is requested to help cover operational expenses.  The Church is located on Route 109A\, just across from the Tuftonboro General Store & Post Office.  Everyone is invited to attend the jam session while enjoying cookies and a cup of coffee.  For more info call Joe at 569-3861.
URL:https://bbu.org/event/tuftonboro-country-bluegrass-gospel-jam-session/2024-05-07/
LOCATION:The Old White Church\, Center Tuftonboro\, NH
CATEGORIES:Jams and Picking Parties
ATTACH;FMTTYPE=image/jpeg:https://bbu.org/wp-content/uploads/2018/04/Tuftonboo-jam-session.jpg
END:VEVENT
BEGIN:VEVENT
DTSTART;TZID=America/New_York:20240509T193000
DTEND;TZID=America/New_York:20240509T210000
DTSTAMP:20260422T093302
CREATED:20220118T203305Z
LAST-MODIFIED:20220118T203305Z
UID:10000997-1715283000-1715288400@bbu.org
SUMMARY:Concord Conservatory Open Bluegrass Jam
DESCRIPTION:The Open Bluegrass Jam is back! \nThursdays\, 7:30 – 9:00 pm in the sanctuary \nOpen to bluegrass players at all levels – guitar\, mandolin\, banjo\, fiddle\, dobro\, bass\, singers – join Max Anderson as he calls the tunes\, posts the charts\, and leads the group (at a manageable speed) through the great repertoire of tunes and songs from the bluegrass tradition. \nOpen to musicians and those who just want to listen and observe. \nJam dates: \nDecember 2\, 9\, and 16\, January 6\, 13\, 20\, and 27\, February 3\, 10\, and 17\, March 3\, 10\, 17\, 24\, and 31\, April 7\, 14\, and 28\, May 5\, 12\, 19\, and 26 \n$10 suggested donation is greatly appreciated to support the program.
URL:https://bbu.org/event/concord-conservatory-open-bluegrass-jam/2024-05-09/
LOCATION:Concord Conservatory of Music\, 1317 Main Street\, Concord\, MA\, 01742\, United States
CATEGORIES:Jams and Picking Parties
ORGANIZER;CN="Concord Conservatory of Music":MAILTO:info@concordconservatory.org
END:VEVENT
BEGIN:VEVENT
DTSTART;TZID=America/New_York:20240514T183000
DTEND;TZID=America/New_York:20240514T213000
DTSTAMP:20260422T093302
CREATED:20180405T131005Z
LAST-MODIFIED:20180405T131005Z
UID:10000632-1715711400-1715722200@bbu.org
SUMMARY:Tuftonboro Country\, Bluegrass and Gospel Jam session
DESCRIPTION:The weekly Tuftonboro Country\, Bluegrass & Gospel Music Jam Session continues at the historic Old White Church of Center Tuftonboro every Tuesday from 6:30 until about 9:30 pm.  Fans of country\, bluegrass and gospel music are invited to enjoy an evening of music. There is no admission charge\, a donation is requested to help cover operational expenses.  The Church is located on Route 109A\, just across from the Tuftonboro General Store & Post Office.  Everyone is invited to attend the jam session while enjoying cookies and a cup of coffee.  For more info call Joe at 569-3861.
URL:https://bbu.org/event/tuftonboro-country-bluegrass-gospel-jam-session/2024-05-14/
LOCATION:The Old White Church\, Center Tuftonboro\, NH
CATEGORIES:Jams and Picking Parties
ATTACH;FMTTYPE=image/jpeg:https://bbu.org/wp-content/uploads/2018/04/Tuftonboo-jam-session.jpg
END:VEVENT
BEGIN:VEVENT
DTSTART;TZID=America/New_York:20240516T193000
DTEND;TZID=America/New_York:20240516T210000
DTSTAMP:20260422T093302
CREATED:20220118T203305Z
LAST-MODIFIED:20220118T203305Z
UID:10000998-1715887800-1715893200@bbu.org
SUMMARY:Concord Conservatory Open Bluegrass Jam
DESCRIPTION:The Open Bluegrass Jam is back! \nThursdays\, 7:30 – 9:00 pm in the sanctuary \nOpen to bluegrass players at all levels – guitar\, mandolin\, banjo\, fiddle\, dobro\, bass\, singers – join Max Anderson as he calls the tunes\, posts the charts\, and leads the group (at a manageable speed) through the great repertoire of tunes and songs from the bluegrass tradition. \nOpen to musicians and those who just want to listen and observe. \nJam dates: \nDecember 2\, 9\, and 16\, January 6\, 13\, 20\, and 27\, February 3\, 10\, and 17\, March 3\, 10\, 17\, 24\, and 31\, April 7\, 14\, and 28\, May 5\, 12\, 19\, and 26 \n$10 suggested donation is greatly appreciated to support the program.
URL:https://bbu.org/event/concord-conservatory-open-bluegrass-jam/2024-05-16/
LOCATION:Concord Conservatory of Music\, 1317 Main Street\, Concord\, MA\, 01742\, United States
CATEGORIES:Jams and Picking Parties
ORGANIZER;CN="Concord Conservatory of Music":MAILTO:info@concordconservatory.org
END:VEVENT
BEGIN:VEVENT
DTSTART;TZID=America/New_York:20240517T200000
DTEND;TZID=America/New_York:20240517T220000
DTSTAMP:20260422T093302
CREATED:20240312T232805Z
LAST-MODIFIED:20240312T232805Z
UID:10001081-1715976000-1715983200@bbu.org
SUMMARY:Kaïa Kater
DESCRIPTION:“You want some authenticity in your folk music or bluegrass – I give you Kaïa Kater.” – No Depression\nMontreal-born Grenadian-Canadian Kaïa Kater’s jazz-fueled voice and deft songcraft have garnered acclaim from NPR’s Tiny Desk\, The Guardian\, Rolling Stone and No Depression. Kaïa draws on influences rooted in Quebec\, the Caribbean\, and Appalachia\, all of which reflect the diversity of her background; her family’s deep ties to the Canadian folk music scene; her college years spent soaking up Appalachian music in West Virginia and her father’s experience growing up in Grenada\, arriving in Canada in 1986\, after the U.S. invasion. \nKaïa released her first EP Old Soul (2013) when she was just out of high school. Since then\, she’s gone on to release three more albums\, Sorrow Bound (2015)\, Nine Pin (2016) and Grenades (2018).  For the JUNO-nominated and Polaris Music Prize long-listed Grenades\, Kaia leaned into a wide array of sounds and styles in order to convey a broad range of emotions and topics\, most notably her Caribbean ancestry and her father’s experience as a refugee in Canada.  In 2020\, Kaïa took part in the Slaight Music Residency at the Canadian Film Center\, released a new single\, and wrote original music for The Porter (BET+ 2022).
URL:https://bbu.org/event/kaia-kater/
LOCATION:Groton Hill Music Center\, 122 Old Ayer Road\, Groton\, MA\, 01450\, United States
ATTACH;FMTTYPE=image/jpeg:https://bbu.org/wp-content/uploads/2024/03/Kaia-Kater-Headshot.jpg
ORGANIZER;CN="Groton Hill Music Center":MAILTO:info@grotonhill.org
END:VEVENT
BEGIN:VEVENT
DTSTART;TZID=America/New_York:20240521T183000
DTEND;TZID=America/New_York:20240521T213000
DTSTAMP:20260422T093302
CREATED:20180405T131005Z
LAST-MODIFIED:20180405T131005Z
UID:10000633-1716316200-1716327000@bbu.org
SUMMARY:Tuftonboro Country\, Bluegrass and Gospel Jam session
DESCRIPTION:The weekly Tuftonboro Country\, Bluegrass & Gospel Music Jam Session continues at the historic Old White Church of Center Tuftonboro every Tuesday from 6:30 until about 9:30 pm.  Fans of country\, bluegrass and gospel music are invited to enjoy an evening of music. There is no admission charge\, a donation is requested to help cover operational expenses.  The Church is located on Route 109A\, just across from the Tuftonboro General Store & Post Office.  Everyone is invited to attend the jam session while enjoying cookies and a cup of coffee.  For more info call Joe at 569-3861.
URL:https://bbu.org/event/tuftonboro-country-bluegrass-gospel-jam-session/2024-05-21/
LOCATION:The Old White Church\, Center Tuftonboro\, NH
CATEGORIES:Jams and Picking Parties
ATTACH;FMTTYPE=image/jpeg:https://bbu.org/wp-content/uploads/2018/04/Tuftonboo-jam-session.jpg
END:VEVENT
BEGIN:VEVENT
DTSTART;TZID=America/New_York:20240523T193000
DTEND;TZID=America/New_York:20240523T210000
DTSTAMP:20260422T093302
CREATED:20220118T203305Z
LAST-MODIFIED:20220118T203305Z
UID:10000999-1716492600-1716498000@bbu.org
SUMMARY:Concord Conservatory Open Bluegrass Jam
DESCRIPTION:The Open Bluegrass Jam is back! \nThursdays\, 7:30 – 9:00 pm in the sanctuary \nOpen to bluegrass players at all levels – guitar\, mandolin\, banjo\, fiddle\, dobro\, bass\, singers – join Max Anderson as he calls the tunes\, posts the charts\, and leads the group (at a manageable speed) through the great repertoire of tunes and songs from the bluegrass tradition. \nOpen to musicians and those who just want to listen and observe. \nJam dates: \nDecember 2\, 9\, and 16\, January 6\, 13\, 20\, and 27\, February 3\, 10\, and 17\, March 3\, 10\, 17\, 24\, and 31\, April 7\, 14\, and 28\, May 5\, 12\, 19\, and 26 \n$10 suggested donation is greatly appreciated to support the program.
URL:https://bbu.org/event/concord-conservatory-open-bluegrass-jam/2024-05-23/
LOCATION:Concord Conservatory of Music\, 1317 Main Street\, Concord\, MA\, 01742\, United States
CATEGORIES:Jams and Picking Parties
ORGANIZER;CN="Concord Conservatory of Music":MAILTO:info@concordconservatory.org
END:VEVENT
BEGIN:VEVENT
DTSTART;TZID=America/New_York:20240528T183000
DTEND;TZID=America/New_York:20240528T213000
DTSTAMP:20260422T093302
CREATED:20180405T131005Z
LAST-MODIFIED:20180405T131005Z
UID:10000634-1716921000-1716931800@bbu.org
SUMMARY:Tuftonboro Country\, Bluegrass and Gospel Jam session
DESCRIPTION:The weekly Tuftonboro Country\, Bluegrass & Gospel Music Jam Session continues at the historic Old White Church of Center Tuftonboro every Tuesday from 6:30 until about 9:30 pm.  Fans of country\, bluegrass and gospel music are invited to enjoy an evening of music. There is no admission charge\, a donation is requested to help cover operational expenses.  The Church is located on Route 109A\, just across from the Tuftonboro General Store & Post Office.  Everyone is invited to attend the jam session while enjoying cookies and a cup of coffee.  For more info call Joe at 569-3861.
URL:https://bbu.org/event/tuftonboro-country-bluegrass-gospel-jam-session/2024-05-28/
LOCATION:The Old White Church\, Center Tuftonboro\, NH
CATEGORIES:Jams and Picking Parties
ATTACH;FMTTYPE=image/jpeg:https://bbu.org/wp-content/uploads/2018/04/Tuftonboo-jam-session.jpg
END:VEVENT
BEGIN:VEVENT
DTSTART;TZID=America/New_York:20240530T193000
DTEND;TZID=America/New_York:20240530T210000
DTSTAMP:20260422T093302
CREATED:20220118T203305Z
LAST-MODIFIED:20220118T203305Z
UID:10001000-1717097400-1717102800@bbu.org
SUMMARY:Concord Conservatory Open Bluegrass Jam
DESCRIPTION:The Open Bluegrass Jam is back! \nThursdays\, 7:30 – 9:00 pm in the sanctuary \nOpen to bluegrass players at all levels – guitar\, mandolin\, banjo\, fiddle\, dobro\, bass\, singers – join Max Anderson as he calls the tunes\, posts the charts\, and leads the group (at a manageable speed) through the great repertoire of tunes and songs from the bluegrass tradition. \nOpen to musicians and those who just want to listen and observe. \nJam dates: \nDecember 2\, 9\, and 16\, January 6\, 13\, 20\, and 27\, February 3\, 10\, and 17\, March 3\, 10\, 17\, 24\, and 31\, April 7\, 14\, and 28\, May 5\, 12\, 19\, and 26 \n$10 suggested donation is greatly appreciated to support the program.
URL:https://bbu.org/event/concord-conservatory-open-bluegrass-jam/2024-05-30/
LOCATION:Concord Conservatory of Music\, 1317 Main Street\, Concord\, MA\, 01742\, United States
CATEGORIES:Jams and Picking Parties
ORGANIZER;CN="Concord Conservatory of Music":MAILTO:info@concordconservatory.org
END:VEVENT
END:VCALENDAR