BEGIN:VCALENDAR
VERSION:2.0
PRODID:-//Boston Bluegrass Union - ECPv6.15.18//NONSGML v1.0//EN
CALSCALE:GREGORIAN
METHOD:PUBLISH
X-WR-CALNAME:Boston Bluegrass Union
X-ORIGINAL-URL:https://bbu.org
X-WR-CALDESC:Events for Boston Bluegrass Union
REFRESH-INTERVAL;VALUE=DURATION:PT1H
X-Robots-Tag:noindex
X-PUBLISHED-TTL:PT1H
BEGIN:VTIMEZONE
TZID:America/New_York
BEGIN:DAYLIGHT
TZOFFSETFROM:-0500
TZOFFSETTO:-0400
TZNAME:EDT
DTSTART:20250309T070000
END:DAYLIGHT
BEGIN:STANDARD
TZOFFSETFROM:-0400
TZOFFSETTO:-0500
TZNAME:EST
DTSTART:20251102T060000
END:STANDARD
BEGIN:DAYLIGHT
TZOFFSETFROM:-0500
TZOFFSETTO:-0400
TZNAME:EDT
DTSTART:20260308T070000
END:DAYLIGHT
BEGIN:STANDARD
TZOFFSETFROM:-0400
TZOFFSETTO:-0500
TZNAME:EST
DTSTART:20261101T060000
END:STANDARD
BEGIN:DAYLIGHT
TZOFFSETFROM:-0500
TZOFFSETTO:-0400
TZNAME:EDT
DTSTART:20270314T070000
END:DAYLIGHT
BEGIN:STANDARD
TZOFFSETFROM:-0400
TZOFFSETTO:-0500
TZNAME:EST
DTSTART:20271107T060000
END:STANDARD
END:VTIMEZONE
BEGIN:VEVENT
DTSTART;TZID=America/New_York:20260505T180000
DTEND;TZID=America/New_York:20260505T203000
DTSTAMP:20260420T214235
CREATED:20251218T170303Z
LAST-MODIFIED:20251218T170303Z
UID:10009361-1778004000-1778013000@bbu.org
SUMMARY:Old Time Jam at The Word Barn
DESCRIPTION:Old Time Jam hosted by Betsy Green first Tuesday of the month\, except August is the first Sunday.\n\n\n\nCome be part of The Word Barn’s monthly old-time jam session!\n\n\n\nAll levels and all instruments are welcome.\n\n\n\nBring your banjo\, fiddle\, guitar\, mandolin – or whatever old-time acoustic instrument you have – and spend a few hours playing along with fellow musicians of all skill levels and backgrounds.\n\n\n\nHeld every third Tuesday of the month. On warm evenings\, we’ll circle up in the Meadow around the campfire; on cooler evenings\, we’ll be cozy inside The Word Barn itself.\n\n\n\nDon’t play an instrument? Come on over\, kick back\, and enjoy the tunes!\n\n\n\nFree admission for all – donations accepted. Registration requested (space is limited).\n\n\n\nAfter catching up\, sharing a pint (or two)\, and choosing a key\, the music will begin\, with a last call for tunes coming around 8:45pm.\n\n\n\nSessions are led by uber talented fiddler\, Betsy Green.\n\n\n\n**Please note and watch the calendar – Old-Time Jam session dates are subject to shift from the 3rd Tuesday as needed due to holidays and conflicts.\n\n\n\nSpecial thanks to the NH State Council on the Arts. Their support allowed the creation of this program\, and supports its continuation.
URL:https://bbu.org/event/old-time-jam-at-the-word-barn/2026-05-05/
LOCATION:The Word Barn\, 66 Newfields Road\, Exeter\, New Hampshire\, 03833\, United States
CATEGORIES:Jams and Picking Parties
END:VEVENT
BEGIN:VEVENT
DTSTART;TZID=America/New_York:20260602T180000
DTEND;TZID=America/New_York:20260602T203000
DTSTAMP:20260420T214235
CREATED:20251218T170303Z
LAST-MODIFIED:20251218T170303Z
UID:10009362-1780423200-1780432200@bbu.org
SUMMARY:Old Time Jam at The Word Barn
DESCRIPTION:Old Time Jam hosted by Betsy Green first Tuesday of the month\, except August is the first Sunday.\n\n\n\nCome be part of The Word Barn’s monthly old-time jam session!\n\n\n\nAll levels and all instruments are welcome.\n\n\n\nBring your banjo\, fiddle\, guitar\, mandolin – or whatever old-time acoustic instrument you have – and spend a few hours playing along with fellow musicians of all skill levels and backgrounds.\n\n\n\nHeld every third Tuesday of the month. On warm evenings\, we’ll circle up in the Meadow around the campfire; on cooler evenings\, we’ll be cozy inside The Word Barn itself.\n\n\n\nDon’t play an instrument? Come on over\, kick back\, and enjoy the tunes!\n\n\n\nFree admission for all – donations accepted. Registration requested (space is limited).\n\n\n\nAfter catching up\, sharing a pint (or two)\, and choosing a key\, the music will begin\, with a last call for tunes coming around 8:45pm.\n\n\n\nSessions are led by uber talented fiddler\, Betsy Green.\n\n\n\n**Please note and watch the calendar – Old-Time Jam session dates are subject to shift from the 3rd Tuesday as needed due to holidays and conflicts.\n\n\n\nSpecial thanks to the NH State Council on the Arts. Their support allowed the creation of this program\, and supports its continuation.
URL:https://bbu.org/event/old-time-jam-at-the-word-barn/2026-06-02/
LOCATION:The Word Barn\, 66 Newfields Road\, Exeter\, New Hampshire\, 03833\, United States
CATEGORIES:Jams and Picking Parties
END:VEVENT
BEGIN:VEVENT
DTSTART;TZID=America/New_York:20260707T180000
DTEND;TZID=America/New_York:20260707T203000
DTSTAMP:20260420T214235
CREATED:20251218T170303Z
LAST-MODIFIED:20251218T170303Z
UID:10009363-1783447200-1783456200@bbu.org
SUMMARY:Old Time Jam at The Word Barn
DESCRIPTION:Old Time Jam hosted by Betsy Green first Tuesday of the month\, except August is the first Sunday.\n\n\n\nCome be part of The Word Barn’s monthly old-time jam session!\n\n\n\nAll levels and all instruments are welcome.\n\n\n\nBring your banjo\, fiddle\, guitar\, mandolin – or whatever old-time acoustic instrument you have – and spend a few hours playing along with fellow musicians of all skill levels and backgrounds.\n\n\n\nHeld every third Tuesday of the month. On warm evenings\, we’ll circle up in the Meadow around the campfire; on cooler evenings\, we’ll be cozy inside The Word Barn itself.\n\n\n\nDon’t play an instrument? Come on over\, kick back\, and enjoy the tunes!\n\n\n\nFree admission for all – donations accepted. Registration requested (space is limited).\n\n\n\nAfter catching up\, sharing a pint (or two)\, and choosing a key\, the music will begin\, with a last call for tunes coming around 8:45pm.\n\n\n\nSessions are led by uber talented fiddler\, Betsy Green.\n\n\n\n**Please note and watch the calendar – Old-Time Jam session dates are subject to shift from the 3rd Tuesday as needed due to holidays and conflicts.\n\n\n\nSpecial thanks to the NH State Council on the Arts. Their support allowed the creation of this program\, and supports its continuation.
URL:https://bbu.org/event/old-time-jam-at-the-word-barn/2026-07-07/
LOCATION:The Word Barn\, 66 Newfields Road\, Exeter\, New Hampshire\, 03833\, United States
CATEGORIES:Jams and Picking Parties
END:VEVENT
BEGIN:VEVENT
DTSTART;TZID=America/New_York:20260802T180000
DTEND;TZID=America/New_York:20260802T203000
DTSTAMP:20260420T214235
CREATED:20251218T170303Z
LAST-MODIFIED:20251218T170303Z
UID:10009364-1785693600-1785702600@bbu.org
SUMMARY:Old Time Jam at The Word Barn
DESCRIPTION:Old Time Jam hosted by Betsy Green first Tuesday of the month\, except August is the first Sunday.\n\n\n\nCome be part of The Word Barn’s monthly old-time jam session!\n\n\n\nAll levels and all instruments are welcome.\n\n\n\nBring your banjo\, fiddle\, guitar\, mandolin – or whatever old-time acoustic instrument you have – and spend a few hours playing along with fellow musicians of all skill levels and backgrounds.\n\n\n\nHeld every third Tuesday of the month. On warm evenings\, we’ll circle up in the Meadow around the campfire; on cooler evenings\, we’ll be cozy inside The Word Barn itself.\n\n\n\nDon’t play an instrument? Come on over\, kick back\, and enjoy the tunes!\n\n\n\nFree admission for all – donations accepted. Registration requested (space is limited).\n\n\n\nAfter catching up\, sharing a pint (or two)\, and choosing a key\, the music will begin\, with a last call for tunes coming around 8:45pm.\n\n\n\nSessions are led by uber talented fiddler\, Betsy Green.\n\n\n\n**Please note and watch the calendar – Old-Time Jam session dates are subject to shift from the 3rd Tuesday as needed due to holidays and conflicts.\n\n\n\nSpecial thanks to the NH State Council on the Arts. Their support allowed the creation of this program\, and supports its continuation.
URL:https://bbu.org/event/old-time-jam-at-the-word-barn/2026-08-02/
LOCATION:The Word Barn\, 66 Newfields Road\, Exeter\, New Hampshire\, 03833\, United States
CATEGORIES:Jams and Picking Parties
END:VEVENT
BEGIN:VEVENT
DTSTART;TZID=America/New_York:20260901T180000
DTEND;TZID=America/New_York:20260901T203000
DTSTAMP:20260420T214235
CREATED:20251218T170303Z
LAST-MODIFIED:20251218T170303Z
UID:10009365-1788285600-1788294600@bbu.org
SUMMARY:Old Time Jam at The Word Barn
DESCRIPTION:Old Time Jam hosted by Betsy Green first Tuesday of the month\, except August is the first Sunday.\n\n\n\nCome be part of The Word Barn’s monthly old-time jam session!\n\n\n\nAll levels and all instruments are welcome.\n\n\n\nBring your banjo\, fiddle\, guitar\, mandolin – or whatever old-time acoustic instrument you have – and spend a few hours playing along with fellow musicians of all skill levels and backgrounds.\n\n\n\nHeld every third Tuesday of the month. On warm evenings\, we’ll circle up in the Meadow around the campfire; on cooler evenings\, we’ll be cozy inside The Word Barn itself.\n\n\n\nDon’t play an instrument? Come on over\, kick back\, and enjoy the tunes!\n\n\n\nFree admission for all – donations accepted. Registration requested (space is limited).\n\n\n\nAfter catching up\, sharing a pint (or two)\, and choosing a key\, the music will begin\, with a last call for tunes coming around 8:45pm.\n\n\n\nSessions are led by uber talented fiddler\, Betsy Green.\n\n\n\n**Please note and watch the calendar – Old-Time Jam session dates are subject to shift from the 3rd Tuesday as needed due to holidays and conflicts.\n\n\n\nSpecial thanks to the NH State Council on the Arts. Their support allowed the creation of this program\, and supports its continuation.
URL:https://bbu.org/event/old-time-jam-at-the-word-barn/2026-09-01/
LOCATION:The Word Barn\, 66 Newfields Road\, Exeter\, New Hampshire\, 03833\, United States
CATEGORIES:Jams and Picking Parties
END:VEVENT
BEGIN:VEVENT
DTSTART;TZID=America/New_York:20261006T180000
DTEND;TZID=America/New_York:20261006T203000
DTSTAMP:20260420T214235
CREATED:20251218T170303Z
LAST-MODIFIED:20251218T170303Z
UID:10009366-1791309600-1791318600@bbu.org
SUMMARY:Old Time Jam at The Word Barn
DESCRIPTION:Old Time Jam hosted by Betsy Green first Tuesday of the month\, except August is the first Sunday.\n\n\n\nCome be part of The Word Barn’s monthly old-time jam session!\n\n\n\nAll levels and all instruments are welcome.\n\n\n\nBring your banjo\, fiddle\, guitar\, mandolin – or whatever old-time acoustic instrument you have – and spend a few hours playing along with fellow musicians of all skill levels and backgrounds.\n\n\n\nHeld every third Tuesday of the month. On warm evenings\, we’ll circle up in the Meadow around the campfire; on cooler evenings\, we’ll be cozy inside The Word Barn itself.\n\n\n\nDon’t play an instrument? Come on over\, kick back\, and enjoy the tunes!\n\n\n\nFree admission for all – donations accepted. Registration requested (space is limited).\n\n\n\nAfter catching up\, sharing a pint (or two)\, and choosing a key\, the music will begin\, with a last call for tunes coming around 8:45pm.\n\n\n\nSessions are led by uber talented fiddler\, Betsy Green.\n\n\n\n**Please note and watch the calendar – Old-Time Jam session dates are subject to shift from the 3rd Tuesday as needed due to holidays and conflicts.\n\n\n\nSpecial thanks to the NH State Council on the Arts. Their support allowed the creation of this program\, and supports its continuation.
URL:https://bbu.org/event/old-time-jam-at-the-word-barn/2026-10-06/
LOCATION:The Word Barn\, 66 Newfields Road\, Exeter\, New Hampshire\, 03833\, United States
CATEGORIES:Jams and Picking Parties
END:VEVENT
BEGIN:VEVENT
DTSTART;TZID=America/New_York:20261103T180000
DTEND;TZID=America/New_York:20261103T203000
DTSTAMP:20260420T214235
CREATED:20251218T170303Z
LAST-MODIFIED:20251218T170303Z
UID:10009367-1793728800-1793737800@bbu.org
SUMMARY:Old Time Jam at The Word Barn
DESCRIPTION:Old Time Jam hosted by Betsy Green first Tuesday of the month\, except August is the first Sunday.\n\n\n\nCome be part of The Word Barn’s monthly old-time jam session!\n\n\n\nAll levels and all instruments are welcome.\n\n\n\nBring your banjo\, fiddle\, guitar\, mandolin – or whatever old-time acoustic instrument you have – and spend a few hours playing along with fellow musicians of all skill levels and backgrounds.\n\n\n\nHeld every third Tuesday of the month. On warm evenings\, we’ll circle up in the Meadow around the campfire; on cooler evenings\, we’ll be cozy inside The Word Barn itself.\n\n\n\nDon’t play an instrument? Come on over\, kick back\, and enjoy the tunes!\n\n\n\nFree admission for all – donations accepted. Registration requested (space is limited).\n\n\n\nAfter catching up\, sharing a pint (or two)\, and choosing a key\, the music will begin\, with a last call for tunes coming around 8:45pm.\n\n\n\nSessions are led by uber talented fiddler\, Betsy Green.\n\n\n\n**Please note and watch the calendar – Old-Time Jam session dates are subject to shift from the 3rd Tuesday as needed due to holidays and conflicts.\n\n\n\nSpecial thanks to the NH State Council on the Arts. Their support allowed the creation of this program\, and supports its continuation.
URL:https://bbu.org/event/old-time-jam-at-the-word-barn/2026-11-03/
LOCATION:The Word Barn\, 66 Newfields Road\, Exeter\, New Hampshire\, 03833\, United States
CATEGORIES:Jams and Picking Parties
END:VEVENT
BEGIN:VEVENT
DTSTART;TZID=America/New_York:20261201T180000
DTEND;TZID=America/New_York:20261201T203000
DTSTAMP:20260420T214235
CREATED:20251218T170303Z
LAST-MODIFIED:20251218T170303Z
UID:10009368-1796148000-1796157000@bbu.org
SUMMARY:Old Time Jam at The Word Barn
DESCRIPTION:Old Time Jam hosted by Betsy Green first Tuesday of the month\, except August is the first Sunday.\n\n\n\nCome be part of The Word Barn’s monthly old-time jam session!\n\n\n\nAll levels and all instruments are welcome.\n\n\n\nBring your banjo\, fiddle\, guitar\, mandolin – or whatever old-time acoustic instrument you have – and spend a few hours playing along with fellow musicians of all skill levels and backgrounds.\n\n\n\nHeld every third Tuesday of the month. On warm evenings\, we’ll circle up in the Meadow around the campfire; on cooler evenings\, we’ll be cozy inside The Word Barn itself.\n\n\n\nDon’t play an instrument? Come on over\, kick back\, and enjoy the tunes!\n\n\n\nFree admission for all – donations accepted. Registration requested (space is limited).\n\n\n\nAfter catching up\, sharing a pint (or two)\, and choosing a key\, the music will begin\, with a last call for tunes coming around 8:45pm.\n\n\n\nSessions are led by uber talented fiddler\, Betsy Green.\n\n\n\n**Please note and watch the calendar – Old-Time Jam session dates are subject to shift from the 3rd Tuesday as needed due to holidays and conflicts.\n\n\n\nSpecial thanks to the NH State Council on the Arts. Their support allowed the creation of this program\, and supports its continuation.
URL:https://bbu.org/event/old-time-jam-at-the-word-barn/2026-12-01/
LOCATION:The Word Barn\, 66 Newfields Road\, Exeter\, New Hampshire\, 03833\, United States
CATEGORIES:Jams and Picking Parties
END:VEVENT
END:VCALENDAR