BEGIN:VCALENDAR
VERSION:2.0
PRODID:-//Boston Bluegrass Union - ECPv6.15.20//NONSGML v1.0//EN
CALSCALE:GREGORIAN
METHOD:PUBLISH
X-WR-CALNAME:Boston Bluegrass Union
X-ORIGINAL-URL:https://bbu.org
X-WR-CALDESC:Events for Boston Bluegrass Union
REFRESH-INTERVAL;VALUE=DURATION:PT1H
X-Robots-Tag:noindex
X-PUBLISHED-TTL:PT1H
BEGIN:VTIMEZONE
TZID:America/New_York
BEGIN:DAYLIGHT
TZOFFSETFROM:-0500
TZOFFSETTO:-0400
TZNAME:EDT
DTSTART:20250309T070000
END:DAYLIGHT
BEGIN:STANDARD
TZOFFSETFROM:-0400
TZOFFSETTO:-0500
TZNAME:EST
DTSTART:20251102T060000
END:STANDARD
BEGIN:DAYLIGHT
TZOFFSETFROM:-0500
TZOFFSETTO:-0400
TZNAME:EDT
DTSTART:20260308T070000
END:DAYLIGHT
BEGIN:STANDARD
TZOFFSETFROM:-0400
TZOFFSETTO:-0500
TZNAME:EST
DTSTART:20261101T060000
END:STANDARD
BEGIN:DAYLIGHT
TZOFFSETFROM:-0500
TZOFFSETTO:-0400
TZNAME:EDT
DTSTART:20270314T070000
END:DAYLIGHT
BEGIN:STANDARD
TZOFFSETFROM:-0400
TZOFFSETTO:-0500
TZNAME:EST
DTSTART:20271107T060000
END:STANDARD
BEGIN:DAYLIGHT
TZOFFSETFROM:-0500
TZOFFSETTO:-0400
TZNAME:EDT
DTSTART:20280312T070000
END:DAYLIGHT
BEGIN:STANDARD
TZOFFSETFROM:-0400
TZOFFSETTO:-0500
TZNAME:EST
DTSTART:20281105T060000
END:STANDARD
END:VTIMEZONE
BEGIN:VEVENT
DTSTART;TZID=America/New_York:20260919T140000
DTEND;TZID=America/New_York:20260919T170000
DTSTAMP:20260425T173733
CREATED:20260217T000525Z
LAST-MODIFIED:20260217T000525Z
UID:10010374-1789826400-1789837200@bbu.org
SUMMARY:Burren Bluegrass Jam
DESCRIPTION:Long-running Bluegrass Jam hosted by Frank Drake. All levels welcome\, but not a slow jam\, per se. \nUsually takes the summer off for festivals\, etc. Contact Frank’s web site to get on the mailing list.
URL:https://bbu.org/event/burren-bluegrass-jam/2026-09-19/
LOCATION:The Burren\, 247 Elm Street\, Somerville\, MA\, 02144\, United States
CATEGORIES:Jams and Picking Parties
ORGANIZER;CN="Frank Drake":MAILTO: frankdrake@gmail.com
GEO:42.3953636;-71.1217436
X-APPLE-STRUCTURED-LOCATION;VALUE=URI;X-ADDRESS=The Burren 247 Elm Street Somerville MA 02144 United States;X-APPLE-RADIUS=500;X-TITLE=247 Elm Street:geo:-71.1217436,42.3953636
END:VEVENT
BEGIN:VEVENT
DTSTART;TZID=America/New_York:20260926T140000
DTEND;TZID=America/New_York:20260926T170000
DTSTAMP:20260425T173733
CREATED:20260217T000525Z
LAST-MODIFIED:20260217T000525Z
UID:10010375-1790431200-1790442000@bbu.org
SUMMARY:Burren Bluegrass Jam
DESCRIPTION:Long-running Bluegrass Jam hosted by Frank Drake. All levels welcome\, but not a slow jam\, per se. \nUsually takes the summer off for festivals\, etc. Contact Frank’s web site to get on the mailing list.
URL:https://bbu.org/event/burren-bluegrass-jam/2026-09-26/
LOCATION:The Burren\, 247 Elm Street\, Somerville\, MA\, 02144\, United States
CATEGORIES:Jams and Picking Parties
ORGANIZER;CN="Frank Drake":MAILTO: frankdrake@gmail.com
GEO:42.3953636;-71.1217436
X-APPLE-STRUCTURED-LOCATION;VALUE=URI;X-ADDRESS=The Burren 247 Elm Street Somerville MA 02144 United States;X-APPLE-RADIUS=500;X-TITLE=247 Elm Street:geo:-71.1217436,42.3953636
END:VEVENT
BEGIN:VEVENT
DTSTART;TZID=America/New_York:20261003T140000
DTEND;TZID=America/New_York:20261003T170000
DTSTAMP:20260425T173733
CREATED:20260217T000525Z
LAST-MODIFIED:20260217T000525Z
UID:10010376-1791036000-1791046800@bbu.org
SUMMARY:Burren Bluegrass Jam
DESCRIPTION:Long-running Bluegrass Jam hosted by Frank Drake. All levels welcome\, but not a slow jam\, per se. \nUsually takes the summer off for festivals\, etc. Contact Frank’s web site to get on the mailing list.
URL:https://bbu.org/event/burren-bluegrass-jam/2026-10-03/
LOCATION:The Burren\, 247 Elm Street\, Somerville\, MA\, 02144\, United States
CATEGORIES:Jams and Picking Parties
ORGANIZER;CN="Frank Drake":MAILTO: frankdrake@gmail.com
GEO:42.3953636;-71.1217436
X-APPLE-STRUCTURED-LOCATION;VALUE=URI;X-ADDRESS=The Burren 247 Elm Street Somerville MA 02144 United States;X-APPLE-RADIUS=500;X-TITLE=247 Elm Street:geo:-71.1217436,42.3953636
END:VEVENT
BEGIN:VEVENT
DTSTART;TZID=America/New_York:20261010T140000
DTEND;TZID=America/New_York:20261010T170000
DTSTAMP:20260425T173733
CREATED:20260217T000525Z
LAST-MODIFIED:20260217T000525Z
UID:10010377-1791640800-1791651600@bbu.org
SUMMARY:Burren Bluegrass Jam
DESCRIPTION:Long-running Bluegrass Jam hosted by Frank Drake. All levels welcome\, but not a slow jam\, per se. \nUsually takes the summer off for festivals\, etc. Contact Frank’s web site to get on the mailing list.
URL:https://bbu.org/event/burren-bluegrass-jam/2026-10-10/
LOCATION:The Burren\, 247 Elm Street\, Somerville\, MA\, 02144\, United States
CATEGORIES:Jams and Picking Parties
ORGANIZER;CN="Frank Drake":MAILTO: frankdrake@gmail.com
GEO:42.3953636;-71.1217436
X-APPLE-STRUCTURED-LOCATION;VALUE=URI;X-ADDRESS=The Burren 247 Elm Street Somerville MA 02144 United States;X-APPLE-RADIUS=500;X-TITLE=247 Elm Street:geo:-71.1217436,42.3953636
END:VEVENT
BEGIN:VEVENT
DTSTART;TZID=America/New_York:20261017T140000
DTEND;TZID=America/New_York:20261017T170000
DTSTAMP:20260425T173733
CREATED:20260217T000525Z
LAST-MODIFIED:20260217T000525Z
UID:10010378-1792245600-1792256400@bbu.org
SUMMARY:Burren Bluegrass Jam
DESCRIPTION:Long-running Bluegrass Jam hosted by Frank Drake. All levels welcome\, but not a slow jam\, per se. \nUsually takes the summer off for festivals\, etc. Contact Frank’s web site to get on the mailing list.
URL:https://bbu.org/event/burren-bluegrass-jam/2026-10-17/
LOCATION:The Burren\, 247 Elm Street\, Somerville\, MA\, 02144\, United States
CATEGORIES:Jams and Picking Parties
ORGANIZER;CN="Frank Drake":MAILTO: frankdrake@gmail.com
GEO:42.3953636;-71.1217436
X-APPLE-STRUCTURED-LOCATION;VALUE=URI;X-ADDRESS=The Burren 247 Elm Street Somerville MA 02144 United States;X-APPLE-RADIUS=500;X-TITLE=247 Elm Street:geo:-71.1217436,42.3953636
END:VEVENT
BEGIN:VEVENT
DTSTART;TZID=America/New_York:20261024T140000
DTEND;TZID=America/New_York:20261024T170000
DTSTAMP:20260425T173733
CREATED:20260217T000525Z
LAST-MODIFIED:20260217T000525Z
UID:10010379-1792850400-1792861200@bbu.org
SUMMARY:Burren Bluegrass Jam
DESCRIPTION:Long-running Bluegrass Jam hosted by Frank Drake. All levels welcome\, but not a slow jam\, per se. \nUsually takes the summer off for festivals\, etc. Contact Frank’s web site to get on the mailing list.
URL:https://bbu.org/event/burren-bluegrass-jam/2026-10-24/
LOCATION:The Burren\, 247 Elm Street\, Somerville\, MA\, 02144\, United States
CATEGORIES:Jams and Picking Parties
ORGANIZER;CN="Frank Drake":MAILTO: frankdrake@gmail.com
GEO:42.3953636;-71.1217436
X-APPLE-STRUCTURED-LOCATION;VALUE=URI;X-ADDRESS=The Burren 247 Elm Street Somerville MA 02144 United States;X-APPLE-RADIUS=500;X-TITLE=247 Elm Street:geo:-71.1217436,42.3953636
END:VEVENT
BEGIN:VEVENT
DTSTART;TZID=America/New_York:20261031T140000
DTEND;TZID=America/New_York:20261031T170000
DTSTAMP:20260425T173733
CREATED:20260217T000525Z
LAST-MODIFIED:20260217T000525Z
UID:10010380-1793455200-1793466000@bbu.org
SUMMARY:Burren Bluegrass Jam
DESCRIPTION:Long-running Bluegrass Jam hosted by Frank Drake. All levels welcome\, but not a slow jam\, per se. \nUsually takes the summer off for festivals\, etc. Contact Frank’s web site to get on the mailing list.
URL:https://bbu.org/event/burren-bluegrass-jam/2026-10-31/
LOCATION:The Burren\, 247 Elm Street\, Somerville\, MA\, 02144\, United States
CATEGORIES:Jams and Picking Parties
ORGANIZER;CN="Frank Drake":MAILTO: frankdrake@gmail.com
GEO:42.3953636;-71.1217436
X-APPLE-STRUCTURED-LOCATION;VALUE=URI;X-ADDRESS=The Burren 247 Elm Street Somerville MA 02144 United States;X-APPLE-RADIUS=500;X-TITLE=247 Elm Street:geo:-71.1217436,42.3953636
END:VEVENT
BEGIN:VEVENT
DTSTART;TZID=America/New_York:20261107T140000
DTEND;TZID=America/New_York:20261107T170000
DTSTAMP:20260425T173733
CREATED:20260217T000525Z
LAST-MODIFIED:20260217T000525Z
UID:10010381-1794060000-1794070800@bbu.org
SUMMARY:Burren Bluegrass Jam
DESCRIPTION:Long-running Bluegrass Jam hosted by Frank Drake. All levels welcome\, but not a slow jam\, per se. \nUsually takes the summer off for festivals\, etc. Contact Frank’s web site to get on the mailing list.
URL:https://bbu.org/event/burren-bluegrass-jam/2026-11-07/
LOCATION:The Burren\, 247 Elm Street\, Somerville\, MA\, 02144\, United States
CATEGORIES:Jams and Picking Parties
ORGANIZER;CN="Frank Drake":MAILTO: frankdrake@gmail.com
GEO:42.3953636;-71.1217436
X-APPLE-STRUCTURED-LOCATION;VALUE=URI;X-ADDRESS=The Burren 247 Elm Street Somerville MA 02144 United States;X-APPLE-RADIUS=500;X-TITLE=247 Elm Street:geo:-71.1217436,42.3953636
END:VEVENT
BEGIN:VEVENT
DTSTART;TZID=America/New_York:20261114T140000
DTEND;TZID=America/New_York:20261114T170000
DTSTAMP:20260425T173733
CREATED:20260217T000525Z
LAST-MODIFIED:20260217T000525Z
UID:10010382-1794664800-1794675600@bbu.org
SUMMARY:Burren Bluegrass Jam
DESCRIPTION:Long-running Bluegrass Jam hosted by Frank Drake. All levels welcome\, but not a slow jam\, per se. \nUsually takes the summer off for festivals\, etc. Contact Frank’s web site to get on the mailing list.
URL:https://bbu.org/event/burren-bluegrass-jam/2026-11-14/
LOCATION:The Burren\, 247 Elm Street\, Somerville\, MA\, 02144\, United States
CATEGORIES:Jams and Picking Parties
ORGANIZER;CN="Frank Drake":MAILTO: frankdrake@gmail.com
GEO:42.3953636;-71.1217436
X-APPLE-STRUCTURED-LOCATION;VALUE=URI;X-ADDRESS=The Burren 247 Elm Street Somerville MA 02144 United States;X-APPLE-RADIUS=500;X-TITLE=247 Elm Street:geo:-71.1217436,42.3953636
END:VEVENT
BEGIN:VEVENT
DTSTART;TZID=America/New_York:20261121T140000
DTEND;TZID=America/New_York:20261121T170000
DTSTAMP:20260425T173733
CREATED:20260217T000525Z
LAST-MODIFIED:20260217T000525Z
UID:10010383-1795269600-1795280400@bbu.org
SUMMARY:Burren Bluegrass Jam
DESCRIPTION:Long-running Bluegrass Jam hosted by Frank Drake. All levels welcome\, but not a slow jam\, per se. \nUsually takes the summer off for festivals\, etc. Contact Frank’s web site to get on the mailing list.
URL:https://bbu.org/event/burren-bluegrass-jam/2026-11-21/
LOCATION:The Burren\, 247 Elm Street\, Somerville\, MA\, 02144\, United States
CATEGORIES:Jams and Picking Parties
ORGANIZER;CN="Frank Drake":MAILTO: frankdrake@gmail.com
GEO:42.3953636;-71.1217436
X-APPLE-STRUCTURED-LOCATION;VALUE=URI;X-ADDRESS=The Burren 247 Elm Street Somerville MA 02144 United States;X-APPLE-RADIUS=500;X-TITLE=247 Elm Street:geo:-71.1217436,42.3953636
END:VEVENT
BEGIN:VEVENT
DTSTART;TZID=America/New_York:20261128T140000
DTEND;TZID=America/New_York:20261128T170000
DTSTAMP:20260425T173733
CREATED:20260217T000525Z
LAST-MODIFIED:20260217T000525Z
UID:10010384-1795874400-1795885200@bbu.org
SUMMARY:Burren Bluegrass Jam
DESCRIPTION:Long-running Bluegrass Jam hosted by Frank Drake. All levels welcome\, but not a slow jam\, per se. \nUsually takes the summer off for festivals\, etc. Contact Frank’s web site to get on the mailing list.
URL:https://bbu.org/event/burren-bluegrass-jam/2026-11-28/
LOCATION:The Burren\, 247 Elm Street\, Somerville\, MA\, 02144\, United States
CATEGORIES:Jams and Picking Parties
ORGANIZER;CN="Frank Drake":MAILTO: frankdrake@gmail.com
GEO:42.3953636;-71.1217436
X-APPLE-STRUCTURED-LOCATION;VALUE=URI;X-ADDRESS=The Burren 247 Elm Street Somerville MA 02144 United States;X-APPLE-RADIUS=500;X-TITLE=247 Elm Street:geo:-71.1217436,42.3953636
END:VEVENT
BEGIN:VEVENT
DTSTART;TZID=America/New_York:20261205T140000
DTEND;TZID=America/New_York:20261205T170000
DTSTAMP:20260425T173733
CREATED:20260217T000525Z
LAST-MODIFIED:20260217T000525Z
UID:10010385-1796479200-1796490000@bbu.org
SUMMARY:Burren Bluegrass Jam
DESCRIPTION:Long-running Bluegrass Jam hosted by Frank Drake. All levels welcome\, but not a slow jam\, per se. \nUsually takes the summer off for festivals\, etc. Contact Frank’s web site to get on the mailing list.
URL:https://bbu.org/event/burren-bluegrass-jam/2026-12-05/
LOCATION:The Burren\, 247 Elm Street\, Somerville\, MA\, 02144\, United States
CATEGORIES:Jams and Picking Parties
ORGANIZER;CN="Frank Drake":MAILTO: frankdrake@gmail.com
GEO:42.3953636;-71.1217436
X-APPLE-STRUCTURED-LOCATION;VALUE=URI;X-ADDRESS=The Burren 247 Elm Street Somerville MA 02144 United States;X-APPLE-RADIUS=500;X-TITLE=247 Elm Street:geo:-71.1217436,42.3953636
END:VEVENT
BEGIN:VEVENT
DTSTART;TZID=America/New_York:20261212T140000
DTEND;TZID=America/New_York:20261212T170000
DTSTAMP:20260425T173733
CREATED:20260217T000525Z
LAST-MODIFIED:20260217T000525Z
UID:10010386-1797084000-1797094800@bbu.org
SUMMARY:Burren Bluegrass Jam
DESCRIPTION:Long-running Bluegrass Jam hosted by Frank Drake. All levels welcome\, but not a slow jam\, per se. \nUsually takes the summer off for festivals\, etc. Contact Frank’s web site to get on the mailing list.
URL:https://bbu.org/event/burren-bluegrass-jam/2026-12-12/
LOCATION:The Burren\, 247 Elm Street\, Somerville\, MA\, 02144\, United States
CATEGORIES:Jams and Picking Parties
ORGANIZER;CN="Frank Drake":MAILTO: frankdrake@gmail.com
GEO:42.3953636;-71.1217436
X-APPLE-STRUCTURED-LOCATION;VALUE=URI;X-ADDRESS=The Burren 247 Elm Street Somerville MA 02144 United States;X-APPLE-RADIUS=500;X-TITLE=247 Elm Street:geo:-71.1217436,42.3953636
END:VEVENT
BEGIN:VEVENT
DTSTART;TZID=America/New_York:20261219T140000
DTEND;TZID=America/New_York:20261219T170000
DTSTAMP:20260425T173733
CREATED:20260217T000525Z
LAST-MODIFIED:20260217T000525Z
UID:10010387-1797688800-1797699600@bbu.org
SUMMARY:Burren Bluegrass Jam
DESCRIPTION:Long-running Bluegrass Jam hosted by Frank Drake. All levels welcome\, but not a slow jam\, per se. \nUsually takes the summer off for festivals\, etc. Contact Frank’s web site to get on the mailing list.
URL:https://bbu.org/event/burren-bluegrass-jam/2026-12-19/
LOCATION:The Burren\, 247 Elm Street\, Somerville\, MA\, 02144\, United States
CATEGORIES:Jams and Picking Parties
ORGANIZER;CN="Frank Drake":MAILTO: frankdrake@gmail.com
GEO:42.3953636;-71.1217436
X-APPLE-STRUCTURED-LOCATION;VALUE=URI;X-ADDRESS=The Burren 247 Elm Street Somerville MA 02144 United States;X-APPLE-RADIUS=500;X-TITLE=247 Elm Street:geo:-71.1217436,42.3953636
END:VEVENT
BEGIN:VEVENT
DTSTART;TZID=America/New_York:20261226T140000
DTEND;TZID=America/New_York:20261226T170000
DTSTAMP:20260425T173733
CREATED:20260217T000525Z
LAST-MODIFIED:20260217T000525Z
UID:10010388-1798293600-1798304400@bbu.org
SUMMARY:Burren Bluegrass Jam
DESCRIPTION:Long-running Bluegrass Jam hosted by Frank Drake. All levels welcome\, but not a slow jam\, per se. \nUsually takes the summer off for festivals\, etc. Contact Frank’s web site to get on the mailing list.
URL:https://bbu.org/event/burren-bluegrass-jam/2026-12-26/
LOCATION:The Burren\, 247 Elm Street\, Somerville\, MA\, 02144\, United States
CATEGORIES:Jams and Picking Parties
ORGANIZER;CN="Frank Drake":MAILTO: frankdrake@gmail.com
GEO:42.3953636;-71.1217436
X-APPLE-STRUCTURED-LOCATION;VALUE=URI;X-ADDRESS=The Burren 247 Elm Street Somerville MA 02144 United States;X-APPLE-RADIUS=500;X-TITLE=247 Elm Street:geo:-71.1217436,42.3953636
END:VEVENT
BEGIN:VEVENT
DTSTART;TZID=America/New_York:20270102T140000
DTEND;TZID=America/New_York:20270102T170000
DTSTAMP:20260425T173733
CREATED:20260217T000525Z
LAST-MODIFIED:20260217T000525Z
UID:10010389-1798898400-1798909200@bbu.org
SUMMARY:Burren Bluegrass Jam
DESCRIPTION:Long-running Bluegrass Jam hosted by Frank Drake. All levels welcome\, but not a slow jam\, per se. \nUsually takes the summer off for festivals\, etc. Contact Frank’s web site to get on the mailing list.
URL:https://bbu.org/event/burren-bluegrass-jam/2027-01-02/
LOCATION:The Burren\, 247 Elm Street\, Somerville\, MA\, 02144\, United States
CATEGORIES:Jams and Picking Parties
ORGANIZER;CN="Frank Drake":MAILTO: frankdrake@gmail.com
GEO:42.3953636;-71.1217436
X-APPLE-STRUCTURED-LOCATION;VALUE=URI;X-ADDRESS=The Burren 247 Elm Street Somerville MA 02144 United States;X-APPLE-RADIUS=500;X-TITLE=247 Elm Street:geo:-71.1217436,42.3953636
END:VEVENT
BEGIN:VEVENT
DTSTART;TZID=America/New_York:20270109T140000
DTEND;TZID=America/New_York:20270109T170000
DTSTAMP:20260425T173733
CREATED:20260217T000525Z
LAST-MODIFIED:20260217T000525Z
UID:10010390-1799503200-1799514000@bbu.org
SUMMARY:Burren Bluegrass Jam
DESCRIPTION:Long-running Bluegrass Jam hosted by Frank Drake. All levels welcome\, but not a slow jam\, per se. \nUsually takes the summer off for festivals\, etc. Contact Frank’s web site to get on the mailing list.
URL:https://bbu.org/event/burren-bluegrass-jam/2027-01-09/
LOCATION:The Burren\, 247 Elm Street\, Somerville\, MA\, 02144\, United States
CATEGORIES:Jams and Picking Parties
ORGANIZER;CN="Frank Drake":MAILTO: frankdrake@gmail.com
GEO:42.3953636;-71.1217436
X-APPLE-STRUCTURED-LOCATION;VALUE=URI;X-ADDRESS=The Burren 247 Elm Street Somerville MA 02144 United States;X-APPLE-RADIUS=500;X-TITLE=247 Elm Street:geo:-71.1217436,42.3953636
END:VEVENT
BEGIN:VEVENT
DTSTART;TZID=America/New_York:20270116T140000
DTEND;TZID=America/New_York:20270116T170000
DTSTAMP:20260425T173733
CREATED:20260217T000525Z
LAST-MODIFIED:20260217T000525Z
UID:10010391-1800108000-1800118800@bbu.org
SUMMARY:Burren Bluegrass Jam
DESCRIPTION:Long-running Bluegrass Jam hosted by Frank Drake. All levels welcome\, but not a slow jam\, per se. \nUsually takes the summer off for festivals\, etc. Contact Frank’s web site to get on the mailing list.
URL:https://bbu.org/event/burren-bluegrass-jam/2027-01-16/
LOCATION:The Burren\, 247 Elm Street\, Somerville\, MA\, 02144\, United States
CATEGORIES:Jams and Picking Parties
ORGANIZER;CN="Frank Drake":MAILTO: frankdrake@gmail.com
GEO:42.3953636;-71.1217436
X-APPLE-STRUCTURED-LOCATION;VALUE=URI;X-ADDRESS=The Burren 247 Elm Street Somerville MA 02144 United States;X-APPLE-RADIUS=500;X-TITLE=247 Elm Street:geo:-71.1217436,42.3953636
END:VEVENT
BEGIN:VEVENT
DTSTART;TZID=America/New_York:20270123T140000
DTEND;TZID=America/New_York:20270123T170000
DTSTAMP:20260425T173733
CREATED:20260217T000525Z
LAST-MODIFIED:20260217T000525Z
UID:10010392-1800712800-1800723600@bbu.org
SUMMARY:Burren Bluegrass Jam
DESCRIPTION:Long-running Bluegrass Jam hosted by Frank Drake. All levels welcome\, but not a slow jam\, per se. \nUsually takes the summer off for festivals\, etc. Contact Frank’s web site to get on the mailing list.
URL:https://bbu.org/event/burren-bluegrass-jam/2027-01-23/
LOCATION:The Burren\, 247 Elm Street\, Somerville\, MA\, 02144\, United States
CATEGORIES:Jams and Picking Parties
ORGANIZER;CN="Frank Drake":MAILTO: frankdrake@gmail.com
GEO:42.3953636;-71.1217436
X-APPLE-STRUCTURED-LOCATION;VALUE=URI;X-ADDRESS=The Burren 247 Elm Street Somerville MA 02144 United States;X-APPLE-RADIUS=500;X-TITLE=247 Elm Street:geo:-71.1217436,42.3953636
END:VEVENT
BEGIN:VEVENT
DTSTART;TZID=America/New_York:20270130T140000
DTEND;TZID=America/New_York:20270130T170000
DTSTAMP:20260425T173733
CREATED:20260217T000525Z
LAST-MODIFIED:20260217T000525Z
UID:10010393-1801317600-1801328400@bbu.org
SUMMARY:Burren Bluegrass Jam
DESCRIPTION:Long-running Bluegrass Jam hosted by Frank Drake. All levels welcome\, but not a slow jam\, per se. \nUsually takes the summer off for festivals\, etc. Contact Frank’s web site to get on the mailing list.
URL:https://bbu.org/event/burren-bluegrass-jam/2027-01-30/
LOCATION:The Burren\, 247 Elm Street\, Somerville\, MA\, 02144\, United States
CATEGORIES:Jams and Picking Parties
ORGANIZER;CN="Frank Drake":MAILTO: frankdrake@gmail.com
GEO:42.3953636;-71.1217436
X-APPLE-STRUCTURED-LOCATION;VALUE=URI;X-ADDRESS=The Burren 247 Elm Street Somerville MA 02144 United States;X-APPLE-RADIUS=500;X-TITLE=247 Elm Street:geo:-71.1217436,42.3953636
END:VEVENT
BEGIN:VEVENT
DTSTART;TZID=America/New_York:20270206T140000
DTEND;TZID=America/New_York:20270206T170000
DTSTAMP:20260425T173733
CREATED:20260217T000525Z
LAST-MODIFIED:20260217T000525Z
UID:10010394-1801922400-1801933200@bbu.org
SUMMARY:Burren Bluegrass Jam
DESCRIPTION:Long-running Bluegrass Jam hosted by Frank Drake. All levels welcome\, but not a slow jam\, per se. \nUsually takes the summer off for festivals\, etc. Contact Frank’s web site to get on the mailing list.
URL:https://bbu.org/event/burren-bluegrass-jam/2027-02-06/
LOCATION:The Burren\, 247 Elm Street\, Somerville\, MA\, 02144\, United States
CATEGORIES:Jams and Picking Parties
ORGANIZER;CN="Frank Drake":MAILTO: frankdrake@gmail.com
GEO:42.3953636;-71.1217436
X-APPLE-STRUCTURED-LOCATION;VALUE=URI;X-ADDRESS=The Burren 247 Elm Street Somerville MA 02144 United States;X-APPLE-RADIUS=500;X-TITLE=247 Elm Street:geo:-71.1217436,42.3953636
END:VEVENT
BEGIN:VEVENT
DTSTART;TZID=America/New_York:20270213T140000
DTEND;TZID=America/New_York:20270213T170000
DTSTAMP:20260425T173733
CREATED:20260217T000525Z
LAST-MODIFIED:20260217T000525Z
UID:10010395-1802527200-1802538000@bbu.org
SUMMARY:Burren Bluegrass Jam
DESCRIPTION:Long-running Bluegrass Jam hosted by Frank Drake. All levels welcome\, but not a slow jam\, per se. \nUsually takes the summer off for festivals\, etc. Contact Frank’s web site to get on the mailing list.
URL:https://bbu.org/event/burren-bluegrass-jam/2027-02-13/
LOCATION:The Burren\, 247 Elm Street\, Somerville\, MA\, 02144\, United States
CATEGORIES:Jams and Picking Parties
ORGANIZER;CN="Frank Drake":MAILTO: frankdrake@gmail.com
GEO:42.3953636;-71.1217436
X-APPLE-STRUCTURED-LOCATION;VALUE=URI;X-ADDRESS=The Burren 247 Elm Street Somerville MA 02144 United States;X-APPLE-RADIUS=500;X-TITLE=247 Elm Street:geo:-71.1217436,42.3953636
END:VEVENT
BEGIN:VEVENT
DTSTART;TZID=America/New_York:20270220T140000
DTEND;TZID=America/New_York:20270220T170000
DTSTAMP:20260425T173733
CREATED:20260217T000525Z
LAST-MODIFIED:20260217T000525Z
UID:10010396-1803132000-1803142800@bbu.org
SUMMARY:Burren Bluegrass Jam
DESCRIPTION:Long-running Bluegrass Jam hosted by Frank Drake. All levels welcome\, but not a slow jam\, per se. \nUsually takes the summer off for festivals\, etc. Contact Frank’s web site to get on the mailing list.
URL:https://bbu.org/event/burren-bluegrass-jam/2027-02-20/
LOCATION:The Burren\, 247 Elm Street\, Somerville\, MA\, 02144\, United States
CATEGORIES:Jams and Picking Parties
ORGANIZER;CN="Frank Drake":MAILTO: frankdrake@gmail.com
GEO:42.3953636;-71.1217436
X-APPLE-STRUCTURED-LOCATION;VALUE=URI;X-ADDRESS=The Burren 247 Elm Street Somerville MA 02144 United States;X-APPLE-RADIUS=500;X-TITLE=247 Elm Street:geo:-71.1217436,42.3953636
END:VEVENT
BEGIN:VEVENT
DTSTART;TZID=America/New_York:20270227T140000
DTEND;TZID=America/New_York:20270227T170000
DTSTAMP:20260425T173733
CREATED:20260217T000525Z
LAST-MODIFIED:20260217T000525Z
UID:10010397-1803736800-1803747600@bbu.org
SUMMARY:Burren Bluegrass Jam
DESCRIPTION:Long-running Bluegrass Jam hosted by Frank Drake. All levels welcome\, but not a slow jam\, per se. \nUsually takes the summer off for festivals\, etc. Contact Frank’s web site to get on the mailing list.
URL:https://bbu.org/event/burren-bluegrass-jam/2027-02-27/
LOCATION:The Burren\, 247 Elm Street\, Somerville\, MA\, 02144\, United States
CATEGORIES:Jams and Picking Parties
ORGANIZER;CN="Frank Drake":MAILTO: frankdrake@gmail.com
GEO:42.3953636;-71.1217436
X-APPLE-STRUCTURED-LOCATION;VALUE=URI;X-ADDRESS=The Burren 247 Elm Street Somerville MA 02144 United States;X-APPLE-RADIUS=500;X-TITLE=247 Elm Street:geo:-71.1217436,42.3953636
END:VEVENT
BEGIN:VEVENT
DTSTART;TZID=America/New_York:20270306T140000
DTEND;TZID=America/New_York:20270306T170000
DTSTAMP:20260425T173733
CREATED:20260217T000525Z
LAST-MODIFIED:20260217T000525Z
UID:10010398-1804341600-1804352400@bbu.org
SUMMARY:Burren Bluegrass Jam
DESCRIPTION:Long-running Bluegrass Jam hosted by Frank Drake. All levels welcome\, but not a slow jam\, per se. \nUsually takes the summer off for festivals\, etc. Contact Frank’s web site to get on the mailing list.
URL:https://bbu.org/event/burren-bluegrass-jam/2027-03-06/
LOCATION:The Burren\, 247 Elm Street\, Somerville\, MA\, 02144\, United States
CATEGORIES:Jams and Picking Parties
ORGANIZER;CN="Frank Drake":MAILTO: frankdrake@gmail.com
GEO:42.3953636;-71.1217436
X-APPLE-STRUCTURED-LOCATION;VALUE=URI;X-ADDRESS=The Burren 247 Elm Street Somerville MA 02144 United States;X-APPLE-RADIUS=500;X-TITLE=247 Elm Street:geo:-71.1217436,42.3953636
END:VEVENT
BEGIN:VEVENT
DTSTART;TZID=America/New_York:20270313T140000
DTEND;TZID=America/New_York:20270313T170000
DTSTAMP:20260425T173733
CREATED:20260217T000525Z
LAST-MODIFIED:20260217T000525Z
UID:10010399-1804946400-1804957200@bbu.org
SUMMARY:Burren Bluegrass Jam
DESCRIPTION:Long-running Bluegrass Jam hosted by Frank Drake. All levels welcome\, but not a slow jam\, per se. \nUsually takes the summer off for festivals\, etc. Contact Frank’s web site to get on the mailing list.
URL:https://bbu.org/event/burren-bluegrass-jam/2027-03-13/
LOCATION:The Burren\, 247 Elm Street\, Somerville\, MA\, 02144\, United States
CATEGORIES:Jams and Picking Parties
ORGANIZER;CN="Frank Drake":MAILTO: frankdrake@gmail.com
GEO:42.3953636;-71.1217436
X-APPLE-STRUCTURED-LOCATION;VALUE=URI;X-ADDRESS=The Burren 247 Elm Street Somerville MA 02144 United States;X-APPLE-RADIUS=500;X-TITLE=247 Elm Street:geo:-71.1217436,42.3953636
END:VEVENT
BEGIN:VEVENT
DTSTART;TZID=America/New_York:20270320T140000
DTEND;TZID=America/New_York:20270320T170000
DTSTAMP:20260425T173733
CREATED:20260217T000525Z
LAST-MODIFIED:20260217T000525Z
UID:10010400-1805551200-1805562000@bbu.org
SUMMARY:Burren Bluegrass Jam
DESCRIPTION:Long-running Bluegrass Jam hosted by Frank Drake. All levels welcome\, but not a slow jam\, per se. \nUsually takes the summer off for festivals\, etc. Contact Frank’s web site to get on the mailing list.
URL:https://bbu.org/event/burren-bluegrass-jam/2027-03-20/
LOCATION:The Burren\, 247 Elm Street\, Somerville\, MA\, 02144\, United States
CATEGORIES:Jams and Picking Parties
ORGANIZER;CN="Frank Drake":MAILTO: frankdrake@gmail.com
GEO:42.3953636;-71.1217436
X-APPLE-STRUCTURED-LOCATION;VALUE=URI;X-ADDRESS=The Burren 247 Elm Street Somerville MA 02144 United States;X-APPLE-RADIUS=500;X-TITLE=247 Elm Street:geo:-71.1217436,42.3953636
END:VEVENT
BEGIN:VEVENT
DTSTART;TZID=America/New_York:20270327T140000
DTEND;TZID=America/New_York:20270327T170000
DTSTAMP:20260425T173733
CREATED:20260217T000525Z
LAST-MODIFIED:20260217T000525Z
UID:10010401-1806156000-1806166800@bbu.org
SUMMARY:Burren Bluegrass Jam
DESCRIPTION:Long-running Bluegrass Jam hosted by Frank Drake. All levels welcome\, but not a slow jam\, per se. \nUsually takes the summer off for festivals\, etc. Contact Frank’s web site to get on the mailing list.
URL:https://bbu.org/event/burren-bluegrass-jam/2027-03-27/
LOCATION:The Burren\, 247 Elm Street\, Somerville\, MA\, 02144\, United States
CATEGORIES:Jams and Picking Parties
ORGANIZER;CN="Frank Drake":MAILTO: frankdrake@gmail.com
GEO:42.3953636;-71.1217436
X-APPLE-STRUCTURED-LOCATION;VALUE=URI;X-ADDRESS=The Burren 247 Elm Street Somerville MA 02144 United States;X-APPLE-RADIUS=500;X-TITLE=247 Elm Street:geo:-71.1217436,42.3953636
END:VEVENT
BEGIN:VEVENT
DTSTART;TZID=America/New_York:20270403T140000
DTEND;TZID=America/New_York:20270403T170000
DTSTAMP:20260425T173733
CREATED:20260217T000525Z
LAST-MODIFIED:20260217T000525Z
UID:10010402-1806760800-1806771600@bbu.org
SUMMARY:Burren Bluegrass Jam
DESCRIPTION:Long-running Bluegrass Jam hosted by Frank Drake. All levels welcome\, but not a slow jam\, per se. \nUsually takes the summer off for festivals\, etc. Contact Frank’s web site to get on the mailing list.
URL:https://bbu.org/event/burren-bluegrass-jam/2027-04-03/
LOCATION:The Burren\, 247 Elm Street\, Somerville\, MA\, 02144\, United States
CATEGORIES:Jams and Picking Parties
ORGANIZER;CN="Frank Drake":MAILTO: frankdrake@gmail.com
GEO:42.3953636;-71.1217436
X-APPLE-STRUCTURED-LOCATION;VALUE=URI;X-ADDRESS=The Burren 247 Elm Street Somerville MA 02144 United States;X-APPLE-RADIUS=500;X-TITLE=247 Elm Street:geo:-71.1217436,42.3953636
END:VEVENT
BEGIN:VEVENT
DTSTART;TZID=America/New_York:20270410T140000
DTEND;TZID=America/New_York:20270410T170000
DTSTAMP:20260425T173733
CREATED:20260217T000525Z
LAST-MODIFIED:20260217T000525Z
UID:10010403-1807365600-1807376400@bbu.org
SUMMARY:Burren Bluegrass Jam
DESCRIPTION:Long-running Bluegrass Jam hosted by Frank Drake. All levels welcome\, but not a slow jam\, per se. \nUsually takes the summer off for festivals\, etc. Contact Frank’s web site to get on the mailing list.
URL:https://bbu.org/event/burren-bluegrass-jam/2027-04-10/
LOCATION:The Burren\, 247 Elm Street\, Somerville\, MA\, 02144\, United States
CATEGORIES:Jams and Picking Parties
ORGANIZER;CN="Frank Drake":MAILTO: frankdrake@gmail.com
GEO:42.3953636;-71.1217436
X-APPLE-STRUCTURED-LOCATION;VALUE=URI;X-ADDRESS=The Burren 247 Elm Street Somerville MA 02144 United States;X-APPLE-RADIUS=500;X-TITLE=247 Elm Street:geo:-71.1217436,42.3953636
END:VEVENT
END:VCALENDAR