BEGIN:VCALENDAR
VERSION:2.0
PRODID:-//Boston Bluegrass Union - ECPv6.15.20//NONSGML v1.0//EN
CALSCALE:GREGORIAN
METHOD:PUBLISH
X-WR-CALNAME:Boston Bluegrass Union
X-ORIGINAL-URL:https://bbu.org
X-WR-CALDESC:Events for Boston Bluegrass Union
REFRESH-INTERVAL;VALUE=DURATION:PT1H
X-Robots-Tag:noindex
X-PUBLISHED-TTL:PT1H
BEGIN:VTIMEZONE
TZID:America/New_York
BEGIN:DAYLIGHT
TZOFFSETFROM:-0500
TZOFFSETTO:-0400
TZNAME:EDT
DTSTART:20230312T070000
END:DAYLIGHT
BEGIN:STANDARD
TZOFFSETFROM:-0400
TZOFFSETTO:-0500
TZNAME:EST
DTSTART:20231105T060000
END:STANDARD
BEGIN:DAYLIGHT
TZOFFSETFROM:-0500
TZOFFSETTO:-0400
TZNAME:EDT
DTSTART:20240310T070000
END:DAYLIGHT
BEGIN:STANDARD
TZOFFSETFROM:-0400
TZOFFSETTO:-0500
TZNAME:EST
DTSTART:20241103T060000
END:STANDARD
BEGIN:DAYLIGHT
TZOFFSETFROM:-0500
TZOFFSETTO:-0400
TZNAME:EDT
DTSTART:20250309T070000
END:DAYLIGHT
BEGIN:STANDARD
TZOFFSETFROM:-0400
TZOFFSETTO:-0500
TZNAME:EST
DTSTART:20251102T060000
END:STANDARD
END:VTIMEZONE
BEGIN:VEVENT
DTSTART;TZID=America/New_York:20240416T183000
DTEND;TZID=America/New_York:20240416T213000
DTSTAMP:20260424T112632
CREATED:20180405T131005Z
LAST-MODIFIED:20180405T131005Z
UID:10000628-1713292200-1713303000@bbu.org
SUMMARY:Tuftonboro Country\, Bluegrass and Gospel Jam session
DESCRIPTION:The weekly Tuftonboro Country\, Bluegrass & Gospel Music Jam Session continues at the historic Old White Church of Center Tuftonboro every Tuesday from 6:30 until about 9:30 pm.  Fans of country\, bluegrass and gospel music are invited to enjoy an evening of music. There is no admission charge\, a donation is requested to help cover operational expenses.  The Church is located on Route 109A\, just across from the Tuftonboro General Store & Post Office.  Everyone is invited to attend the jam session while enjoying cookies and a cup of coffee.  For more info call Joe at 569-3861.
URL:https://bbu.org/event/tuftonboro-country-bluegrass-gospel-jam-session/2024-04-16/
LOCATION:The Old White Church\, Center Tuftonboro\, NH
CATEGORIES:Jams and Picking Parties
ATTACH;FMTTYPE=image/jpeg:https://bbu.org/wp-content/uploads/2018/04/Tuftonboo-jam-session.jpg
END:VEVENT
BEGIN:VEVENT
DTSTART;TZID=America/New_York:20240418T193000
DTEND;TZID=America/New_York:20240418T210000
DTSTAMP:20260424T112632
CREATED:20220118T203305Z
LAST-MODIFIED:20220118T203305Z
UID:10000994-1713468600-1713474000@bbu.org
SUMMARY:Concord Conservatory Open Bluegrass Jam
DESCRIPTION:The Open Bluegrass Jam is back! \nThursdays\, 7:30 – 9:00 pm in the sanctuary \nOpen to bluegrass players at all levels – guitar\, mandolin\, banjo\, fiddle\, dobro\, bass\, singers – join Max Anderson as he calls the tunes\, posts the charts\, and leads the group (at a manageable speed) through the great repertoire of tunes and songs from the bluegrass tradition. \nOpen to musicians and those who just want to listen and observe. \nJam dates: \nDecember 2\, 9\, and 16\, January 6\, 13\, 20\, and 27\, February 3\, 10\, and 17\, March 3\, 10\, 17\, 24\, and 31\, April 7\, 14\, and 28\, May 5\, 12\, 19\, and 26 \n$10 suggested donation is greatly appreciated to support the program.
URL:https://bbu.org/event/concord-conservatory-open-bluegrass-jam/2024-04-18/
LOCATION:Concord Conservatory of Music\, 1317 Main Street\, Concord\, MA\, 01742\, United States
CATEGORIES:Jams and Picking Parties
ORGANIZER;CN="Concord Conservatory of Music":MAILTO:info@concordconservatory.org
END:VEVENT
BEGIN:VEVENT
DTSTART;TZID=America/New_York:20240419T193000
DTEND;TZID=America/New_York:20240419T210000
DTSTAMP:20260424T112632
CREATED:20240224T142956Z
LAST-MODIFIED:20240224T142956Z
UID:10002585-1713555000-1713560400@bbu.org
SUMMARY:7X National Fiddling Champion Luke Bulla\, Harvard MA
DESCRIPTION:Luke Bulla\nPresented by notloB Parlour Concerts\nat the old Harvard library\, 7 Fairbank Street\, Harvard MA 01451\n\n\n\nFriday\, April 19\, 2024\, 7:30pm\n\n\n\n\n  \nLuke Bulla has been singing and playing music most of his life\, touring with and singing in his family band from age four\, Luke took up the fiddle at seven. Over the course of the next few years\, he won the National Fiddle Contest (in Weiser\, Idaho) six times in his respective age categories. His seventh win came in the Grand Champion division at age sixteen\, making him the youngest to have earned the title at the time. \nIn the spring of 1999\, Luke moved to Nashville to establish himself as a full time musician. He spent his early years in Tennessee playing fiddle in Ricky Skaggs’ band\, Kentucky Thunder\, which earned him his first Grammy Award. Luke was a member of the John Cowan Band. Luke has also performed and/or recorded with Brandi Carlile\, Jim Lauderdale\, Darrell Scott\, Alison Krauss\, Jerry Douglas\, Sam Bush\, Edgar Meyer\, Bela Fleck\, Bryan Sutton\, Kevin Costner & Modern West\, Russ Barenberg Trio\, Shawn Colvin\, Tony Rice\, Chris Thile\, Peter Rowan\, Patty Griffin\, Glen Phillips\, Rodney Crowell\, and Earl Scruggs\, to name a few. In 2009\, Luke released a solo EP featuring Jerry Douglas\, Sam Bush\, Bela Fleck\, Aoife O’Donovan and more. Since 2009\, Luke has been touring with Lyle Lovett. \nLuke released an LP\, Who Loves You Better\, produced by Bryan Sutton in May 2016. After many years as a sideman\, Luke is currently touring the country playing solo performances. \nARTIST’S WEBSITE: lukebulla.com \nARTIST’S VIDEO: https://youtu.be/mgKqxoWbkQI?si=E5Zkt7QWKfPdoDxQ \nADMISSION: by free-will offering\, suggested amounts:\nAdults $20+\, teens and seniors $15\, children $10. \nRESERVATIONS REQUESTED:  \nnotloB Parlour Concerts are run on the “house concert” model. An accurate headcount is necessary. We also understand “life happens”. To reserve or change a reservation\, please email notloBresersevations at gmail dot com  \nRESERVATIONS EXPIRE AT SHOWTME. \nVENUE: The concert will be presented at the old library\, 7 Fairbanks Street\, Harvard\, Massachusetts 01451. Doors Open at 7:00pm. This is a notloB concert in rented space\, please do not contact the venue. \nCOVID PRECAUTIONS: Mask-friendly. Please read the venue’s COVID-19 protocols for events at https://www.fivesparks.org/ \nABOUT NOTLOB PARLOUR CONCERTS: Since 2007\, notloB has presented >200 not-for-profit folk\, Celtic\, old-time\, bluegrass\, and progressive string concerts in unique venues throughout the greater Boston area. notloB’s current home is space rented in Harvard’s renovated 1887 Harvard\, Massachusetts library – https://www.harvardpubliclibrary.org/about/history-library \nConcerts in your home can be arranged.\nContact – notlobreservations at gmail dot com \nmail list ~ https://groups.google.com/g/notlob-parlour-concerts/\nFacebook – https://www.facebook.com/notloBParlourConcerts/ \nInstagram – https://www.instagram.com/notlobmusic \nBlog – https://notlobmusic.blogspot.com/ \n  \nUPCOMING CONCERTS: \n\n\n\nSaturday\, June 1\, 2024\nFódhla\n\n\nFriday\, October 18\, 2024\nDon White\n\n\n\n 
URL:https://bbu.org/event/7x-national-fiddling-champion-luke-bulla-harvard-ma/
LOCATION:notloB Parlour Concerts at Fivesparks\, 7 Fairbank Street\, Harvard\, MA\, 01451\, United States
CATEGORIES:Concerts
ATTACH;FMTTYPE=image/jpeg:https://bbu.org/wp-content/uploads/2024/02/Luke-Bulla-photo-by-Donna-Green.jpg
ORGANIZER;CN="Jeff Boudreau":MAILTO:notlobreservations@gmail.com
END:VEVENT
BEGIN:VEVENT
DTSTART;TZID=America/New_York:20240420T193000
DTEND;TZID=America/New_York:20240420T193000
DTSTAMP:20260424T112632
CREATED:20240304T230637Z
LAST-MODIFIED:20240304T230703Z
UID:10001080-1713641400-1713641400@bbu.org
SUMMARY:Sanford Springvale Historical Museum presents Southern Rail
DESCRIPTION:Southern Rail welcomes spring with their exuberant blend of upbeat bluegrass and riveting vocals to the acclaimed Sanford Springvale Historical Museum. This promises to be another packed house\, featuring lush harmonies\, irrepressible good humor\, and sparkling banjo\, guitar\, mandolin and bass. Come early to browse the wonderful exhibits! Doors open 6:45.  concert is at 7:30.
URL:https://bbu.org/event/sanford-springvale-historical-museum-presents-southern-rail-4/
LOCATION:SANFORD-SPRINGVALE HISTORICAL MUSEUM\, 505 MAIN ST (RT 109)\, SPRINGVALE\, ME\, 04083\, United States
CATEGORIES:Concerts
ATTACH;FMTTYPE=image/jpeg:https://bbu.org/wp-content/uploads/2024/03/group-photo.jpg
ORGANIZER;CN="Claire Auger":MAILTO:gcauger@me.com
GEO:43.4630529;-70.7956285
X-APPLE-STRUCTURED-LOCATION;VALUE=URI;X-ADDRESS=SANFORD-SPRINGVALE HISTORICAL MUSEUM 505 MAIN ST (RT 109) SPRINGVALE ME 04083 United States;X-APPLE-RADIUS=500;X-TITLE=505 MAIN ST (RT 109):geo:-70.7956285,43.4630529
END:VEVENT
END:VCALENDAR