BEGIN:VCALENDAR
VERSION:2.0
PRODID:-//Boston Bluegrass Union - ECPv6.15.20//NONSGML v1.0//EN
CALSCALE:GREGORIAN
METHOD:PUBLISH
X-ORIGINAL-URL:https://bbu.org
X-WR-CALDESC:Events for Boston Bluegrass Union
REFRESH-INTERVAL;VALUE=DURATION:PT1H
X-Robots-Tag:noindex
X-PUBLISHED-TTL:PT1H
BEGIN:VTIMEZONE
TZID:America/New_York
BEGIN:DAYLIGHT
TZOFFSETFROM:-0500
TZOFFSETTO:-0400
TZNAME:EDT
DTSTART:20230312T070000
END:DAYLIGHT
BEGIN:STANDARD
TZOFFSETFROM:-0400
TZOFFSETTO:-0500
TZNAME:EST
DTSTART:20231105T060000
END:STANDARD
BEGIN:DAYLIGHT
TZOFFSETFROM:-0500
TZOFFSETTO:-0400
TZNAME:EDT
DTSTART:20240310T070000
END:DAYLIGHT
BEGIN:STANDARD
TZOFFSETFROM:-0400
TZOFFSETTO:-0500
TZNAME:EST
DTSTART:20241103T060000
END:STANDARD
BEGIN:DAYLIGHT
TZOFFSETFROM:-0500
TZOFFSETTO:-0400
TZNAME:EDT
DTSTART:20250309T070000
END:DAYLIGHT
BEGIN:STANDARD
TZOFFSETFROM:-0400
TZOFFSETTO:-0500
TZNAME:EST
DTSTART:20251102T060000
END:STANDARD
END:VTIMEZONE
BEGIN:VEVENT
DTSTART;TZID=America/New_York:20240423T183000
DTEND;TZID=America/New_York:20240423T213000
DTSTAMP:20260422T003216
CREATED:20180405T131005Z
LAST-MODIFIED:20180405T131005Z
UID:10000629-1713897000-1713907800@bbu.org
SUMMARY:Tuftonboro Country\, Bluegrass and Gospel Jam session
DESCRIPTION:The weekly Tuftonboro Country\, Bluegrass & Gospel Music Jam Session continues at the historic Old White Church of Center Tuftonboro every Tuesday from 6:30 until about 9:30 pm.  Fans of country\, bluegrass and gospel music are invited to enjoy an evening of music. There is no admission charge\, a donation is requested to help cover operational expenses.  The Church is located on Route 109A\, just across from the Tuftonboro General Store & Post Office.  Everyone is invited to attend the jam session while enjoying cookies and a cup of coffee.  For more info call Joe at 569-3861.
URL:https://bbu.org/event/tuftonboro-country-bluegrass-gospel-jam-session/2024-04-23/
LOCATION:The Old White Church\, Center Tuftonboro\, NH
CATEGORIES:Jams and Picking Parties
ATTACH;FMTTYPE=image/jpeg:https://bbu.org/wp-content/uploads/2018/04/Tuftonboo-jam-session.jpg
END:VEVENT
BEGIN:VEVENT
DTSTART;TZID=America/New_York:20240425T193000
DTEND;TZID=America/New_York:20240425T210000
DTSTAMP:20260422T003216
CREATED:20220118T203305Z
LAST-MODIFIED:20220118T203305Z
UID:10000995-1714073400-1714078800@bbu.org
SUMMARY:Concord Conservatory Open Bluegrass Jam
DESCRIPTION:The Open Bluegrass Jam is back! \nThursdays\, 7:30 – 9:00 pm in the sanctuary \nOpen to bluegrass players at all levels – guitar\, mandolin\, banjo\, fiddle\, dobro\, bass\, singers – join Max Anderson as he calls the tunes\, posts the charts\, and leads the group (at a manageable speed) through the great repertoire of tunes and songs from the bluegrass tradition. \nOpen to musicians and those who just want to listen and observe. \nJam dates: \nDecember 2\, 9\, and 16\, January 6\, 13\, 20\, and 27\, February 3\, 10\, and 17\, March 3\, 10\, 17\, 24\, and 31\, April 7\, 14\, and 28\, May 5\, 12\, 19\, and 26 \n$10 suggested donation is greatly appreciated to support the program.
URL:https://bbu.org/event/concord-conservatory-open-bluegrass-jam/2024-04-25/
LOCATION:Concord Conservatory of Music\, 1317 Main Street\, Concord\, MA\, 01742\, United States
CATEGORIES:Jams and Picking Parties
ORGANIZER;CN="Concord Conservatory of Music":MAILTO:info@concordconservatory.org
END:VEVENT
BEGIN:VEVENT
DTSTART;TZID=America/New_York:20240427T120000
DTEND;TZID=America/New_York:20240427T160000
DTSTAMP:20260422T003216
CREATED:20240403T030310Z
LAST-MODIFIED:20240403T030310Z
UID:10001084-1714219200-1714233600@bbu.org
SUMMARY:Bluegrass Band Scramble
DESCRIPTION:Come jam with us for an unforgettable and lively session of learning\, coaching\, and performing bluegrass all in one whirlwind afternoon! \nIt’s time to join a band at the CCM Bluegrass Band Scramble. \nReserve your spot with two easy steps: \n\nPlease pay in advance ($35). Yeah\, we know you’ll understand that we have to cover our costs.\nComplete the short registration form in advance. Tell us your name\, contact information\, and instrument for placement.\n\nTo create well-formed bands\, individuals sign up for the Scramble and are paired with other musicians by picking names out of a hat\, one for each instrument. Bandmates then have over two hours to practice and prepare songs and stage patter for a three-song turn performing for a live audience\, with a professional sound system and engineer. \n\n\n\n\n\n\n\nMeet and perform with other musicians who love bluegrass!\n\n\n\n\n\n\n\n\n\n\n\n\n\n\nThere’s no competition\, only an incredible learning and skill-building experience. Invite your friends and family for the live concert at 4:00 pm that’s free and open to the public.
URL:https://bbu.org/event/bluegrass-band-scramble/
LOCATION:Concord Conservatory of Music\, 1317 Main Street\, Concord\, MA\, 01742\, United States
ATTACH;FMTTYPE=image/png:https://bbu.org/wp-content/uploads/2024/04/Scramble-email-header.png
ORGANIZER;CN="Concord Conservatory of Music":MAILTO:info@concordconservatory.org
END:VEVENT
BEGIN:VEVENT
DTSTART;TZID=America/New_York:20240427T190000
DTEND;TZID=America/New_York:20240427T210000
DTSTAMP:20260422T003216
CREATED:20240326T194514Z
LAST-MODIFIED:20240326T194514Z
UID:10001083-1714244400-1714251600@bbu.org
SUMMARY:The Ruta Beggars\, A Bluegrass Concert
DESCRIPTION:The Concord Conservatory of Music is set to host an extraordinary evening of traditional bluegrass music with a twist on April 27th\, as The Ruta Beggars take the stage. The band is made up of talented musicians who studied together in the American Roots Program at Berklee College of Music. Micah Nicol on guitar\, Sofia Chiarandini on fiddle\, Ariel Wyner on mandolin\, Trevin Nelson on banjo\, and Noah Harrington on bass make up the impressive ensemble. \nThe Ruta Beggars are celebrated for their imaginative musical arrangements\, their intricate vocal harmonies\, and their impressive musicianship. They have earned a well-deserved place among the top-tier of the bluegrass community\, and their live performances are known for their vibrant energy and engaging showmanship. Combining bluegrass with early swing\, The Ruta Beggars’ music is a unique and captivating sound that’s not to be missed. \nThis talented group of musicians has received recognition for their musical talents and was the winner of the Thomas Point’s band competition in 2019. Now\, they’re set to thrill the audiences at the Concord Conservatory of Music with their infectious melodies and dynamic musicianship. Tickets for the show are now available at ConcordConservatory.org. \nThe concert is part of the 2023-2024 CCM Concert & Lecture Series\, made possible thanks to the generous support of our Lead Sponsor\, Emerson Health\, and our Supporting Sponsor\, Middlesex Savings Bank. The Concord Cultural Council and Acton-Boxborough Cultural Council\, local agencies that the Mass Cultural Council supports\, have also provided grants to support the event. Thanks to our sponsors\, we are able to bring diverse and high-quality concerts to our community\, and we hope you’ll join us for this exciting performance. \n\nAbout CCM Concord Conservatory of Music: It is a community of people who are passionate about music education. CCM enrolls over 500 students annually and offers programs for all ages and abilities. As a non-profit school\, CCM serves Concord\, MA\, and 17 surrounding communities. Its curriculum includes private instruction\, group classes\, and performance opportunities. Financial assistance is available.
URL:https://bbu.org/event/the-ruta-beggars-a-bluegrass-concert/
LOCATION:Concord Conservatory of Music\, 1317 Main Street\, Concord\, MA\, 01742\, United States
ATTACH;FMTTYPE=image/jpeg:https://bbu.org/wp-content/uploads/2024/03/photo-2.jpg
ORGANIZER;CN="Concord Conservatory of Music":MAILTO:info@concordconservatory.org
END:VEVENT
END:VCALENDAR