BEGIN:VCALENDAR
VERSION:2.0
PRODID:-//Boston Bluegrass Union - ECPv6.15.18//NONSGML v1.0//EN
CALSCALE:GREGORIAN
METHOD:PUBLISH
X-WR-CALNAME:Boston Bluegrass Union
X-ORIGINAL-URL:https://bbu.org
X-WR-CALDESC:Events for Boston Bluegrass Union
REFRESH-INTERVAL;VALUE=DURATION:PT1H
X-Robots-Tag:noindex
X-PUBLISHED-TTL:PT1H
BEGIN:VTIMEZONE
TZID:America/New_York
BEGIN:DAYLIGHT
TZOFFSETFROM:-0500
TZOFFSETTO:-0400
TZNAME:EDT
DTSTART:20230312T070000
END:DAYLIGHT
BEGIN:STANDARD
TZOFFSETFROM:-0400
TZOFFSETTO:-0500
TZNAME:EST
DTSTART:20231105T060000
END:STANDARD
BEGIN:DAYLIGHT
TZOFFSETFROM:-0500
TZOFFSETTO:-0400
TZNAME:EDT
DTSTART:20240310T070000
END:DAYLIGHT
BEGIN:STANDARD
TZOFFSETFROM:-0400
TZOFFSETTO:-0500
TZNAME:EST
DTSTART:20241103T060000
END:STANDARD
BEGIN:DAYLIGHT
TZOFFSETFROM:-0500
TZOFFSETTO:-0400
TZNAME:EDT
DTSTART:20250309T070000
END:DAYLIGHT
BEGIN:STANDARD
TZOFFSETFROM:-0400
TZOFFSETTO:-0500
TZNAME:EST
DTSTART:20251102T060000
END:STANDARD
END:VTIMEZONE
BEGIN:VEVENT
DTSTART;TZID=America/New_York:20240804T190000
DTEND;TZID=America/New_York:20240804T220000
DTSTAMP:20260420T020520
CREATED:20240703T160937Z
LAST-MODIFIED:20240711T181646Z
UID:10001226-1722798000-1722808800@bbu.org
SUMMARY:Old Time Jam at The Bebop
DESCRIPTION:Groovy old time jam every Sunday night\, 7-10 pm.
URL:https://bbu.org/event/old-time-jam-at-the-bebop/2024-08-04/
LOCATION:The Bebop\, 1116 Boylston St\, Boston\, MA\, 02116\, United States
CATEGORIES:Jams and Picking Parties
END:VEVENT
BEGIN:VEVENT
DTSTART;TZID=America/New_York:20240804T193000
DTEND;TZID=America/New_York:20240804T220000
DTSTAMP:20260420T020520
CREATED:20240720T182354Z
LAST-MODIFIED:20240720T182354Z
UID:10001360-1722799800-1722808800@bbu.org
SUMMARY:Hot Club of Cowtown at The Bull Run
DESCRIPTION:Award-winning Austin\, Texas-based Hot Club of Cowtown may be the world’s most globe-trotting\, effervescent string trio\, who’s joyful sound blends the traditional Western swing of the 1940s American southwest with European hot jazz influences of the same era. \n2024 marks three decades since guitarist Whit Smith and violinist Elana James met through a classified ad in the music section of New York City’s legendary alternative newspaper\, the Village Voice. A few years later Jake Irwin was added as Bass player and Hot Club of Cowtown was born. And thirty years on\, they continue to surprise and delight with their trademark “arsenal full of technique and joy\,” Jon Caramanica\, New York Times. \nThey have perfected a truly unique and infectious hybrid that playfully blurs musical boundaries\, conjuring the spirit of both Bob Wills and his Texas Playboys and jazz legend Django Reinhardt.
URL:https://bbu.org/event/hot-club-of-cowtown-at-the-bull-run/
LOCATION:The Bull Run Restaurant\, 215 Great Road\,  Shirley\, MA\, 01464\, United States
CATEGORIES:Concerts
GEO:42.5843661;-71.6464091
X-APPLE-STRUCTURED-LOCATION;VALUE=URI;X-ADDRESS=The Bull Run Restaurant 215 Great Road  Shirley MA 01464 United States;X-APPLE-RADIUS=500;X-TITLE=215 Great Road:geo:-71.6464091,42.5843661
END:VEVENT
BEGIN:VEVENT
DTSTART;TZID=America/New_York:20240806T183000
DTEND;TZID=America/New_York:20240806T213000
DTSTAMP:20260420T020520
CREATED:20180405T131005Z
LAST-MODIFIED:20180405T131005Z
UID:10000644-1722969000-1722979800@bbu.org
SUMMARY:Tuftonboro Country\, Bluegrass and Gospel Jam session
DESCRIPTION:The weekly Tuftonboro Country\, Bluegrass & Gospel Music Jam Session continues at the historic Old White Church of Center Tuftonboro every Tuesday from 6:30 until about 9:30 pm.  Fans of country\, bluegrass and gospel music are invited to enjoy an evening of music. There is no admission charge\, a donation is requested to help cover operational expenses.  The Church is located on Route 109A\, just across from the Tuftonboro General Store & Post Office.  Everyone is invited to attend the jam session while enjoying cookies and a cup of coffee.  For more info call Joe at 569-3861.
URL:https://bbu.org/event/tuftonboro-country-bluegrass-gospel-jam-session/2024-08-06/
LOCATION:The Old White Church\, Center Tuftonboro\, NH
CATEGORIES:Jams and Picking Parties
ATTACH;FMTTYPE=image/jpeg:https://bbu.org/wp-content/uploads/2018/04/Tuftonboo-jam-session.jpg
END:VEVENT
BEGIN:VEVENT
DTSTART;TZID=America/New_York:20240807T180000
DTEND;TZID=America/New_York:20240807T193000
DTSTAMP:20260420T020520
CREATED:20240702T230655Z
LAST-MODIFIED:20240703T000543Z
UID:10002588-1723053600-1723059000@bbu.org
SUMMARY:The Splinters at Brookline Music Series
DESCRIPTION:Come out to hear the Splinters at Fisher Hill Reservoir Park in Brookline\, MA. \n100 Fisher Ave Brookline\, MA 02445
URL:https://bbu.org/event/the-splinters-at-brookline-music-series/
LOCATION:Brookline Private Home\, Brookline\, MA\, United States
CATEGORIES:Concerts
GEO:42.3317642;-71.1211635
END:VEVENT
BEGIN:VEVENT
DTSTART;TZID=America/New_York:20240807T210000
DTEND;TZID=America/New_York:20240807T233000
DTSTAMP:20260420T020520
CREATED:20240703T160736Z
LAST-MODIFIED:20240711T174137Z
UID:10001097-1723064400-1723073400@bbu.org
SUMMARY:Bluegrass Jam at The Bebop
DESCRIPTION:Bring your instrument and play some tunes with this talented bunch of bluegrass musicians! Or just come to eat and drink at The Bebop Boston. \nEvery Wednesday 9-midnight.
URL:https://bbu.org/event/bluegrass-jam-at-the-bebop/2024-08-07/
LOCATION:The Bebop\, 1116 Boylston St\, Boston\, MA\, 02116\, United States
CATEGORIES:Jams and Picking Parties
END:VEVENT
BEGIN:VEVENT
DTSTART;TZID=America/New_York:20240808T193000
DTEND;TZID=America/New_York:20240808T210000
DTSTAMP:20260420T020520
CREATED:20220118T203305Z
LAST-MODIFIED:20220118T203305Z
UID:10001010-1723145400-1723150800@bbu.org
SUMMARY:Concord Conservatory Open Bluegrass Jam
DESCRIPTION:The Open Bluegrass Jam is back! \nThursdays\, 7:30 – 9:00 pm in the sanctuary \nOpen to bluegrass players at all levels – guitar\, mandolin\, banjo\, fiddle\, dobro\, bass\, singers – join Max Anderson as he calls the tunes\, posts the charts\, and leads the group (at a manageable speed) through the great repertoire of tunes and songs from the bluegrass tradition. \nOpen to musicians and those who just want to listen and observe. \nJam dates: \nDecember 2\, 9\, and 16\, January 6\, 13\, 20\, and 27\, February 3\, 10\, and 17\, March 3\, 10\, 17\, 24\, and 31\, April 7\, 14\, and 28\, May 5\, 12\, 19\, and 26 \n$10 suggested donation is greatly appreciated to support the program.
URL:https://bbu.org/event/concord-conservatory-open-bluegrass-jam/2024-08-08/
LOCATION:Concord Conservatory of Music\, 1317 Main Street\, Concord\, MA\, 01742\, United States
CATEGORIES:Jams and Picking Parties
ORGANIZER;CN="Concord Conservatory of Music":MAILTO:info@concordconservatory.org
END:VEVENT
END:VCALENDAR