BEGIN:VCALENDAR
VERSION:2.0
PRODID:-//Boston Bluegrass Union - ECPv6.15.18//NONSGML v1.0//EN
CALSCALE:GREGORIAN
METHOD:PUBLISH
X-WR-CALNAME:Boston Bluegrass Union
X-ORIGINAL-URL:https://bbu.org
X-WR-CALDESC:Events for Boston Bluegrass Union
REFRESH-INTERVAL;VALUE=DURATION:PT1H
X-Robots-Tag:noindex
X-PUBLISHED-TTL:PT1H
BEGIN:VTIMEZONE
TZID:America/New_York
BEGIN:DAYLIGHT
TZOFFSETFROM:-0500
TZOFFSETTO:-0400
TZNAME:EDT
DTSTART:20240310T070000
END:DAYLIGHT
BEGIN:STANDARD
TZOFFSETFROM:-0400
TZOFFSETTO:-0500
TZNAME:EST
DTSTART:20241103T060000
END:STANDARD
BEGIN:DAYLIGHT
TZOFFSETFROM:-0500
TZOFFSETTO:-0400
TZNAME:EDT
DTSTART:20250309T070000
END:DAYLIGHT
BEGIN:STANDARD
TZOFFSETFROM:-0400
TZOFFSETTO:-0500
TZNAME:EST
DTSTART:20251102T060000
END:STANDARD
BEGIN:DAYLIGHT
TZOFFSETFROM:-0500
TZOFFSETTO:-0400
TZNAME:EDT
DTSTART:20260308T070000
END:DAYLIGHT
BEGIN:STANDARD
TZOFFSETFROM:-0400
TZOFFSETTO:-0500
TZNAME:EST
DTSTART:20261101T060000
END:STANDARD
END:VTIMEZONE
BEGIN:VEVENT
DTSTART;TZID=America/New_York:20250126T190000
DTEND;TZID=America/New_York:20250126T220000
DTSTAMP:20260420T214114
CREATED:20240703T160937Z
LAST-MODIFIED:20240711T181646Z
UID:10001251-1737918000-1737928800@bbu.org
SUMMARY:Old Time Jam at The Bebop
DESCRIPTION:Groovy old time jam every Sunday night\, 7-10 pm.
URL:https://bbu.org/event/old-time-jam-at-the-bebop/2025-01-26/
LOCATION:The Bebop\, 1116 Boylston St\, Boston\, MA\, 02116\, United States
CATEGORIES:Jams and Picking Parties
END:VEVENT
BEGIN:VEVENT
DTSTART;TZID=America/New_York:20250128T183000
DTEND;TZID=America/New_York:20250128T213000
DTSTAMP:20260420T214114
CREATED:20180405T131005Z
LAST-MODIFIED:20180405T131005Z
UID:10000669-1738089000-1738099800@bbu.org
SUMMARY:Tuftonboro Country\, Bluegrass and Gospel Jam session
DESCRIPTION:The weekly Tuftonboro Country\, Bluegrass & Gospel Music Jam Session continues at the historic Old White Church of Center Tuftonboro every Tuesday from 6:30 until about 9:30 pm.  Fans of country\, bluegrass and gospel music are invited to enjoy an evening of music. There is no admission charge\, a donation is requested to help cover operational expenses.  The Church is located on Route 109A\, just across from the Tuftonboro General Store & Post Office.  Everyone is invited to attend the jam session while enjoying cookies and a cup of coffee.  For more info call Joe at 569-3861.
URL:https://bbu.org/event/tuftonboro-country-bluegrass-gospel-jam-session/2025-01-28/
LOCATION:The Old White Church\, Center Tuftonboro\, NH
CATEGORIES:Jams and Picking Parties
ATTACH;FMTTYPE=image/jpeg:https://bbu.org/wp-content/uploads/2018/04/Tuftonboo-jam-session.jpg
END:VEVENT
BEGIN:VEVENT
DTSTART;TZID=America/New_York:20250129T210000
DTEND;TZID=America/New_York:20250129T233000
DTSTAMP:20260420T214114
CREATED:20240703T160736Z
LAST-MODIFIED:20240711T174137Z
UID:10001122-1738184400-1738193400@bbu.org
SUMMARY:Bluegrass Jam at The Bebop
DESCRIPTION:Bring your instrument and play some tunes with this talented bunch of bluegrass musicians! Or just come to eat and drink at The Bebop Boston. \nEvery Wednesday 9-midnight.
URL:https://bbu.org/event/bluegrass-jam-at-the-bebop/2025-01-29/
LOCATION:The Bebop\, 1116 Boylston St\, Boston\, MA\, 02116\, United States
CATEGORIES:Jams and Picking Parties
END:VEVENT
BEGIN:VEVENT
DTSTART;TZID=America/New_York:20250131T200000
DTEND;TZID=America/New_York:20250131T220000
DTSTAMP:20260420T214114
CREATED:20241116T202601Z
LAST-MODIFIED:20241116T202601Z
UID:10001375-1738353600-1738360800@bbu.org
SUMMARY:Bruce Molsky & Tony Trischka
DESCRIPTION:Two legends of the folk/roots world—Grammy-nominated fiddler extraordinaire Bruce Molsky and banjo master Tony Trischka— return to Meadow Hall for an evening of old time string band wizardry. The two will trade songs from their broad and beloved catalogs as well as the deep well of American traditional folk tunes\, both well-known and recently unearthed. \nGroton Hill Music Center
URL:https://bbu.org/event/bruce-molsky-tony-trischka/
LOCATION:Groton Hill Music Center\, 122 Old Ayer Road\, Groton\, MA\, 01450\, United States
CATEGORIES:Concerts
ATTACH;FMTTYPE=image/webp:https://bbu.org/wp-content/uploads/2024/11/Tony-and-Bruce-420.webp
END:VEVENT
END:VCALENDAR